BEGIN:VCALENDAR
VERSION:2.0
PRODID:-//公益財団法人 大阪府国際交流財団 Osaka Foundation of International Exchange (OFIX) - ECPv6.15.20//NONSGML v1.0//EN
CALSCALE:GREGORIAN
METHOD:PUBLISH
X-WR-CALNAME:公益財団法人 大阪府国際交流財団 Osaka Foundation of International Exchange (OFIX)
X-ORIGINAL-URL:https://ofix.or.jp
X-WR-CALDESC:公益財団法人 大阪府国際交流財団 Osaka Foundation of International Exchange (OFIX) のイベント
REFRESH-INTERVAL;VALUE=DURATION:PT1H
X-Robots-Tag:noindex
X-PUBLISHED-TTL:PT1H
BEGIN:VTIMEZONE
TZID:Asia/Tokyo
BEGIN:STANDARD
TZOFFSETFROM:+0900
TZOFFSETTO:+0900
TZNAME:JST
DTSTART:20250101T000000
END:STANDARD
END:VTIMEZONE
BEGIN:VEVENT
DTSTART;TZID=Asia/Tokyo:20260228T103000
DTEND;TZID=Asia/Tokyo:20260228T163000
DTSTAMP:20260421T151542
CREATED:20251224T014144Z
LAST-MODIFIED:20251224T014306Z
UID:20360-1772274600-1772296200@ofix.or.jp
SUMMARY:外国人のための一日離婚相談ホットライン/One-day Divorce Consultation Hotline for Foreigners
DESCRIPTION:詳しくはこちら/For more details:\n大阪弁護士会（Osaka Bar Association）
URL:https://ofix.or.jp/calendar/%e5%a4%96%e5%9b%bd%e4%ba%ba%e3%81%ae%e3%81%9f%e3%82%81%e3%81%ae%e4%b8%80%e6%97%a5%e9%9b%a2%e5%a9%9a%e7%9b%b8%e8%ab%87%e3%83%9b%e3%83%83%e3%83%88%e3%83%a9%e3%82%a4%e3%83%b3-one-day-divorce-consultation/
END:VEVENT
END:VCALENDAR