BEGIN:VCALENDAR
VERSION:2.0
PRODID:-//公益財団法人 大阪府国際交流財団 Osaka Foundation of International Exchange (OFIX) - ECPv6.15.20//NONSGML v1.0//EN
CALSCALE:GREGORIAN
METHOD:PUBLISH
X-WR-CALNAME:公益財団法人 大阪府国際交流財団 Osaka Foundation of International Exchange (OFIX)
X-ORIGINAL-URL:https://ofix.or.jp
X-WR-CALDESC:公益財団法人 大阪府国際交流財団 Osaka Foundation of International Exchange (OFIX) のイベント
REFRESH-INTERVAL;VALUE=DURATION:PT1H
X-Robots-Tag:noindex
X-PUBLISHED-TTL:PT1H
BEGIN:VTIMEZONE
TZID:Asia/Tokyo
BEGIN:STANDARD
TZOFFSETFROM:+0900
TZOFFSETTO:+0900
TZNAME:JST
DTSTART:20250101T000000
END:STANDARD
END:VTIMEZONE
BEGIN:VEVENT
DTSTART;TZID=Asia/Tokyo:20260222T090000
DTEND;TZID=Asia/Tokyo:20260222T120000
DTSTAMP:20260421T165332
CREATED:20260127T024152Z
LAST-MODIFIED:20260127T025252Z
UID:20658-1771750800-1771761600@ofix.or.jp
SUMMARY:外国人のための無料相談会（茨木市）/Free Consultations (Ibaraki City)
DESCRIPTION:茨木市では外国人のための無料相談会を開催します。Ibaraki City will hold free consultations for foreign residents.
URL:https://ofix.or.jp/calendar/%e5%a4%96%e5%9b%bd%e4%ba%ba%e3%81%ae%e3%81%9f%e3%82%81%e3%81%ae%e7%84%a1%e6%96%99%e7%9b%b8%e8%ab%87%e4%bc%9a%ef%bc%88%e8%8c%a8%e6%9c%a8%e5%b8%82%ef%bc%89-free-consultations-ibaraki-city/
CATEGORIES:相談/Consultation
END:VEVENT
END:VCALENDAR