BEGIN:VCALENDAR
VERSION:2.0
PRODID:-//公益財団法人 大阪府国際交流財団 Osaka Foundation of International Exchange (OFIX) - ECPv6.15.20//NONSGML v1.0//EN
CALSCALE:GREGORIAN
METHOD:PUBLISH
X-ORIGINAL-URL:https://ofix.or.jp
X-WR-CALDESC:公益財団法人 大阪府国際交流財団 Osaka Foundation of International Exchange (OFIX) のイベント
REFRESH-INTERVAL;VALUE=DURATION:PT1H
X-Robots-Tag:noindex
X-PUBLISHED-TTL:PT1H
BEGIN:VTIMEZONE
TZID:Asia/Tokyo
BEGIN:STANDARD
TZOFFSETFROM:+0900
TZOFFSETTO:+0900
TZNAME:JST
DTSTART:20240101T000000
END:STANDARD
END:VTIMEZONE
BEGIN:VEVENT
DTSTART;TZID=Asia/Tokyo:20250724T130000
DTEND;TZID=Asia/Tokyo:20250724T160000
DTSTAMP:20260424T024450
CREATED:20250619T015809Z
LAST-MODIFIED:20250619T015809Z
UID:18814-1753362000-1753372800@ofix.or.jp
SUMMARY:（泉佐野市）外国人のための相談サービス / (Izumisano-city) Free Information & Advice for Foreign Residents
DESCRIPTION:詳しくはこちら/For more details: \n「外国人のための相談サービス」を2025年7月24日（木）に泉佐野市で行います。“Free Information & Advice for Foreign Residents” will be offered on Thursday\, July 24 in Izumisano. | 公益財団法人 大阪府国際交流財団 Osaka Foundation of International Exchange (OFIX)
URL:https://ofix.or.jp/calendar/%ef%bc%88%e6%b3%89%e4%bd%90%e9%87%8e%e5%b8%82%ef%bc%89%e5%a4%96%e5%9b%bd%e4%ba%ba%e3%81%ae%e3%81%9f%e3%82%81%e3%81%ae%e7%9b%b8%e8%ab%87%e3%82%b5%e3%83%bc%e3%83%93%e3%82%b9-izumisano-city-free-info-2/
CATEGORIES:相談/Consultation
ATTACH;FMTTYPE=image/jpeg:https://ofix.or.jp/wp-content/uploads/2025/06/スライド1.jpg
END:VEVENT
END:VCALENDAR