BEGIN:VCALENDAR
VERSION:2.0
PRODID:-//公益財団法人 大阪府国際交流財団 Osaka Foundation of International Exchange (OFIX) - ECPv6.15.20//NONSGML v1.0//EN
CALSCALE:GREGORIAN
METHOD:PUBLISH
X-ORIGINAL-URL:https://ofix.or.jp
X-WR-CALDESC:公益財団法人 大阪府国際交流財団 Osaka Foundation of International Exchange (OFIX) のイベント
REFRESH-INTERVAL;VALUE=DURATION:PT1H
X-Robots-Tag:noindex
X-PUBLISHED-TTL:PT1H
BEGIN:VTIMEZONE
TZID:Asia/Tokyo
BEGIN:STANDARD
TZOFFSETFROM:+0900
TZOFFSETTO:+0900
TZNAME:JST
DTSTART:20230101T000000
END:STANDARD
END:VTIMEZONE
BEGIN:VEVENT
DTSTART;TZID=Asia/Tokyo:20241124T120000
DTEND;TZID=Asia/Tokyo:20241124T150000
DTSTAMP:20260423T130059
CREATED:20241030T074622Z
LAST-MODIFIED:20241030T074622Z
UID:17065-1732449600-1732460400@ofix.or.jp
SUMMARY:（枚方市）外国人のための一日相談会/ (Hirakata) One-day Consultation Service for Foreign Residents
DESCRIPTION:詳しくはこちら/For more details: \n11月24日（日）枚方市・OFIX共催　外国人のための1日相談会を開催します。One-day Consultation Service for Foreign Residents in Hirakata on Sunday\, November 24\, 2024
URL:https://ofix.or.jp/calendar/%ef%bc%88%e6%9e%9a%e6%96%b9%e5%b8%82%ef%bc%89%e5%a4%96%e5%9b%bd%e4%ba%ba%e3%81%ae%e3%81%9f%e3%82%81%e3%81%ae%e4%b8%80%e6%97%a5%e7%9b%b8%e8%ab%87%e4%bc%9a-hirakata-one-day-consultation-service-for-f/
CATEGORIES:相談/Consultation
END:VEVENT
BEGIN:VEVENT
DTSTART;TZID=Asia/Tokyo:20241124T130000
DTEND;TZID=Asia/Tokyo:20241124T163000
DTSTAMP:20260423T130059
CREATED:20240912T080953Z
LAST-MODIFIED:20240912T080953Z
UID:16721-1732453200-1732465800@ofix.or.jp
SUMMARY:（京都）在留資格の相談 / (Kyoto) Visa Consultation
DESCRIPTION:詳しくはこちら/For more details:\n京都府国際センター (Kyoto Prefectural International Center)
URL:https://ofix.or.jp/calendar/%ef%bc%88%e4%ba%ac%e9%83%bd%ef%bc%89%e5%9c%a8%e7%95%99%e8%b3%87%e6%a0%bc%e3%81%ae%e7%9b%b8%e8%ab%87-kyoto-visa-consultation-5/
END:VEVENT
BEGIN:VEVENT
DTSTART;TZID=Asia/Tokyo:20241124T133000
DTEND;TZID=Asia/Tokyo:20241124T163000
DTSTAMP:20260423T130059
CREATED:20240821T073729Z
LAST-MODIFIED:20240821T080219Z
UID:16338-1732455000-1732465800@ofix.or.jp
SUMMARY:入管相談 / Immigration Consultation
DESCRIPTION:無料・秘密厳守/FREE OF CHARGE AND STRICTLY CONFIDENTIAL \nあなたの国のことばで　話すことができます。\nお金は　かかりません。（0円です）。\nひみつは　まもります。\n通訳がいます。（English\, 中文\, 한국·조선어\, Português\, Español\, ไทย\, Filipino\, Tiếng Việt\, Indonesia\, नेपाली）\n予約を　してください。予約受付は当日15:30まで。 \nInterpretation services are available in English\, Chinese\, Korean\, Portuguese\, Spanish\, Thai\, Filipino\, Vietnamese\, Indonesian and Nepali.\nA reservation is required. The reservation deadline is by 15:30 of the consultation day. \n【相談の方法・Method】\nOFIXに行く / 電話 / オンライン（ZOOM）\nIn person\, by phone or online \n【相談の内容・Topics】\nビザ（在留資格）など\nImmigration matters\, including residence status
URL:https://ofix.or.jp/calendar/immigration-1124/
LOCATION:OFIX\, マイドームおおさか５階
CATEGORIES:相談/Consultation
ORGANIZER;CN="%E5%A4%A7%E9%98%AA%E5%BA%9C%E5%A4%96%E5%9B%BD%E4%BA%BA%E6%83%85%E5%A0%B1%E3%82%B3%E3%83%BC%E3%83%8A%E3%83%BC/Osaka Information Service for Foreign Residents":MAILTO:jouhou-c@ofix.or.jp
END:VEVENT
END:VCALENDAR