BEGIN:VCALENDAR
VERSION:2.0
PRODID:-//公益財団法人 大阪府国際交流財団 Osaka Foundation of International Exchange (OFIX) - ECPv6.15.20//NONSGML v1.0//EN
CALSCALE:GREGORIAN
METHOD:PUBLISH
X-ORIGINAL-URL:https://ofix.or.jp
X-WR-CALDESC:公益財団法人 大阪府国際交流財団 Osaka Foundation of International Exchange (OFIX) のイベント
REFRESH-INTERVAL;VALUE=DURATION:PT1H
X-Robots-Tag:noindex
X-PUBLISHED-TTL:PT1H
BEGIN:VTIMEZONE
TZID:Asia/Tokyo
BEGIN:STANDARD
TZOFFSETFROM:+0900
TZOFFSETTO:+0900
TZNAME:JST
DTSTART:20230101T000000
END:STANDARD
END:VTIMEZONE
BEGIN:VEVENT
DTSTART;TZID=Asia/Tokyo:20241120T130000
DTEND;TZID=Asia/Tokyo:20241120T160000
DTSTAMP:20260423T130059
CREATED:20240912T075222Z
LAST-MODIFIED:20240912T075222Z
UID:16714-1732107600-1732118400@ofix.or.jp
SUMMARY:（アイハウス） 弁護士相談 （大阪市民のみ）/ (I-HOUSE) Legal Consultation (for Osaka City residents)
DESCRIPTION:詳しくはこちら/For more details:\n大阪国際交流センター (Osaka International House Foundation)
URL:https://ofix.or.jp/calendar/%ef%bc%88%e3%82%a2%e3%82%a4%e3%83%8f%e3%82%a6%e3%82%b9%ef%bc%89-%e5%bc%81%e8%ad%b7%e5%a3%ab%e7%9b%b8%e8%ab%87-%ef%bc%88%e5%a4%a7%e9%98%aa%e5%b8%82%e6%b0%91%e3%81%ae%e3%81%bf%ef%bc%89-i-house-legal/
END:VEVENT
BEGIN:VEVENT
DTSTART;TZID=Asia/Tokyo:20241120T140000
DTEND;TZID=Asia/Tokyo:20241120T170000
DTSTAMP:20260423T130059
CREATED:20241027T062530Z
LAST-MODIFIED:20241027T062530Z
UID:16988-1732111200-1732122000@ofix.or.jp
SUMMARY:（堺市）行政書士相談/（Sakai City）Consultation with Bureaucratic Specialist
DESCRIPTION:詳しくはこちら/For more details:\n多文化交流プラザ・さかい（The Plaza of Multicultural Exchange Sakai） \n 
URL:https://ofix.or.jp/calendar/%ef%bc%88%e5%a0%ba%e5%b8%82%ef%bc%89%e8%a1%8c%e6%94%bf%e6%9b%b8%e5%a3%ab%e7%9b%b8%e8%ab%87-%ef%bc%88sakai-city%ef%bc%89consultation-with-bureaucratic-specialist/
END:VEVENT
END:VCALENDAR