BEGIN:VCALENDAR
VERSION:2.0
PRODID:-//公益財団法人 大阪府国際交流財団 Osaka Foundation of International Exchange (OFIX) - ECPv6.15.20//NONSGML v1.0//EN
CALSCALE:GREGORIAN
METHOD:PUBLISH
X-WR-CALNAME:公益財団法人 大阪府国際交流財団 Osaka Foundation of International Exchange (OFIX)
X-ORIGINAL-URL:https://ofix.or.jp
X-WR-CALDESC:公益財団法人 大阪府国際交流財団 Osaka Foundation of International Exchange (OFIX) のイベント
REFRESH-INTERVAL;VALUE=DURATION:PT1H
X-Robots-Tag:noindex
X-PUBLISHED-TTL:PT1H
BEGIN:VTIMEZONE
TZID:Asia/Tokyo
BEGIN:STANDARD
TZOFFSETFROM:+0900
TZOFFSETTO:+0900
TZNAME:JST
DTSTART:20230101T000000
END:STANDARD
END:VTIMEZONE
BEGIN:VEVENT
DTSTART;TZID=Asia/Tokyo:20240921T130000
DTEND;TZID=Asia/Tokyo:20240921T170000
DTSTAMP:20260425T065306
CREATED:20240912T070801Z
LAST-MODIFIED:20240912T070801Z
UID:16698-1726923600-1726938000@ofix.or.jp
SUMMARY:（京都市）心の悩み相談 / (Kyoto City) Counseling Day
DESCRIPTION:詳しくはこちら/For more details:\n京都市国際交流協会 (Kyoto City International Foundation)
URL:https://ofix.or.jp/calendar/%ef%bc%88%e4%ba%ac%e9%83%bd%e5%b8%82%ef%bc%89%e5%bf%83%e3%81%ae%e6%82%a9%e3%81%bf%e7%9b%b8%e8%ab%87-kyoto-city-counseling-day/
END:VEVENT
END:VCALENDAR