BEGIN:VCALENDAR
VERSION:2.0
PRODID:-//公益財団法人 大阪府国際交流財団 Osaka Foundation of International Exchange (OFIX) - ECPv6.15.20//NONSGML v1.0//EN
CALSCALE:GREGORIAN
METHOD:PUBLISH
X-WR-CALNAME:公益財団法人 大阪府国際交流財団 Osaka Foundation of International Exchange (OFIX)
X-ORIGINAL-URL:https://ofix.or.jp
X-WR-CALDESC:公益財団法人 大阪府国際交流財団 Osaka Foundation of International Exchange (OFIX) のイベント
REFRESH-INTERVAL;VALUE=DURATION:PT1H
X-Robots-Tag:noindex
X-PUBLISHED-TTL:PT1H
BEGIN:VTIMEZONE
TZID:Asia/Tokyo
BEGIN:STANDARD
TZOFFSETFROM:+0900
TZOFFSETTO:+0900
TZNAME:JST
DTSTART:20230101T000000
END:STANDARD
END:VTIMEZONE
BEGIN:VEVENT
DTSTART;TZID=Asia/Tokyo:20240706T130000
DTEND;TZID=Asia/Tokyo:20240706T170000
DTSTAMP:20260422T214239
CREATED:20240628T063942Z
LAST-MODIFIED:20240710T082023Z
UID:15469-1720270800-1720285200@ofix.or.jp
SUMMARY:(アイハウス) 外国人のための一日インフォメーションサービス / （I-HOUSE) Free Information & Advice for Foreign Residents
DESCRIPTION:
URL:https://ofix.or.jp/calendar/%e5%a4%96%e5%9b%bd%e4%ba%ba%e3%81%ae%e3%81%9f%e3%82%81%e3%81%ae%e4%b8%80%e6%97%a5%e3%82%a4%e3%83%b3%e3%83%95%e3%82%a9%e3%83%a1%e3%83%bc%e3%82%b7%e3%83%a7%e3%83%b3%e3%82%b5%e3%83%bc%e3%83%93%e3%82%b9/
END:VEVENT
END:VCALENDAR