BEGIN:VCALENDAR
VERSION:2.0
PRODID:-//公益財団法人 大阪府国際交流財団 Osaka Foundation of International Exchange (OFIX) - ECPv6.15.20//NONSGML v1.0//EN
CALSCALE:GREGORIAN
METHOD:PUBLISH
X-ORIGINAL-URL:https://ofix.or.jp
X-WR-CALDESC:公益財団法人 大阪府国際交流財団 Osaka Foundation of International Exchange (OFIX) のイベント
REFRESH-INTERVAL;VALUE=DURATION:PT1H
X-Robots-Tag:noindex
X-PUBLISHED-TTL:PT1H
BEGIN:VTIMEZONE
TZID:Asia/Tokyo
BEGIN:STANDARD
TZOFFSETFROM:+0900
TZOFFSETTO:+0900
TZNAME:JST
DTSTART:20240101T000000
END:STANDARD
END:VTIMEZONE
BEGIN:VEVENT
DTSTART;TZID=Asia/Tokyo:20250323T133000
DTEND;TZID=Asia/Tokyo:20250323T163000
DTSTAMP:20260423T200836
CREATED:20240919T023531Z
LAST-MODIFIED:20240919T023638Z
UID:16764-1742736600-1742747400@ofix.or.jp
SUMMARY:臨床心理士（心の）相談 / Certified Clinical Psychologist Consultation
DESCRIPTION:無料・秘密厳守/FREE OF CHARGE AND STRICTLY CONFIDENTIAL \nあなたの国のことばで　話すことができます。\nお金は　かかりません。（0円です）。\nひみつは　まもります。\n通訳がいます。（English\, 中文\, 한국·조선어\, Português\, Español\, ไทย\, Filipino\, Tiếng Việt\, Indonesia\, नेपाली）\n予約を　してください。予約受付は21日（金）16:30まで。\nInterpretation services are available in English\, Chinese\, Korean\, Portuguese\, Spanish\, Thai\, Filipino\, Vietnamese\, Indonesian and Nepali.\nA reservation is required. The reservation deadline is by 16:30 on Friday 21st. \n【相談の方法・Method】\nOFIXに行く\nIn person \n【相談の内容・Topics】\n悩みがあるのに話す人がいない、心がつらい など\nWishing to have someone hear about your worries\, having a mentally tough time\, etc.
URL:https://ofix.or.jp/calendar/%e8%87%a8%e5%ba%8a%e5%bf%83%e7%90%86%e5%a3%ab%ef%bc%88%e5%bf%83%e3%81%ae%ef%bc%89%e7%9b%b8%e8%ab%87-certified-clinical-psychologist-consultation-4/
LOCATION:OFIX\, マイドームおおさか５階
CATEGORIES:相談/Consultation
ORGANIZER;CN="%E5%A4%A7%E9%98%AA%E5%BA%9C%E5%A4%96%E5%9B%BD%E4%BA%BA%E6%83%85%E5%A0%B1%E3%82%B3%E3%83%BC%E3%83%8A%E3%83%BC/Osaka Information Service for Foreign Residents":MAILTO:jouhou-c@ofix.or.jp
END:VEVENT
BEGIN:VEVENT
DTSTART;TZID=Asia/Tokyo:20250324T090000
DTEND;TZID=Asia/Tokyo:20250324T210000
DTSTAMP:20260423T200836
CREATED:20240919T024126Z
LAST-MODIFIED:20240919T024126Z
UID:16769-1742806800-1742850000@ofix.or.jp
SUMMARY:夜間集中相談週間 / Consultation Week with Extended Night Hours
DESCRIPTION:
URL:https://ofix.or.jp/calendar/%e5%a4%9c%e9%96%93%e9%9b%86%e4%b8%ad%e7%9b%b8%e8%ab%87%e9%80%b1%e9%96%93-consultation-week-with-extended-night-hours-7/
LOCATION:OFIX\, マイドームおおさか５階
ORGANIZER;CN="%E5%A4%A7%E9%98%AA%E5%BA%9C%E5%A4%96%E5%9B%BD%E4%BA%BA%E6%83%85%E5%A0%B1%E3%82%B3%E3%83%BC%E3%83%8A%E3%83%BC/Osaka Information Service for Foreign Residents":MAILTO:jouhou-c@ofix.or.jp
END:VEVENT
BEGIN:VEVENT
DTSTART;TZID=Asia/Tokyo:20250325T090000
DTEND;TZID=Asia/Tokyo:20250325T210000
DTSTAMP:20260423T200836
CREATED:20240919T024235Z
LAST-MODIFIED:20240919T024235Z
UID:16771-1742893200-1742936400@ofix.or.jp
SUMMARY:夜間集中相談週間 / Consultation Week with Extended Night Hours
DESCRIPTION:
URL:https://ofix.or.jp/calendar/%e5%a4%9c%e9%96%93%e9%9b%86%e4%b8%ad%e7%9b%b8%e8%ab%87%e9%80%b1%e9%96%93-consultation-week-with-extended-night-hours-8/
LOCATION:OFIX\, マイドームおおさか５階
ORGANIZER;CN="%E5%A4%A7%E9%98%AA%E5%BA%9C%E5%A4%96%E5%9B%BD%E4%BA%BA%E6%83%85%E5%A0%B1%E3%82%B3%E3%83%BC%E3%83%8A%E3%83%BC/Osaka Information Service for Foreign Residents":MAILTO:jouhou-c@ofix.or.jp
END:VEVENT
BEGIN:VEVENT
DTSTART;TZID=Asia/Tokyo:20250326T090000
DTEND;TZID=Asia/Tokyo:20250326T210000
DTSTAMP:20260423T200836
CREATED:20240919T024326Z
LAST-MODIFIED:20240919T024326Z
UID:16773-1742979600-1743022800@ofix.or.jp
SUMMARY:夜間集中相談週間 / Consultation Week with Extended Night Hours
DESCRIPTION:
URL:https://ofix.or.jp/calendar/%e5%a4%9c%e9%96%93%e9%9b%86%e4%b8%ad%e7%9b%b8%e8%ab%87%e9%80%b1%e9%96%93-consultation-week-with-extended-night-hours-9/
LOCATION:OFIX\, マイドームおおさか５階
ORGANIZER;CN="%E5%A4%A7%E9%98%AA%E5%BA%9C%E5%A4%96%E5%9B%BD%E4%BA%BA%E6%83%85%E5%A0%B1%E3%82%B3%E3%83%BC%E3%83%8A%E3%83%BC/Osaka Information Service for Foreign Residents":MAILTO:jouhou-c@ofix.or.jp
END:VEVENT
BEGIN:VEVENT
DTSTART;TZID=Asia/Tokyo:20250326T133000
DTEND;TZID=Asia/Tokyo:20250326T173000
DTSTAMP:20260423T200836
CREATED:20250210T024145Z
LAST-MODIFIED:20250210T024351Z
UID:17587-1742995800-1743010200@ofix.or.jp
SUMMARY:入管相談 / Immigration Consultation
DESCRIPTION:無料・秘密厳守/FREE OF CHARGE AND STRICTLY CONFIDENTIAL \nあなたの国のことばで　話すことができます。\nお金は　かかりません。（0円です）。\nひみつは　まもります。\n通訳がいます。（English\, 中文\, 한국·조선어\, Português\, Español\, ไทย\, Filipino\, Tiếng Việt\, Indonesia\, नेपाली）\n予約を　してください。予約受付は当日16:30まで。 \nInterpretation services are available in English\, Chinese\, Korean\, Portuguese\, Spanish\, Thai\, Filipino\, Vietnamese\, Indonesian and Nepali.\nA reservation is required. The reservation deadline is by 16:30 of the consultation day. \n【相談の方法・Method】\nOFIXに行く / 電話 / オンライン（ZOOM）\nIn person\, by phone or online \n【相談の内容・Topics】\nビザ（在留資格）など\nImmigration matters\, including residence status
URL:https://ofix.or.jp/calendar/%e5%85%a5%e7%ae%a1%e7%9b%b8%e8%ab%87-immigration-consultation-9/
LOCATION:OFIX\, マイドームおおさか５階
CATEGORIES:相談/Consultation
ORGANIZER;CN="%E5%A4%A7%E9%98%AA%E5%BA%9C%E5%A4%96%E5%9B%BD%E4%BA%BA%E6%83%85%E5%A0%B1%E3%82%B3%E3%83%BC%E3%83%8A%E3%83%BC/Osaka Information Service for Foreign Residents":MAILTO:jouhou-c@ofix.or.jp
END:VEVENT
BEGIN:VEVENT
DTSTART;TZID=Asia/Tokyo:20250326T170000
DTEND;TZID=Asia/Tokyo:20250326T200000
DTSTAMP:20260423T200836
CREATED:20250220T043814Z
LAST-MODIFIED:20250220T043814Z
UID:17681-1743008400-1743019200@ofix.or.jp
SUMMARY:（アイハウス）行政書士相談 / (I-HOUSE) Visa Consultation (Visa Lawyer)
DESCRIPTION:詳しくはこちら/For more details:\n(アイハウス) 行政書士相談 / (I-HOUSE) Visa Consultation (Visa Lawyer)
URL:https://ofix.or.jp/calendar/%ef%bc%88%e3%82%a2%e3%82%a4%e3%83%8f%e3%82%a6%e3%82%b9%ef%bc%89%e8%a1%8c%e6%94%bf%e6%9b%b8%e5%a3%ab%e7%9b%b8%e8%ab%87-i-house-visa-consultation-visa-lawyer-9/
END:VEVENT
BEGIN:VEVENT
DTSTART;TZID=Asia/Tokyo:20250327T090000
DTEND;TZID=Asia/Tokyo:20250327T210000
DTSTAMP:20260423T200836
CREATED:20240919T024423Z
LAST-MODIFIED:20240919T024423Z
UID:16775-1743066000-1743109200@ofix.or.jp
SUMMARY:夜間集中相談週間 / Consultation Week with Extended Night Hours
DESCRIPTION:
URL:https://ofix.or.jp/calendar/%e5%a4%9c%e9%96%93%e9%9b%86%e4%b8%ad%e7%9b%b8%e8%ab%87%e9%80%b1%e9%96%93-consultation-week-with-extended-night-hours-10/
LOCATION:OFIX\, マイドームおおさか５階
ORGANIZER;CN="%E5%A4%A7%E9%98%AA%E5%BA%9C%E5%A4%96%E5%9B%BD%E4%BA%BA%E6%83%85%E5%A0%B1%E3%82%B3%E3%83%BC%E3%83%8A%E3%83%BC/Osaka Information Service for Foreign Residents":MAILTO:jouhou-c@ofix.or.jp
END:VEVENT
BEGIN:VEVENT
DTSTART;TZID=Asia/Tokyo:20250327T180000
DTEND;TZID=Asia/Tokyo:20250327T200000
DTSTAMP:20260423T200836
CREATED:20241015T063255Z
LAST-MODIFIED:20241015T063255Z
UID:16936-1743098400-1743105600@ofix.or.jp
SUMMARY:労働相談 / Labor Consultation
DESCRIPTION:無料・秘密厳守 / FREE OF CHARGE AND STRICTLY CONFIDENTIAL \nあなたの国のことばで　話すことができます。\nお金は　かかりません。（0円です）。\nひみつは　まもります。\n通訳が　います。（English\, 中文\, 한국·조선어\, Português\, Español\, ไทย\, Filipino\, Tiếng Việt\, Indonesia\, नेपाली）\n予約を　してください。予約受付は　当日19:00まで。 \nInterpretation services are available in English\, Chinese\, Korean\, Portuguese\, Spanish\, Thai\, Filipino\, Vietnamese\, Indonesian and Nepali.\nA reservation is required. The reservation deadline is by 19:00 of the consultation day. \n【相談の方法・Method】\nOFIXに行く / 電話 / オンライン（ZOOM）\nIn person\, by phone or online \n【相談の内容・Topics】\n仕事で困っていること、仕事の規則やお金のこと、職場の仲間や上司のトラブル 、同じところで働いている人　との問題　など\nLabor issues concerning wages\, dismissal\, resignation\, working hours\, labor contracts\, sexual harassment\, power harassment\, etc.
URL:https://ofix.or.jp/calendar/%e5%8a%b4%e5%83%8d%e7%9b%b8%e8%ab%87-labor-consultation-19/
LOCATION:OFIX\, マイドームおおさか５階
CATEGORIES:相談/Consultation
ORGANIZER;CN="%E5%A4%A7%E9%98%AA%E5%BA%9C%E5%A4%96%E5%9B%BD%E4%BA%BA%E6%83%85%E5%A0%B1%E3%82%B3%E3%83%BC%E3%83%8A%E3%83%BC/Osaka Information Service for Foreign Residents":MAILTO:jouhou-c@ofix.or.jp
END:VEVENT
BEGIN:VEVENT
DTSTART;TZID=Asia/Tokyo:20250328T150000
DTEND;TZID=Asia/Tokyo:20250330T200000
DTSTAMP:20260423T200836
CREATED:20250305T054955Z
LAST-MODIFIED:20250305T055225Z
UID:17902-1743174000-1743364800@ofix.or.jp
SUMMARY:（RINK）外国人労働者のためのなんでも電話相談 / (RINK) Telephone Consulting for Foreign Workers
DESCRIPTION:詳しくはこちら / For more details：\n（RINK）外国人労働者のための何でも電話相談 \n 
URL:https://ofix.or.jp/calendar/%ef%bc%88rink%ef%bc%89%e5%a4%96%e5%9b%bd%e4%ba%ba%e5%8a%b4%e5%83%8d%e8%80%85%e3%81%ae%e3%81%9f%e3%82%81%e3%81%ae%e3%81%aa%e3%82%93%e3%81%a7%e3%82%82%e9%9b%bb%e8%a9%b1%e7%9b%b8%e8%ab%87-rink-teleph/
END:VEVENT
BEGIN:VEVENT
DTSTART;TZID=Asia/Tokyo:20250401T130000
DTEND;TZID=Asia/Tokyo:20250401T160000
DTSTAMP:20260423T200836
CREATED:20250410T052627Z
LAST-MODIFIED:20250410T052627Z
UID:18461-1743512400-1743523200@ofix.or.jp
SUMMARY:（吹田市）社労士相談 / (SIFA) Labor Consultations
DESCRIPTION:詳しくはこちら/For more details:\n吹田市多文化共生ワンストップ相談センター（Suita Multilingual One stop Consultation Center）
URL:https://ofix.or.jp/calendar/%ef%bc%88%e5%90%b9%e7%94%b0%e5%b8%82%ef%bc%89%e7%a4%be%e5%8a%b4%e5%a3%ab%e7%9b%b8%e8%ab%87-sifa-labor-consultations-2/
END:VEVENT
BEGIN:VEVENT
DTSTART;TZID=Asia/Tokyo:20250402T130000
DTEND;TZID=Asia/Tokyo:20250402T160000
DTSTAMP:20260423T200836
CREATED:20250318T004252Z
LAST-MODIFIED:20250318T020348Z
UID:17988-1743598800-1743609600@ofix.or.jp
SUMMARY:(アイハウス) 弁護士相談（大阪市民のみ） / (I-HOUSE) Legal Consultation (for Osaka City residents)
DESCRIPTION:詳しくはこちら/For more details:\n(アイハウス) 弁護士相談（大阪市民のみ） / (I-HOUSE) Legal Consultation (for Osaka City residents)
URL:https://ofix.or.jp/calendar/%e3%82%a2%e3%82%a4%e3%83%8f%e3%82%a6%e3%82%b9-%e5%bc%81%e8%ad%b7%e5%a3%ab%e7%9b%b8%e8%ab%87-i-house-legal-consultation-7/
END:VEVENT
BEGIN:VEVENT
DTSTART;TZID=Asia/Tokyo:20250404T133000
DTEND;TZID=Asia/Tokyo:20250404T173000
DTSTAMP:20260423T200836
CREATED:20250319T053629Z
LAST-MODIFIED:20250404T014047Z
UID:18104-1743773400-1743787800@ofix.or.jp
SUMMARY:労働相談 / Labor Consultations
DESCRIPTION:無料・秘密厳守/FREE OF CHARGE AND STRICTLY CONFIDENTIAL \n  \nあなたの国のことばで　話すことができます。\nお金は　かかりません。（0円です）。\nひみつは　まもります。\n通訳がいます。\n（English\, 中文\, 한국·조선어\, Português\, Español\, ไทย\, Filipino\, Tiếng Việt\, Indonesia\, नेपाली）\n予約を　してください。 \n  \nInterpretation services are available in English\, Chinese\, Korean\, Portuguese\, Spanish\,\nThai\, Filipino\, Vietnamese\, Indonesian and Nepali.\nA reservation is required. \n  \n【相談の方法・Method】\nOFIXに行く / 電話 / オンライン（ZOOM）\nIn person\, by phone or online \n  \n【相談の内容・Topics】\n仕事で困っていること、仕事の規則やお金のこと、職場の仲間や上司のトラブル 、\n同じところで働いている人　との問題　など\nLabor issues concerning wages\, dismissal\, resignation\, working hours\, labor contracts\,\nsexual harassment\, power harassment\, etc.
URL:https://ofix.or.jp/calendar/%e5%8a%b4%e5%83%8d%e7%9b%b8%e8%ab%87-labor-consultation-21/
LOCATION:OFIX\, マイドームおおさか５階
CATEGORIES:相談/Consultation
ORGANIZER;CN="%E5%A4%A7%E9%98%AA%E5%BA%9C%E5%A4%96%E5%9B%BD%E4%BA%BA%E6%83%85%E5%A0%B1%E3%82%B3%E3%83%BC%E3%83%8A%E3%83%BC/Osaka Information Service for Foreign Residents":MAILTO:jouhou-c@ofix.or.jp
END:VEVENT
BEGIN:VEVENT
DTSTART;TZID=Asia/Tokyo:20250409T130000
DTEND;TZID=Asia/Tokyo:20250409T160000
DTSTAMP:20260423T200836
CREATED:20250318T004502Z
LAST-MODIFIED:20250318T020429Z
UID:17990-1744203600-1744214400@ofix.or.jp
SUMMARY:（アイハウス）行政書士相談（大阪市民のみ） / (I-HOUSE) Visa Consultation (by visa lawyers) (for Osaka City residents)
DESCRIPTION:詳しくはこちら/For more details:\n(アイハウス) 行政書士相談（大阪市民のみ） / (I-HOUSE) Visa Consultation (Visa Lawyer) (for Osaka City residents)
URL:https://ofix.or.jp/calendar/%ef%bc%88%e3%82%a2%e3%82%a4%e3%83%8f%e3%82%a6%e3%82%b9%ef%bc%89%e8%a1%8c%e6%94%bf%e6%9b%b8%e5%a3%ab%e7%9b%b8%e8%ab%87-i-house-visa-consultation-visa-lawyer-11/
END:VEVENT
BEGIN:VEVENT
DTSTART;TZID=Asia/Tokyo:20250411T133000
DTEND;TZID=Asia/Tokyo:20250411T173000
DTSTAMP:20260423T200836
CREATED:20250319T054956Z
LAST-MODIFIED:20250404T003544Z
UID:18115-1744378200-1744392600@ofix.or.jp
SUMMARY:入管相談 / Immigration Consultations
DESCRIPTION:無料・秘密厳守/FREE OF CHARGE AND STRICTLY CONFIDENTIAL \n  \nあなたの国のことばで　話すことができます。\nお金は　かかりません。（0円です）。\nひみつは　まもります。\n通訳がいます。\n（English\, 中文\, 한국·조선어\, Português\, Español\, ไทย\, Filipino\, Tiếng Việt\, Indonesia\, नेपाली）\n予約を　してください。 \n  \nInterpretation services are available in English\, Chinese\, Korean\, Portuguese\, Spanish\,\nThai\, Filipino\, Vietnamese\, Indonesian and Nepali.\nA reservation is required. \n  \n【相談の方法・Method】\nOFIXに行く / 電話 / オンライン（ZOOM）\nIn person\, by phone or online \n  \n【相談の内容・Topics】\nビザ（在留資格）など\nImmigration matters\, including residence status
URL:https://ofix.or.jp/calendar/%e5%85%a5%e7%ae%a1%e7%9b%b8%e8%ab%87-immigration-consultations/
LOCATION:OFIX\, マイドームおおさか５階
CATEGORIES:相談/Consultation
ORGANIZER;CN="%E5%A4%A7%E9%98%AA%E5%BA%9C%E5%A4%96%E5%9B%BD%E4%BA%BA%E6%83%85%E5%A0%B1%E3%82%B3%E3%83%BC%E3%83%8A%E3%83%BC/Osaka Information Service for Foreign Residents":MAILTO:jouhou-c@ofix.or.jp
END:VEVENT
BEGIN:VEVENT
DTSTART;TZID=Asia/Tokyo:20250415T130000
DTEND;TZID=Asia/Tokyo:20250415T160000
DTSTAMP:20260423T200836
CREATED:20250318T011905Z
LAST-MODIFIED:20250318T020535Z
UID:18006-1744722000-1744732800@ofix.or.jp
SUMMARY:（アイハウス）入管相談 / (I-HOUSE) Immigration Consultation
DESCRIPTION:詳しくはこちら/For more details:\n(アイハウス) 入管相談 /  (I-HOUSE) Immigration Consultation
URL:https://ofix.or.jp/calendar/%ef%bc%88%e3%82%a2%e3%82%a4%e3%83%8f%e3%82%a6%e3%82%b9%ef%bc%89%e5%85%a5%e7%ae%a1%e7%9b%b8%e8%ab%87-i-house-immigration-consultation-7/
END:VEVENT
BEGIN:VEVENT
DTSTART;TZID=Asia/Tokyo:20250416T140000
DTEND;TZID=Asia/Tokyo:20250416T170000
DTSTAMP:20260423T200836
CREATED:20250402T062128Z
LAST-MODIFIED:20250402T062128Z
UID:18230-1744812000-1744822800@ofix.or.jp
SUMMARY:（堺市）行政書士相談 / (Sakai city) Visa Consultation (by visa lawyers)
DESCRIPTION:詳しくはこちら/For more details:\n（堺市）行政書士相談/(Sakai city) Visa Consultation (by visa lawyers)
URL:https://ofix.or.jp/calendar/%ef%bc%88%e5%a0%ba%e5%b8%82%ef%bc%89%e8%a1%8c%e6%94%bf%e6%9b%b8%e5%a3%ab%e7%9b%b8%e8%ab%87-sakai-city-visa-consultation-by-visa-lawyers/
END:VEVENT
BEGIN:VEVENT
DTSTART;TZID=Asia/Tokyo:20250416T170000
DTEND;TZID=Asia/Tokyo:20250416T200000
DTSTAMP:20260423T200836
CREATED:20250318T012014Z
LAST-MODIFIED:20250318T020612Z
UID:18008-1744822800-1744833600@ofix.or.jp
SUMMARY:(アイハウス) 弁護士相談（大阪市民のみ） / (I-HOUSE) Legal Consultation (for Osaka City residents)
DESCRIPTION:詳しくはこちら/For more details:\n(アイハウス) 弁護士相談（大阪市民のみ） / (I-HOUSE) Legal Consultation (for Osaka City residents)
URL:https://ofix.or.jp/calendar/%e3%82%a2%e3%82%a4%e3%83%8f%e3%82%a6%e3%82%b9-%e6%b3%95%e5%be%8b%e7%9b%b8%e8%ab%87%ef%bc%88%e5%a4%a7%e9%98%aa%e5%b8%82%e6%b0%91%e3%81%ae%e3%81%bf%ef%bc%89-i-house-legal-consultation-for-osaka-c/
END:VEVENT
BEGIN:VEVENT
DTSTART;TZID=Asia/Tokyo:20250417T180000
DTEND;TZID=Asia/Tokyo:20250417T200000
DTSTAMP:20260423T200836
CREATED:20250319T053837Z
LAST-MODIFIED:20250319T054440Z
UID:18106-1744912800-1744920000@ofix.or.jp
SUMMARY:労働相談 / Labor Consultations
DESCRIPTION:無料・秘密厳守/FREE OF CHARGE AND STRICTLY CONFIDENTIAL \n  \nあなたの国のことばで　話すことができます。\nお金は　かかりません。（0円です）。\nひみつは　まもります。\n通訳がいます。\n（English\, 中文\, 한국·조선어\, Português\, Español\, ไทย\, Filipino\, Tiếng Việt\, Indonesia\, नेपाली）\n予約を　してください。 \n  \nInterpretation services are available in English\, Chinese\, Korean\, Portuguese\, Spanish\,\nThai\, Filipino\, Vietnamese\, Indonesian and Nepali.\nA reservation is required. \n  \n【相談の方法・Method】\nOFIXに行く / 電話 / オンライン（ZOOM）\nIn person\, by phone or online \n  \n【相談の内容・Topics】\n仕事で困っていること、仕事の規則やお金のこと、職場の仲間や上司のトラブル 、\n同じところで働いている人　との問題　など\nLabor issues concerning wages\, dismissal\, resignation\, working hours\, labor contracts\,\nsexual harassment\, power harassment\, etc.
URL:https://ofix.or.jp/calendar/%e5%8a%b4%e5%83%8d%e7%9b%b8%e8%ab%87-labor-consultation-22/
LOCATION:OFIX\, マイドームおおさか５階
CATEGORIES:相談/Consultation
ORGANIZER;CN="%E5%A4%A7%E9%98%AA%E5%BA%9C%E5%A4%96%E5%9B%BD%E4%BA%BA%E6%83%85%E5%A0%B1%E3%82%B3%E3%83%BC%E3%83%8A%E3%83%BC/Osaka Information Service for Foreign Residents":MAILTO:jouhou-c@ofix.or.jp
END:VEVENT
BEGIN:VEVENT
DTSTART;TZID=Asia/Tokyo:20250420T130000
DTEND;TZID=Asia/Tokyo:20250420T170000
DTSTAMP:20260423T200836
CREATED:20250319T055655Z
LAST-MODIFIED:20250404T003627Z
UID:18119-1745154000-1745168400@ofix.or.jp
SUMMARY:弁護士相談 / Legal Consultations
DESCRIPTION:無料・秘密厳守/FREE OF CHARGE AND STRICTLY CONFIDENTIAL \n  \nあなたの国のことばで　話すことができます。\nお金は　かかりません。（0円です）。\nひみつは　まもります。\n通訳がいます。\n（English\, 中文\, 한국·조선어\, Português\, Español\, ไทย\, Filipino\, Tiếng Việt\, Indonesia\, नेपाली）\n予約を　してください。 \n  \nInterpretation services are available in English\, Chinese\, Korean\, Portuguese\, Spanish\,\nThai\, Filipino\, Vietnamese\, Indonesian and Nepali.\nA reservation is required. \n  \n【相談の方法・Method】\nOFIXに行く / 電話 / オンライン（ZOOM）\nIn person\, by phone or online \n  \n【相談の内容・Topics】\n家族の問題で困っていること（結婚、離婚、子ども、財産をもらう、など）、\n契約トラブル事故、犯罪、など \nLegal matters including divorce\, child custody\, human rights\, domestic violence\,\ntrouble in the workplaces\, consumer troubles and crimes/accidents
URL:https://ofix.or.jp/calendar/%e5%bc%81%e8%ad%b7%e5%a3%ab%e7%9b%b8%e8%ab%87-legal-consultations/
LOCATION:OFIX\, マイドームおおさか５階
CATEGORIES:相談/Consultation
ORGANIZER;CN="%E5%A4%A7%E9%98%AA%E5%BA%9C%E5%A4%96%E5%9B%BD%E4%BA%BA%E6%83%85%E5%A0%B1%E3%82%B3%E3%83%BC%E3%83%8A%E3%83%BC/Osaka Information Service for Foreign Residents":MAILTO:jouhou-c@ofix.or.jp
END:VEVENT
BEGIN:VEVENT
DTSTART;TZID=Asia/Tokyo:20250423T170000
DTEND;TZID=Asia/Tokyo:20250423T200000
DTSTAMP:20260423T200836
CREATED:20250318T012133Z
LAST-MODIFIED:20250318T020636Z
UID:18010-1745427600-1745438400@ofix.or.jp
SUMMARY:（アイハウス）行政書士相談（大阪市民のみ）/ (I-HOUSE) Visa Consultation (by visa lawyers) (for Osaka City residents)
DESCRIPTION:詳しくはこちら/For more details:\n(アイハウス) 行政書士相談（大阪市民のみ） / (I-HOUSE) Visa Consultation (Visa Lawyer) (for Osaka City residents)
URL:https://ofix.or.jp/calendar/%ef%bc%88%e3%82%a2%e3%82%a4%e3%83%8f%e3%82%a6%e3%82%b9%ef%bc%89%e8%a1%8c%e6%94%bf%e6%9b%b8%e5%a3%ab%e7%9b%b8%e8%ab%87%ef%bc%88%e5%a4%a7%e9%98%aa%e5%b8%82%e6%b0%91%e3%81%ae%e3%81%bf%ef%bc%89-i-house/
END:VEVENT
BEGIN:VEVENT
DTSTART;TZID=Asia/Tokyo:20250425T180000
DTEND;TZID=Asia/Tokyo:20250425T200000
DTSTAMP:20260423T200836
CREATED:20250319T055456Z
LAST-MODIFIED:20250319T055456Z
UID:18117-1745604000-1745611200@ofix.or.jp
SUMMARY:行政書士相談/ Bureaucratic Procedures Consultation
DESCRIPTION:無料・秘密厳守/FREE OF CHARGE AND STRICTLY CONFIDENTIAL \n  \nあなたの国のことばで　話すことができます。\nお金は　かかりません。（0円です）。\nひみつは　まもります。\n通訳がいます。\n（English\, 中文\, 한국·조선어\, Português\, Español\, ไทย\, Filipino\, Tiếng Việt\, Indonesia\, नेपाली）\n予約を　してください。 \n  \nInterpretation services are available in English\, Chinese\, Korean\, Portuguese\, Spanish\, Thai\, Filipino\, Vietnamese\, Indonesian and Nepali.\nA reservation is required. \n  \n【相談の方法・Method】\nOFIXに行く / 電話 / オンライン（ZOOM）\nIn person\, by phone or online \n  \n【相談の内容・Topics】\nビザ（在留資格）のこと、帰化申請、永住許可、国際結婚や経営・管理に関する手続きなど\nVarious administrative issues concerning residence status\, naturalization\,\npermanent residency\, international marriage and setting up a business\, etc.
URL:https://ofix.or.jp/calendar/%e8%a1%8c%e6%94%bf%e6%9b%b8%e5%a3%ab%e7%9b%b8%e8%ab%87-bureaucratic-procedures-consultation/
LOCATION:OFIX\, マイドームおおさか５階
CATEGORIES:相談/Consultation
ORGANIZER;CN="%E5%A4%A7%E9%98%AA%E5%BA%9C%E5%A4%96%E5%9B%BD%E4%BA%BA%E6%83%85%E5%A0%B1%E3%82%B3%E3%83%BC%E3%83%8A%E3%83%BC/Osaka Information Service for Foreign Residents":MAILTO:jouhou-c@ofix.or.jp
END:VEVENT
BEGIN:VEVENT
DTSTART;TZID=Asia/Tokyo:20250502T133000
DTEND;TZID=Asia/Tokyo:20250502T173000
DTSTAMP:20260423T200836
CREATED:20250327T071601Z
LAST-MODIFIED:20250327T071601Z
UID:18192-1746192600-1746207000@ofix.or.jp
SUMMARY:労働相談 / Labor Consultations
DESCRIPTION:無料・秘密厳守/FREE OF CHARGE AND STRICTLY CONFIDENTIAL \n  \nあなたの国のことばで　話すことができます。\nお金は　かかりません。（0円です）。\nひみつは　まもります。\n通訳がいます。\n（English\, 中文\, 한국·조선어\, Português\, Español\, ไทย\, Filipino\, Tiếng Việt\, Indonesia\, नेपाली）\n予約を　してください。 \n  \nInterpretation services are available in English\, Chinese\, Korean\, Portuguese\, Spanish\,\nThai\, Filipino\, Vietnamese\, Indonesian and Nepali.\nA reservation is required. \n  \n【相談の方法・Method】\nOFIXに行く / 電話 / オンライン（ZOOM）\nIn person\, by phone or online \n  \n【相談の内容・Topics】\n仕事で困っていること、仕事の規則やお金のこと、職場の仲間や上司のトラブル 、\n同じところで働いている人　との問題　など\nLabor issues concerning wages\, dismissal\, resignation\, working hours\, labor contracts\,\nsexual harassment\, power harassment\, etc.
URL:https://ofix.or.jp/calendar/%e5%8a%b4%e5%83%8d%e7%9b%b8%e8%ab%87-labor-consultations/
LOCATION:OFIX\, マイドームおおさか５階
CATEGORIES:相談/Consultation
ORGANIZER;CN="%E5%A4%A7%E9%98%AA%E5%BA%9C%E5%A4%96%E5%9B%BD%E4%BA%BA%E6%83%85%E5%A0%B1%E3%82%B3%E3%83%BC%E3%83%8A%E3%83%BC/Osaka Information Service for Foreign Residents":MAILTO:jouhou-c@ofix.or.jp
END:VEVENT
BEGIN:VEVENT
DTSTART;TZID=Asia/Tokyo:20250507T130000
DTEND;TZID=Asia/Tokyo:20250507T160000
DTSTAMP:20260423T200836
CREATED:20250318T012237Z
LAST-MODIFIED:20250318T020710Z
UID:18012-1746622800-1746633600@ofix.or.jp
SUMMARY:(アイハウス) 弁護士相談（大阪市民のみ） / (I-HOUSE) Legal Consultation (for Osaka City residents)
DESCRIPTION:詳しくはこちら/For more details:\n(アイハウス) 弁護士相談（大阪市民のみ） / (I-HOUSE) Legal Consultation (for Osaka City residents)
URL:https://ofix.or.jp/calendar/%e3%82%a2%e3%82%a4%e3%83%8f%e3%82%a6%e3%82%b9-%e6%b3%95%e5%be%8b%e7%9b%b8%e8%ab%87%ef%bc%88%e5%a4%a7%e9%98%aa%e5%b8%82%e6%b0%91%e3%81%ae%e3%81%bf%ef%bc%89-i-house-legal-consultation-for-osaka-c-2/
END:VEVENT
BEGIN:VEVENT
DTSTART;TZID=Asia/Tokyo:20250509T133000
DTEND;TZID=Asia/Tokyo:20250509T173000
DTSTAMP:20260423T200836
CREATED:20250327T071809Z
LAST-MODIFIED:20250327T071809Z
UID:18194-1746797400-1746811800@ofix.or.jp
SUMMARY:入管相談 / Immigration Consultations
DESCRIPTION:無料・秘密厳守/FREE OF CHARGE AND STRICTLY CONFIDENTIAL \n  \nあなたの国のことばで　話すことができます。\nお金は　かかりません。（0円です）。\nひみつは　まもります。\n通訳がいます。\n（English\, 中文\, 한국·조선어\, Português\, Español\, ไทย\, Filipino\, Tiếng Việt\, Indonesia\, नेपाली）\n予約を　してください。 \n  \nInterpretation services are available in English\, Chinese\, Korean\, Portuguese\, Spanish\,\nThai\, Filipino\, Vietnamese\, Indonesian and Nepali.\nA reservation is required. \n  \n【相談の方法・Method】\nOFIXに行く / 電話 / オンライン（ZOOM）\nIn person\, by phone or online \n  \n【相談の内容・Topics】\nビザ（在留資格）など\nImmigration matters\, including residence status
URL:https://ofix.or.jp/calendar/%e5%85%a5%e7%ae%a1%e7%9b%b8%e8%ab%87-immigration-consultations-2/
LOCATION:OFIX\, マイドームおおさか５階
CATEGORIES:相談/Consultation
ORGANIZER;CN="%E5%A4%A7%E9%98%AA%E5%BA%9C%E5%A4%96%E5%9B%BD%E4%BA%BA%E6%83%85%E5%A0%B1%E3%82%B3%E3%83%BC%E3%83%8A%E3%83%BC/Osaka Information Service for Foreign Residents":MAILTO:jouhou-c@ofix.or.jp
END:VEVENT
BEGIN:VEVENT
DTSTART;TZID=Asia/Tokyo:20250514T130000
DTEND;TZID=Asia/Tokyo:20250514T160000
DTSTAMP:20260423T200836
CREATED:20250318T012345Z
LAST-MODIFIED:20250318T020741Z
UID:18014-1747227600-1747238400@ofix.or.jp
SUMMARY:（アイハウス）行政書士相談（大阪市民のみ） / (I-HOUSE) Visa Consultation (by visa lawyers) (for Osaka City residents)
DESCRIPTION:詳しくはこちら/For more details:\n(アイハウス) 行政書士相談（大阪市民のみ） / (I-HOUSE) Visa Consultation (Visa Lawyer) (for Osaka City residents)
URL:https://ofix.or.jp/calendar/%ef%bc%88%e3%82%a2%e3%82%a4%e3%83%8f%e3%82%a6%e3%82%b9%ef%bc%89%e8%a1%8c%e6%94%bf%e6%9b%b8%e5%a3%ab%e7%9b%b8%e8%ab%87%ef%bc%88%e5%a4%a7%e9%98%aa%e5%b8%82%e6%b0%91%e3%81%ae%e3%81%bf%ef%bc%89-i-house-2/
END:VEVENT
BEGIN:VEVENT
DTSTART;TZID=Asia/Tokyo:20250515T180000
DTEND;TZID=Asia/Tokyo:20250515T200000
DTSTAMP:20260423T200836
CREATED:20250327T072520Z
LAST-MODIFIED:20250327T072520Z
UID:18196-1747332000-1747339200@ofix.or.jp
SUMMARY:労働相談 / Labor Consultations
DESCRIPTION:無料・秘密厳守/FREE OF CHARGE AND STRICTLY CONFIDENTIAL \n  \nあなたの国のことばで　話すことができます。\nお金は　かかりません。（0円です）。\nひみつは　まもります。\n通訳がいます。\n（English\, 中文\, 한국·조선어\, Português\, Español\, ไทย\, Filipino\, Tiếng Việt\, Indonesia\, नेपाली）\n予約を　してください。 \n  \nInterpretation services are available in English\, Chinese\, Korean\, Portuguese\, Spanish\,\nThai\, Filipino\, Vietnamese\, Indonesian and Nepali.\nA reservation is required. \n  \n【相談の方法・Method】\nOFIXに行く / 電話 / オンライン（ZOOM）\nIn person\, by phone or online \n  \n【相談の内容・Topics】\n仕事で困っていること、仕事の規則やお金のこと、職場の仲間や上司のトラブル 、\n同じところで働いている人　との問題　など\nLabor issues concerning wages\, dismissal\, resignation\, working hours\, labor contracts\,\nsexual harassment\, power harassment\, etc.
URL:https://ofix.or.jp/calendar/%e5%8a%b4%e5%83%8d%e7%9b%b8%e8%ab%87-labor-consultations-2/
LOCATION:OFIX\, マイドームおおさか５階
CATEGORIES:相談/Consultation
ORGANIZER;CN="%E5%A4%A7%E9%98%AA%E5%BA%9C%E5%A4%96%E5%9B%BD%E4%BA%BA%E6%83%85%E5%A0%B1%E3%82%B3%E3%83%BC%E3%83%8A%E3%83%BC/Osaka Information Service for Foreign Residents":MAILTO:jouhou-c@ofix.or.jp
END:VEVENT
BEGIN:VEVENT
DTSTART;TZID=Asia/Tokyo:20250518T130000
DTEND;TZID=Asia/Tokyo:20250518T170000
DTSTAMP:20260423T200836
CREATED:20250327T072726Z
LAST-MODIFIED:20250327T073304Z
UID:18198-1747573200-1747587600@ofix.or.jp
SUMMARY:弁護士相談 / Legal Consultations
DESCRIPTION:無料・秘密厳守/FREE OF CHARGE AND STRICTLY CONFIDENTIAL \n  \nあなたの国のことばで　話すことができます。\nお金は　かかりません。（0円です）。\nひみつは　まもります。\n通訳がいます。\n（English\, 中文\, 한국·조선어\, Português\, Español\, ไทย\, Filipino\, Tiếng Việt\, Indonesia\, नेपाली）\n予約を　してください。 \n  \nInterpretation services are available in English\, Chinese\, Korean\, Portuguese\, Spanish\,\nThai\, Filipino\, Vietnamese\, Indonesian and Nepali.\nA reservation is required. \n  \n【相談の方法・Method】\nOFIXに行く / 電話 / オンライン（ZOOM）\nIn person\, by phone or online \n  \n【相談の内容・Topics】\n家族の問題で困っていること（結婚、離婚、子ども、財産をもらう、など）、\n契約トラブル事故、犯罪、など \nLegal matters including divorce\, child custody\, human rights\, domestic violence\,\ntrouble in the workplaces\, consumer troubles and crimes/accidents
URL:https://ofix.or.jp/calendar/%e5%bc%81%e8%ad%b7%e5%a3%ab%e7%9b%b8%e8%ab%87-legal-consultations-2/
LOCATION:OFIX\, マイドームおおさか５階
CATEGORIES:相談/Consultation
ORGANIZER;CN="%E5%A4%A7%E9%98%AA%E5%BA%9C%E5%A4%96%E5%9B%BD%E4%BA%BA%E6%83%85%E5%A0%B1%E3%82%B3%E3%83%BC%E3%83%8A%E3%83%BC/Osaka Information Service for Foreign Residents":MAILTO:jouhou-c@ofix.or.jp
END:VEVENT
BEGIN:VEVENT
DTSTART;TZID=Asia/Tokyo:20250520T130000
DTEND;TZID=Asia/Tokyo:20250520T160000
DTSTAMP:20260423T200836
CREATED:20250318T012446Z
LAST-MODIFIED:20250318T020814Z
UID:18016-1747746000-1747756800@ofix.or.jp
SUMMARY:（アイハウス）入管相談 / (I-HOUSE) Immigration Consultation
DESCRIPTION:詳しくはこちら/For more details:\n(アイハウス) 入管相談 /  (I-HOUSE) Immigration Consultation
URL:https://ofix.or.jp/calendar/%ef%bc%88%e3%82%a2%e3%82%a4%e3%83%8f%e3%82%a6%e3%82%b9%ef%bc%89%e5%85%a5%e7%ae%a1%e7%9b%b8%e8%ab%87-i-house-immigration-consultation-8/
END:VEVENT
BEGIN:VEVENT
DTSTART;TZID=Asia/Tokyo:20250521T130000
DTEND;TZID=Asia/Tokyo:20250521T160000
DTSTAMP:20260423T200836
CREATED:20250318T012543Z
LAST-MODIFIED:20250318T020845Z
UID:18018-1747832400-1747843200@ofix.or.jp
SUMMARY:(アイハウス) 弁護士相談（大阪市民のみ） / (I-HOUSE) Legal Consultation (for Osaka City residents)
DESCRIPTION:詳しくはこちら/For more details:\n(アイハウス) 弁護士相談（大阪市民のみ） / (I-HOUSE) Legal Consultation (for Osaka City residents)
URL:https://ofix.or.jp/calendar/%e3%82%a2%e3%82%a4%e3%83%8f%e3%82%a6%e3%82%b9-%e6%b3%95%e5%be%8b%e7%9b%b8%e8%ab%87%ef%bc%88%e5%a4%a7%e9%98%aa%e5%b8%82%e6%b0%91%e3%81%ae%e3%81%bf%ef%bc%89-i-house-legal-consultation-for-osaka-c-3/
END:VEVENT
BEGIN:VEVENT
DTSTART;TZID=Asia/Tokyo:20250521T140000
DTEND;TZID=Asia/Tokyo:20250521T170000
DTSTAMP:20260423T200836
CREATED:20250402T062259Z
LAST-MODIFIED:20250402T062259Z
UID:18233-1747836000-1747846800@ofix.or.jp
SUMMARY:（堺市）行政書士相談 / (Sakai city) Visa Consultation (by visa lawyers)
DESCRIPTION:詳しくはこちら/For more details:\n（堺市）行政書士相談/(Sakai city) Visa Consultation (by visa lawyers)
URL:https://ofix.or.jp/calendar/%ef%bc%88%e5%a0%ba%e5%b8%82%ef%bc%89%e8%a1%8c%e6%94%bf%e6%9b%b8%e5%a3%ab%e7%9b%b8%e8%ab%87-sakai-city-visa-consultation-by-visa-lawyers-2/
END:VEVENT
END:VCALENDAR