BEGIN:VCALENDAR
VERSION:2.0
PRODID:-//公益財団法人 大阪府国際交流財団 Osaka Foundation of International Exchange (OFIX) - ECPv6.15.20//NONSGML v1.0//EN
CALSCALE:GREGORIAN
METHOD:PUBLISH
X-ORIGINAL-URL:https://ofix.or.jp
X-WR-CALDESC:公益財団法人 大阪府国際交流財団 Osaka Foundation of International Exchange (OFIX) のイベント
REFRESH-INTERVAL;VALUE=DURATION:PT1H
X-Robots-Tag:noindex
X-PUBLISHED-TTL:PT1H
BEGIN:VTIMEZONE
TZID:Asia/Tokyo
BEGIN:STANDARD
TZOFFSETFROM:+0900
TZOFFSETTO:+0900
TZNAME:JST
DTSTART:20240101T000000
END:STANDARD
END:VTIMEZONE
BEGIN:VEVENT
DTSTART;TZID=Asia/Tokyo:20250106T133000
DTEND;TZID=Asia/Tokyo:20250106T173000
DTSTAMP:20260423T151456
CREATED:20240904T052220Z
LAST-MODIFIED:20240904T052220Z
UID:16641-1736170200-1736184600@ofix.or.jp
SUMMARY:労働相談 / Labor Consultation
DESCRIPTION:無料・秘密厳守/FREE OF CHARGE AND STRICTLY CONFIDENTIAL \nあなたの国のことばで　話すことができます。\nお金は　かかりません。（0円です）。\nひみつは　まもります。\n通訳が　います。（English\, 中文\, 한국·조선어\, Português\, Español\, ไทย\, Filipino\, Tiếng Việt\, Indonesia\, नेपाली）\n予約を　してください。予約受付は　当日16:30まで。 \nInterpretation services are available in English\, Chinese\, Korean\, Portuguese\, Spanish\, Thai\, Filipino\, Vietnamese\, Indonesian and Nepali.\nA reservation is required. The reservation deadline is by 16:30 of the consultation day. \n【相談の方法・Method】\nOFIXに行く / 電話 / オンライン（ZOOM）\nIn person\, by phone or online \n【相談の内容・Topics】\n仕事で困っていること、仕事の規則やお金のこと、職場の仲間や上司のトラブル 、同じところで働いている人　との問題　など\nLabor issues concerning wages\, dismissal\, resignation\, working hours\, labor contracts\, sexual harassment\, power harassment\, etc.
URL:https://ofix.or.jp/calendar/%e5%8a%b4%e5%83%8d%e7%9b%b8%e8%ab%87-labor-consultation-13/
LOCATION:OFIX\, マイドームおおさか５階
CATEGORIES:相談/Consultation
ORGANIZER;CN="%E5%A4%A7%E9%98%AA%E5%BA%9C%E5%A4%96%E5%9B%BD%E4%BA%BA%E6%83%85%E5%A0%B1%E3%82%B3%E3%83%BC%E3%83%8A%E3%83%BC/Osaka Information Service for Foreign Residents":MAILTO:jouhou-c@ofix.or.jp
END:VEVENT
BEGIN:VEVENT
DTSTART;TZID=Asia/Tokyo:20250107T170000
DTEND;TZID=Asia/Tokyo:20250107T200000
DTSTAMP:20260423T151456
CREATED:20241010T061837Z
LAST-MODIFIED:20241010T061837Z
UID:16910-1736269200-1736280000@ofix.or.jp
SUMMARY:(アイハウス) 弁護士相談 / (I-HOUSE) Legal Consultation
DESCRIPTION:詳しくはこちら/For more details:\n(アイハウス) 弁護士相談 / (I-HOUSE) Legal Consultation
URL:https://ofix.or.jp/calendar/%e3%82%a2%e3%82%a4%e3%83%8f%e3%82%a6%e3%82%b9-%e5%bc%81%e8%ad%b7%e5%a3%ab%e7%9b%b8%e8%ab%87-i-house-legal-consultation-4/
END:VEVENT
BEGIN:VEVENT
DTSTART;TZID=Asia/Tokyo:20250108T130000
DTEND;TZID=Asia/Tokyo:20250108T160000
DTSTAMP:20260423T151456
CREATED:20241010T062000Z
LAST-MODIFIED:20241010T062000Z
UID:16912-1736341200-1736352000@ofix.or.jp
SUMMARY:（アイハウス）行政書士相談 / (I-HOUSE) Visa Consultation (Visa Lawyer)
DESCRIPTION:詳しくはこちら/For more details:\n(アイハウス) 行政書士相談 / (I-HOUSE) Visa Consultation (Visa Lawyer)
URL:https://ofix.or.jp/calendar/%ef%bc%88%e3%82%a2%e3%82%a4%e3%83%8f%e3%82%a6%e3%82%b9%ef%bc%89%e8%a1%8c%e6%94%bf%e6%9b%b8%e5%a3%ab%e7%9b%b8%e8%ab%87-i-house-visa-consultation-visa-lawyer-6/
END:VEVENT
BEGIN:VEVENT
DTSTART;TZID=Asia/Tokyo:20250111T133000
DTEND;TZID=Asia/Tokyo:20250111T160000
DTSTAMP:20260423T151456
CREATED:20241010T054814Z
LAST-MODIFIED:20241010T054814Z
UID:16889-1736602200-1736611200@ofix.or.jp
SUMMARY:（京都市）法律・ビザ相談 / (Kyoto City) Legal / Visa Consultation
DESCRIPTION:詳しくはこちら/For more details:\n京都市国際交流協会 (Kyoto City International Foundation) 
URL:https://ofix.or.jp/calendar/%ef%bc%88%e4%ba%ac%e9%83%bd%e5%b8%82%ef%bc%89%e6%b3%95%e5%be%8b%e3%83%bb%e3%83%93%e3%82%b6%e7%9b%b8%e8%ab%87-kyoto-city-legal-visa-consultation-7/
END:VEVENT
BEGIN:VEVENT
DTSTART;TZID=Asia/Tokyo:20250114T130000
DTEND;TZID=Asia/Tokyo:20250114T160000
DTSTAMP:20260423T151456
CREATED:20241010T062135Z
LAST-MODIFIED:20241010T062135Z
UID:16914-1736859600-1736870400@ofix.or.jp
SUMMARY:（アイハウス）入管相談/(I-HOUSE) Immigration Consultation
DESCRIPTION:詳しくはこちら/For more details:\n(アイハウス) 入管相談 /  (I-HOUSE) Immigration Consultation
URL:https://ofix.or.jp/calendar/%ef%bc%88%e3%82%a2%e3%82%a4%e3%83%8f%e3%82%a6%e3%82%b9%ef%bc%89%e5%85%a5%e7%ae%a1%e7%9b%b8%e8%ab%87-i-house-immigration-consultation-4/
END:VEVENT
BEGIN:VEVENT
DTSTART;TZID=Asia/Tokyo:20250114T130000
DTEND;TZID=Asia/Tokyo:20250114T160000
DTSTAMP:20260423T151456
CREATED:20241107T051944Z
LAST-MODIFIED:20241107T051944Z
UID:17166-1736859600-1736870400@ofix.or.jp
SUMMARY:（吹田市）社会保険労務士相談/（SIFA）Wage Consultation
DESCRIPTION:詳しくはこちら/For more details:\n吹田市多文化共生ワンストップ相談センター（Suita Multilingual One stop Consultation Center）
URL:https://ofix.or.jp/calendar/%ef%bc%88%e5%90%b9%e7%94%b0%e5%b8%82%ef%bc%89%e7%a4%be%e4%bc%9a%e4%bf%9d%e9%99%ba%e5%8a%b4%e5%8b%99%e5%a3%ab%e7%9b%b8%e8%ab%87-%ef%bc%88sifa%ef%bc%89wage-consultation/
END:VEVENT
BEGIN:VEVENT
DTSTART;TZID=Asia/Tokyo:20250115T130000
DTEND;TZID=Asia/Tokyo:20250115T160000
DTSTAMP:20260423T151456
CREATED:20241010T062309Z
LAST-MODIFIED:20241010T062309Z
UID:16916-1736946000-1736956800@ofix.or.jp
SUMMARY:(アイハウス) 弁護士相談 （大阪市民のみ）/ (I-HOUSE) Legal Consultation (for Osaka City residents)
DESCRIPTION:詳しくはこちら/For more details:\n(アイハウス) 弁護士相談 （大阪市民のみ）/ (I-HOUSE) Legal Consultation (for Osaka City residents)
URL:https://ofix.or.jp/calendar/%e3%82%a2%e3%82%a4%e3%83%8f%e3%82%a6%e3%82%b9-%e5%bc%81%e8%ad%b7%e5%a3%ab%e7%9b%b8%e8%ab%87-%ef%bc%88%e5%a4%a7%e9%98%aa%e5%b8%82%e6%b0%91%e3%81%ae%e3%81%bf%ef%bc%89-i-house-legal-consultation-fo-3/
END:VEVENT
BEGIN:VEVENT
DTSTART;TZID=Asia/Tokyo:20250115T140000
DTEND;TZID=Asia/Tokyo:20250115T170000
DTSTAMP:20260423T151456
CREATED:20241027T062844Z
LAST-MODIFIED:20241027T062844Z
UID:16992-1736949600-1736960400@ofix.or.jp
SUMMARY:（堺市）行政書士相談/（Sakai City）Consultation with Bureaucratic Specialist
DESCRIPTION:詳しくはこちら/For more details:\n多文化交流プラザ・さかい（The Plaza of Multicultural Exchange Sakai）
URL:https://ofix.or.jp/calendar/%ef%bc%88%e5%a0%ba%e5%b8%82%ef%bc%89%e8%a1%8c%e6%94%bf%e6%9b%b8%e5%a3%ab%e7%9b%b8%e8%ab%87-%ef%bc%88sakai-city%ef%bc%89consultation-with-bureaucratic-specialist-3/
END:VEVENT
BEGIN:VEVENT
DTSTART;TZID=Asia/Tokyo:20250118T130000
DTEND;TZID=Asia/Tokyo:20250118T170000
DTSTAMP:20260423T151456
CREATED:20241224T073329Z
LAST-MODIFIED:20250108T071403Z
UID:17395-1737205200-1737219600@ofix.or.jp
SUMMARY:（アイハウス）外国人のための一日インフォメーションサービス/ (I-HOUSE) One-day Information Service for Foreigners
DESCRIPTION:詳しくはこちら/For more details:\n一日インフォメーションサービス/One-day Information Service \n 
URL:https://ofix.or.jp/calendar/%ef%bc%88%e3%82%a2%e3%82%a4%e3%83%8f%e3%82%a6%e3%82%b9%ef%bc%89%e5%a4%96%e5%9b%bd%e4%ba%ba%e3%81%ae%e3%81%9f%e3%82%81%e3%81%ae%e4%b8%80%e6%97%a5%e3%82%a4%e3%83%b3%e3%83%95%e3%82%a9%e3%83%a1%e3%83%bc/
CATEGORIES:相談/Consultation
END:VEVENT
BEGIN:VEVENT
DTSTART;TZID=Asia/Tokyo:20250120T090000
DTEND;TZID=Asia/Tokyo:20250124T210000
DTSTAMP:20260423T151456
CREATED:20241002T051401Z
LAST-MODIFIED:20241002T053559Z
UID:16811-1737363600-1737752400@ofix.or.jp
SUMMARY:夜間集中相談週間 20日～24日 / Consultation Week with Extended Night Hours Jan. 20th - Jan. 24th
DESCRIPTION:1月20日（月）～1月24日（金）は夜9時まで開いています。\nWe will be open until 9 PM from Monday\, January 20th to Friday\, January 24th.
URL:https://ofix.or.jp/calendar/%e5%a4%9c%e9%96%93%e9%9b%86%e4%b8%ad%e7%9b%b8%e8%ab%87%e9%80%b1%e9%96%93-consultation-week-with-extended-night-hours-11/
LOCATION:OFIX\, マイドームおおさか５階
ORGANIZER;CN="%E5%A4%A7%E9%98%AA%E5%BA%9C%E5%A4%96%E5%9B%BD%E4%BA%BA%E6%83%85%E5%A0%B1%E3%82%B3%E3%83%BC%E3%83%8A%E3%83%BC/Osaka Information Service for Foreign Residents":MAILTO:jouhou-c@ofix.or.jp
END:VEVENT
BEGIN:VEVENT
DTSTART;TZID=Asia/Tokyo:20250120T133000
DTEND;TZID=Asia/Tokyo:20250120T173000
DTSTAMP:20260423T151456
CREATED:20240904T052535Z
LAST-MODIFIED:20240904T052535Z
UID:16643-1737379800-1737394200@ofix.or.jp
SUMMARY:労働相談 / Labor Consultation
DESCRIPTION:無料・秘密厳守/FREE OF CHARGE AND STRICTLY CONFIDENTIAL \nあなたの国のことばで　話すことができます。\nお金は　かかりません。（0円です）。\nひみつは　まもります。\n通訳がいます。（English\, 中文\, 한국·조선어\, Português\, Español\, ไทย\, Filipino\, Tiếng Việt\, Indonesia\, नेपाली）\n予約を　してください。予約受付は当日16:30まで。 \nInterpretation services are available in English\, Chinese\, Korean\, Portuguese\, Spanish\, Thai\, Filipino\, Vietnamese\, Indonesian and Nepali.\nA reservation is required. The reservation deadline is by 16:30 of the consultation day. \n【相談の方法・Method】\nOFIXに行く / 電話 / オンライン（ZOOM）\nIn person\, by phone or online \n【相談の内容・Topics】\n仕事で困っていること、仕事の規則やお金のこと、職場の仲間や上司のトラブル 、同じところで働いている人　との問題　など\nLabor issues concerning wages\, dismissal\, resignation\, working hours\, labor contracts\, sexual harassment\, power harassment\, etc.
URL:https://ofix.or.jp/calendar/%e5%8a%b4%e5%83%8d%e7%9b%b8%e8%ab%87-labor-consultation-14/
LOCATION:OFIX\, マイドームおおさか５階
CATEGORIES:相談/Consultation
ORGANIZER;CN="%E5%A4%A7%E9%98%AA%E5%BA%9C%E5%A4%96%E5%9B%BD%E4%BA%BA%E6%83%85%E5%A0%B1%E3%82%B3%E3%83%BC%E3%83%8A%E3%83%BC/Osaka Information Service for Foreign Residents":MAILTO:jouhou-c@ofix.or.jp
END:VEVENT
BEGIN:VEVENT
DTSTART;TZID=Asia/Tokyo:20250122T133000
DTEND;TZID=Asia/Tokyo:20250122T173000
DTSTAMP:20260423T151456
CREATED:20241002T050046Z
LAST-MODIFIED:20241002T050046Z
UID:16805-1737552600-1737567000@ofix.or.jp
SUMMARY:入管相談 / Immigration Consultation
DESCRIPTION:無料・秘密厳守/FREE OF CHARGE AND STRICTLY CONFIDENTIAL \nあなたの国のことばで　話すことができます。\nお金は　かかりません。（0円です）。\nひみつは　まもります。\n通訳がいます。（English\, 中文\, 한국·조선어\, Português\, Español\, ไทย\, Filipino\, Tiếng Việt\, Indonesia\, नेपाली）\n予約を　してください。予約受付は当日16:30まで。 \nInterpretation services are available in English\, Chinese\, Korean\, Portuguese\, Spanish\, Thai\, Filipino\, Vietnamese\, Indonesian and Nepali.\nA reservation is required. The reservation deadline is by 16:30 of the consultation day. \n【相談の方法・Method】\nOFIXに行く / 電話 / オンライン（ZOOM）\nIn person\, by phone or online \n【相談の内容・Topics】\nビザ（在留資格）など\nImmigration matters\, including residence status
URL:https://ofix.or.jp/calendar/%e5%85%a5%e7%ae%a1%e7%9b%b8%e8%ab%87-immigration-consultation-7/
LOCATION:OFIX\, マイドームおおさか５階
CATEGORIES:相談/Consultation
ORGANIZER;CN="%E5%A4%A7%E9%98%AA%E5%BA%9C%E5%A4%96%E5%9B%BD%E4%BA%BA%E6%83%85%E5%A0%B1%E3%82%B3%E3%83%BC%E3%83%8A%E3%83%BC/Osaka Information Service for Foreign Residents":MAILTO:jouhou-c@ofix.or.jp
END:VEVENT
BEGIN:VEVENT
DTSTART;TZID=Asia/Tokyo:20250122T170000
DTEND;TZID=Asia/Tokyo:20250122T200000
DTSTAMP:20260423T151456
CREATED:20241010T062448Z
LAST-MODIFIED:20241010T062448Z
UID:16918-1737565200-1737576000@ofix.or.jp
SUMMARY:（アイハウス）行政書士相談 / (I-HOUSE) Visa Consultation
DESCRIPTION:詳しくはこちら/For more details:\n(アイハウス) 行政書士相談 / (I-HOUSE) Visa Consultation
URL:https://ofix.or.jp/calendar/%ef%bc%88%e3%82%a2%e3%82%a4%e3%83%8f%e3%82%a6%e3%82%b9%ef%bc%89%e8%a1%8c%e6%94%bf%e6%9b%b8%e5%a3%ab%e7%9b%b8%e8%ab%87-i-house-visa-consultation-2/
END:VEVENT
BEGIN:VEVENT
DTSTART;TZID=Asia/Tokyo:20250123T060000
DTEND;TZID=Asia/Tokyo:20250123T200000
DTSTAMP:20260423T151456
CREATED:20241015T063523Z
LAST-MODIFIED:20241015T063523Z
UID:16938-1737612000-1737662400@ofix.or.jp
SUMMARY:労働相談 / Labor Consultation
DESCRIPTION:無料・秘密厳守 / FREE OF CHARGE AND STRICTLY CONFIDENTIAL \nあなたの国のことばで　話すことができます。\nお金は　かかりません。（0円です）。\nひみつは　まもります。\n通訳が　います。（English\, 中文\, 한국·조선어\, Português\, Español\, ไทย\, Filipino\, Tiếng Việt\, Indonesia\, नेपाली）\n予約を　してください。予約受付は　当日19:00まで。 \nInterpretation services are available in English\, Chinese\, Korean\, Portuguese\, Spanish\, Thai\, Filipino\, Vietnamese\, Indonesian and Nepali.\nA reservation is required. The reservation deadline is by 19:00 of the consultation day. \n【相談の方法・Method】\nOFIXに行く / 電話 / オンライン（ZOOM）\nIn person\, by phone or online \n【相談の内容・Topics】\n仕事で困っていること、仕事の規則やお金のこと、職場の仲間や上司のトラブル 、同じところで働いている人　との問題　など\nLabor issues concerning wages\, dismissal\, resignation\, working hours\, labor contracts\, sexual harassment\, power harassment\, etc.
URL:https://ofix.or.jp/calendar/%e5%8a%b4%e5%83%8d%e7%9b%b8%e8%ab%87-labor-consultation-20/
LOCATION:OFIX\, マイドームおおさか５階
CATEGORIES:相談/Consultation
ORGANIZER;CN="%E5%A4%A7%E9%98%AA%E5%BA%9C%E5%A4%96%E5%9B%BD%E4%BA%BA%E6%83%85%E5%A0%B1%E3%82%B3%E3%83%BC%E3%83%8A%E3%83%BC/Osaka Information Service for Foreign Residents":MAILTO:jouhou-c@ofix.or.jp
END:VEVENT
BEGIN:VEVENT
DTSTART;TZID=Asia/Tokyo:20250124T180000
DTEND;TZID=Asia/Tokyo:20250124T210000
DTSTAMP:20260423T151456
CREATED:20241002T050440Z
LAST-MODIFIED:20241002T050440Z
UID:16807-1737741600-1737752400@ofix.or.jp
SUMMARY:弁護士専門相談 / Legal Consultation
DESCRIPTION:無料・秘密厳守/FREE OF CHARGE AND STRICTLY CONFIDENTIAL \nあなたの国のことばで　話すことができます。\nお金は　かかりません。（0円です）。\nひみつは　まもります。\n通訳がいます。（English\, 中文\, 한국·조선어\, Português\, Español\, ไทย\, Filipino\, Tiếng Việt\, Indonesia\, नेपाली）\n予約を　してください。予約受付は当日20:00まで。 \nInterpretation services are available in English\, Chinese\, Korean\, Portuguese\, Spanish\, Thai\, Filipino\, Vietnamese\, Indonesian and Nepali.\nA reservation is required.\nThe reservation deadline is by 20:00 of the consultation day. \n【相談の方法・Method】\nOFIXに行く / 電話 / オンライン（ZOOM）\nIn person\, by phone or online \n【相談の内容・Topics】\n家族の問題で困っていること（結婚、離婚、子ども、財産をもらう、など）、契約トラブル事故、犯罪、など\nLegal matters including divorce\, child custody\, human rights\, domestic violence\, trouble in the workplaces\, consumer troubles and crimes/accidents
URL:https://ofix.or.jp/calendar/%e5%bc%81%e8%ad%b7%e5%a3%ab%e5%b0%82%e9%96%80%e7%9b%b8%e8%ab%87-legal-consultation-5/
LOCATION:OFIX\, マイドームおおさか５階
CATEGORIES:相談/Consultation
ORGANIZER;CN="%E5%A4%A7%E9%98%AA%E5%BA%9C%E5%A4%96%E5%9B%BD%E4%BA%BA%E6%83%85%E5%A0%B1%E3%82%B3%E3%83%BC%E3%83%8A%E3%83%BC/Osaka Information Service for Foreign Residents":MAILTO:jouhou-c@ofix.or.jp
END:VEVENT
BEGIN:VEVENT
DTSTART;TZID=Asia/Tokyo:20250125T090000
DTEND;TZID=Asia/Tokyo:20250125T120000
DTSTAMP:20260423T151456
CREATED:20250115T060524Z
LAST-MODIFIED:20250115T060524Z
UID:17455-1737795600-1737806400@ofix.or.jp
SUMMARY:（東大阪市）外国人のための1日相談サービス / (Higashiosaka City) Consultation Service Day for Foreign Residents
DESCRIPTION:詳しくはこちら / For more details:\n東大阪市役所 / Higashiosaka City
URL:https://ofix.or.jp/calendar/%ef%bc%88%e6%9d%b1%e5%a4%a7%e9%98%aa%e5%b8%82%ef%bc%89%e5%a4%96%e5%9b%bd%e4%ba%ba%e3%81%ae%e3%81%9f%e3%82%81%e3%81%ae1%e6%97%a5%e7%9b%b8%e8%ab%87%e3%82%b5%e3%83%bc%e3%83%93%e3%82%b9-higashiosaka-ci/
END:VEVENT
BEGIN:VEVENT
DTSTART;TZID=Asia/Tokyo:20250125T130000
DTEND;TZID=Asia/Tokyo:20250125T160000
DTSTAMP:20260423T151456
CREATED:20250107T021831Z
LAST-MODIFIED:20250107T021905Z
UID:17412-1737810000-1737820800@ofix.or.jp
SUMMARY:（庄内）外国人のための多言語相談会/ (Shonai) Multilingual Consultation Service
DESCRIPTION:詳しくはこちら/For more details:\nとよなか国際交流センター（ Association for Toyonaka Multicultural Symbiosis） \n  \n  \n 
URL:https://ofix.or.jp/calendar/%ef%bc%88%e5%ba%84%e5%86%85%ef%bc%89%e5%a4%9a%e8%a8%80%e8%aa%9e%e7%9b%b8%e8%ab%87%e4%bc%9a-shonai-multilingual-consultation/
END:VEVENT
BEGIN:VEVENT
DTSTART;TZID=Asia/Tokyo:20250125T133000
DTEND;TZID=Asia/Tokyo:20250125T160000
DTSTAMP:20260423T151456
CREATED:20241010T054949Z
LAST-MODIFIED:20241010T054949Z
UID:16891-1737811800-1737820800@ofix.or.jp
SUMMARY:（京都市）法律・ビザ相談 / (Kyoto City) Legal / Visa Consultation
DESCRIPTION:詳しくはこちら/For more details:\n京都市国際交流協会 (Kyoto City International Foundation) 
URL:https://ofix.or.jp/calendar/%ef%bc%88%e4%ba%ac%e9%83%bd%e5%b8%82%ef%bc%89%e6%b3%95%e5%be%8b%e3%83%bb%e3%83%93%e3%82%b6%e7%9b%b8%e8%ab%87-kyoto-city-legal-visa-consultation-8/
END:VEVENT
BEGIN:VEVENT
DTSTART;TZID=Asia/Tokyo:20250126T133000
DTEND;TZID=Asia/Tokyo:20250126T163000
DTSTAMP:20260423T151456
CREATED:20241002T050822Z
LAST-MODIFIED:20241002T050822Z
UID:16809-1737898200-1737909000@ofix.or.jp
SUMMARY:行政書士専門相談 / Bureaucratic Consultation
DESCRIPTION:無料・秘密厳守/FREE OF CHARGE AND STRICTLY CONFIDENTIAL \nあなたの国のことばで　話すことができます。\nお金は　かかりません。（0円です）。\nひみつは　まもります。\n通訳がいます。（English\, 中文\, 한국·조선어\, Português\, Español\, ไทย\, Filipino\, Tiếng Việt\, Indonesia\, नेपाली）\n予約を　してください。予約受付は当日15:30まで。 \nInterpretation services are available in English\, Chinese\, Korean\, Portuguese\, Spanish\, Thai\, Filipino\, Vietnamese\, Indonesian and Nepali.\nA reservation is required.\nThe reservation deadline is by 15:30 of the consultation day. \n【相談の方法・Method】\nOFIXに行く / 電話 / オンライン（ZOOM）\nIn person\, by phone or online \n【相談の内容・Topics】\nビザ（在留資格）のこと、帰化申請、永住許可、国際結婚や会社をつくる手続きなど\nVarious administrative issues concerning residence status\, naturalization\, permanent residency\, international marriage and setting up a business\, etc.
URL:https://ofix.or.jp/calendar/%e8%a1%8c%e6%94%bf%e6%9b%b8%e5%a3%ab%e5%b0%82%e9%96%80%e7%9b%b8%e8%ab%87-bureaucratic-consultation-4/
LOCATION:OFIX\, マイドームおおさか５階
CATEGORIES:相談/Consultation
ORGANIZER;CN="%E5%A4%A7%E9%98%AA%E5%BA%9C%E5%A4%96%E5%9B%BD%E4%BA%BA%E6%83%85%E5%A0%B1%E3%82%B3%E3%83%BC%E3%83%8A%E3%83%BC/Osaka Information Service for Foreign Residents":MAILTO:jouhou-c@ofix.or.jp
END:VEVENT
BEGIN:VEVENT
DTSTART;TZID=Asia/Tokyo:20250129T130000
DTEND;TZID=Asia/Tokyo:20250129T160000
DTSTAMP:20260423T151456
CREATED:20241010T062618Z
LAST-MODIFIED:20241010T062618Z
UID:16920-1738155600-1738166400@ofix.or.jp
SUMMARY:(アイハウス) 弁護士相談 （大阪市民のみ）/ (I-HOUSE) Legal Consultation (for Osaka City residents)
DESCRIPTION:詳しくはこちら/For more details:\n(アイハウス) 弁護士相談 （大阪市民のみ）/ (I-HOUSE) Legal Consultation (for Osaka City residents)
URL:https://ofix.or.jp/calendar/%e3%82%a2%e3%82%a4%e3%83%8f%e3%82%a6%e3%82%b9-%e5%bc%81%e8%ad%b7%e5%a3%ab%e7%9b%b8%e8%ab%87-%ef%bc%88%e5%a4%a7%e9%98%aa%e5%b8%82%e6%b0%91%e3%81%ae%e3%81%bf%ef%bc%89-i-house-legal-consultation-fo-4/
END:VEVENT
BEGIN:VEVENT
DTSTART;TZID=Asia/Tokyo:20250201T133000
DTEND;TZID=Asia/Tokyo:20250201T160000
DTSTAMP:20260423T151456
CREATED:20241010T054421Z
LAST-MODIFIED:20241010T054457Z
UID:16886-1738416600-1738425600@ofix.or.jp
SUMMARY:（京都市）法律・ビザ相談 / (Kyoto City) Legal / Visa Consultation
DESCRIPTION:詳しくはこちら/For more details:\n京都市国際交流協会 (Kyoto City International Foundation) 
URL:https://ofix.or.jp/calendar/%ef%bc%88%e4%ba%ac%e9%83%bd%e5%b8%82%ef%bc%89%e6%b3%95%e5%be%8b%e3%83%bb%e3%83%93%e3%82%b6%e7%9b%b8%e8%ab%87-kyoto-city-legal-visa-consultation-6/
END:VEVENT
BEGIN:VEVENT
DTSTART;TZID=Asia/Tokyo:20250202T110000
DTEND;TZID=Asia/Tokyo:20250202T140000
DTSTAMP:20260423T151456
CREATED:20241224T073810Z
LAST-MODIFIED:20241224T073810Z
UID:17397-1738494000-1738504800@ofix.or.jp
SUMMARY:（守口市）外国人のための相談会 / (Moriguchi City) Consultation for Foreign Residents
DESCRIPTION:詳しくはこちら/For more details:\n外国人のための相談会/ Consultation for Foreign Residents
URL:https://ofix.or.jp/calendar/%ef%bc%88%e5%ae%88%e5%8f%a3%e5%b8%82%ef%bc%89%e5%a4%96%e5%9b%bd%e4%ba%ba%e3%81%ae%e3%81%9f%e3%82%81%e3%81%ae%e7%9b%b8%e8%ab%87%e4%bc%9a-moriguchi-city-consultation-for-foreign-residents/
CATEGORIES:相談/Consultation
END:VEVENT
BEGIN:VEVENT
DTSTART;TZID=Asia/Tokyo:20250203T133000
DTEND;TZID=Asia/Tokyo:20250203T173000
DTSTAMP:20260423T151456
CREATED:20241002T051911Z
LAST-MODIFIED:20241002T051911Z
UID:16813-1738589400-1738603800@ofix.or.jp
SUMMARY:労働相談 / Labor Consultation
DESCRIPTION:無料・秘密厳守 / FREE OF CHARGE AND STRICTLY CONFIDENTIAL \nあなたの国のことばで　話すことができます。\nお金は　かかりません。（0円です）。\nひみつは　まもります。\n通訳が　います。\n（English\, 中文\, 한국·조선어\, Português\, Español\, ไทย\, Filipino\, Tiếng Việt\, Indonesia\, नेपाली）\n予約を　してください。予約受付は　当日16:30まで。 \nInterpretation services are available in English\, Chinese\, Korean\, Portuguese\, Spanish\, Thai\, Filipino\, Vietnamese\, Indonesian and Nepali.\nA reservation is required. The reservation deadline is by 16:30 of the consultation day. \n【相談の方法・Method】\nOFIXに行く / 電話 / オンライン（ZOOM）\nIn person\, by phone or online \n【相談の内容・Topics】\n仕事で困っていること、仕事の規則やお金のこと、職場の仲間や上司のトラブル 、同じところで働いている人　との問題　など\nLabor issues concerning wages\, dismissal\, resignation\, working hours\, labor contracts\, sexual harassment\, power harassment\, etc.
URL:https://ofix.or.jp/calendar/%e5%8a%b4%e5%83%8d%e7%9b%b8%e8%ab%87-labor-consultation-17/
LOCATION:OFIX\, マイドームおおさか５階
CATEGORIES:相談/Consultation
ORGANIZER;CN="%E5%A4%A7%E9%98%AA%E5%BA%9C%E5%A4%96%E5%9B%BD%E4%BA%BA%E6%83%85%E5%A0%B1%E3%82%B3%E3%83%BC%E3%83%8A%E3%83%BC/Osaka Information Service for Foreign Residents":MAILTO:jouhou-c@ofix.or.jp
END:VEVENT
BEGIN:VEVENT
DTSTART;TZID=Asia/Tokyo:20250205T130000
DTEND;TZID=Asia/Tokyo:20250205T160000
DTSTAMP:20260423T151456
CREATED:20250220T030612Z
LAST-MODIFIED:20250220T030708Z
UID:17659-1738760400-1738771200@ofix.or.jp
SUMMARY:(アイハウス) 弁護士相談 （大阪市民のみ）/ (I-HOUSE) Legal Consultation (for Osaka City residents)
DESCRIPTION:詳しくはこちら/For more details:\n(アイハウス) 弁護士相談 （大阪市民のみ）/ (I-HOUSE) Legal Consultation (for Osaka City residents)
URL:https://ofix.or.jp/calendar/%e3%82%a2%e3%82%a4%e3%83%8f%e3%82%a6%e3%82%b9-%e5%bc%81%e8%ad%b7%e5%a3%ab%e7%9b%b8%e8%ab%87-%ef%bc%88%e5%a4%a7%e9%98%aa%e5%b8%82%e6%b0%91%e3%81%ae%e3%81%bf%ef%bc%89-i-house-legal-consultation-fo-5/
END:VEVENT
BEGIN:VEVENT
DTSTART;TZID=Asia/Tokyo:20250212T130000
DTEND;TZID=Asia/Tokyo:20250212T160000
DTSTAMP:20260423T151456
CREATED:20250220T030813Z
LAST-MODIFIED:20250220T030813Z
UID:17662-1739365200-1739376000@ofix.or.jp
SUMMARY:（アイハウス）行政書士相談 / (I-HOUSE) Visa Consultation (Visa Lawyer)
DESCRIPTION:詳しくはこちら/For more details:\n(アイハウス) 行政書士相談 / (I-HOUSE) Visa Consultation (Visa Lawyer)
URL:https://ofix.or.jp/calendar/%ef%bc%88%e3%82%a2%e3%82%a4%e3%83%8f%e3%82%a6%e3%82%b9%ef%bc%89%e8%a1%8c%e6%94%bf%e6%9b%b8%e5%a3%ab%e7%9b%b8%e8%ab%87-i-house-visa-consultation-visa-lawyer-7/
END:VEVENT
BEGIN:VEVENT
DTSTART;TZID=Asia/Tokyo:20250213T130000
DTEND;TZID=Asia/Tokyo:20250213T160000
DTSTAMP:20260423T151456
CREATED:20250220T030936Z
LAST-MODIFIED:20250220T030936Z
UID:17664-1739451600-1739462400@ofix.or.jp
SUMMARY:(アイハウス) 弁護士相談 / (I-HOUSE) Legal Consultation
DESCRIPTION:詳しくはこちら/For more details:\n(アイハウス) 弁護士相談 / (I-HOUSE) Legal Consultation
URL:https://ofix.or.jp/calendar/%e3%82%a2%e3%82%a4%e3%83%8f%e3%82%a6%e3%82%b9-%e5%bc%81%e8%ad%b7%e5%a3%ab%e7%9b%b8%e8%ab%87-i-house-legal-consultation-5/
END:VEVENT
BEGIN:VEVENT
DTSTART;TZID=Asia/Tokyo:20250215T103000
DTEND;TZID=Asia/Tokyo:20250215T163000
DTSTAMP:20260423T151456
CREATED:20250107T022729Z
LAST-MODIFIED:20250107T022729Z
UID:17415-1739615400-1739637000@ofix.or.jp
SUMMARY:外国人のための一日離婚相談ホットライン/ One-Day Divorce Consultation Hotline for Foreigners
DESCRIPTION:詳しくはこちら/For more details:\nリコン・アラートRIKON ALERT (Action Group for Divorce by Agreement)
URL:https://ofix.or.jp/calendar/%e5%a4%96%e5%9b%bd%e4%ba%ba%e3%81%ae%e3%81%9f%e3%82%81%e3%81%ae%e4%b8%80%e6%97%a5%e9%9b%a2%e5%a9%9a%e7%9b%b8%e8%ab%87%e3%83%9b%e3%83%83%e3%83%88%e3%83%a9%e3%82%a4%e3%83%b3-one-day-divorce-consultatio/
END:VEVENT
BEGIN:VEVENT
DTSTART;TZID=Asia/Tokyo:20250215T130000
DTEND;TZID=Asia/Tokyo:20250215T170000
DTSTAMP:20260423T151456
CREATED:20241010T054259Z
LAST-MODIFIED:20241010T054259Z
UID:16884-1739624400-1739638800@ofix.or.jp
SUMMARY:（京都市）心の悩み相談 / (Kyoto City) Counseling Day
DESCRIPTION:詳しくはこちら/For more details:\n京都市国際交流協会 (Kyoto City International Foundation)
URL:https://ofix.or.jp/calendar/%ef%bc%88%e4%ba%ac%e9%83%bd%e5%b8%82%ef%bc%89%e5%bf%83%e3%81%ae%e6%82%a9%e3%81%bf%e7%9b%b8%e8%ab%87-kyoto-city-counseling-day-5/
END:VEVENT
BEGIN:VEVENT
DTSTART;TZID=Asia/Tokyo:20250217T133000
DTEND;TZID=Asia/Tokyo:20250217T173000
DTSTAMP:20260423T151456
CREATED:20241002T052138Z
LAST-MODIFIED:20241002T052138Z
UID:16816-1739799000-1739813400@ofix.or.jp
SUMMARY:労働相談 / Labor Consultation
DESCRIPTION:無料・秘密厳守 / FREE OF CHARGE AND STRICTLY CONFIDENTIAL \nあなたの国のことばで　話すことができます。\nお金は　かかりません。（0円です）。\nひみつは　まもります。\n通訳が　います。\n（English\, 中文\, 한국·조선어\, Português\, Español\, ไทย\, Filipino\, Tiếng Việt\, Indonesia\, नेपाली）\n予約を　してください。予約受付は　当日16:30まで。 \nInterpretation services are available in English\, Chinese\, Korean\, Portuguese\, Spanish\, Thai\, Filipino\, Vietnamese\, Indonesian and Nepali.\nA reservation is required. The reservation deadline is by 16:30 of the consultation day. \n【相談の方法・Method】\nOFIXに行く / 電話 / オンライン（ZOOM）\nIn person\, by phone or online \n【相談の内容・Topics】\n仕事で困っていること、仕事の規則やお金のこと、職場の仲間や上司のトラブル 、同じところで働いている人　との問題　など\nLabor issues concerning wages\, dismissal\, resignation\, working hours\, labor contracts\, sexual harassment\, power harassment\, etc.
URL:https://ofix.or.jp/calendar/%e5%8a%b4%e5%83%8d%e7%9b%b8%e8%ab%87-labor-consultation-18/
LOCATION:OFIX\, マイドームおおさか５階
CATEGORIES:相談/Consultation
ORGANIZER;CN="%E5%A4%A7%E9%98%AA%E5%BA%9C%E5%A4%96%E5%9B%BD%E4%BA%BA%E6%83%85%E5%A0%B1%E3%82%B3%E3%83%BC%E3%83%8A%E3%83%BC/Osaka Information Service for Foreign Residents":MAILTO:jouhou-c@ofix.or.jp
END:VEVENT
BEGIN:VEVENT
DTSTART;TZID=Asia/Tokyo:20250218T130000
DTEND;TZID=Asia/Tokyo:20250218T160000
DTSTAMP:20260423T151456
CREATED:20250220T042851Z
LAST-MODIFIED:20250220T042851Z
UID:17667-1739883600-1739894400@ofix.or.jp
SUMMARY:（アイハウス）入管相談/(I-HOUSE) Immigration Consultation
DESCRIPTION:詳しくはこちら/For more details:\n(アイハウス) 入管相談 /  (I-HOUSE) Immigration Consultation
URL:https://ofix.or.jp/calendar/%ef%bc%88%e3%82%a2%e3%82%a4%e3%83%8f%e3%82%a6%e3%82%b9%ef%bc%89%e5%85%a5%e7%ae%a1%e7%9b%b8%e8%ab%87-i-house-immigration-consultation-5/
END:VEVENT
END:VCALENDAR