BEGIN:VCALENDAR
VERSION:2.0
PRODID:-//公益財団法人 大阪府国際交流財団 Osaka Foundation of International Exchange (OFIX) - ECPv6.15.20//NONSGML v1.0//EN
CALSCALE:GREGORIAN
METHOD:PUBLISH
X-ORIGINAL-URL:https://ofix.or.jp
X-WR-CALDESC:公益財団法人 大阪府国際交流財団 Osaka Foundation of International Exchange (OFIX) のイベント
REFRESH-INTERVAL;VALUE=DURATION:PT1H
X-Robots-Tag:noindex
X-PUBLISHED-TTL:PT1H
BEGIN:VTIMEZONE
TZID:Asia/Tokyo
BEGIN:STANDARD
TZOFFSETFROM:+0900
TZOFFSETTO:+0900
TZNAME:JST
DTSTART:20230101T000000
END:STANDARD
END:VTIMEZONE
BEGIN:VEVENT
DTSTART;TZID=Asia/Tokyo:20241106T130000
DTEND;TZID=Asia/Tokyo:20241106T160000
DTSTAMP:20260423T151545
CREATED:20240912T074050Z
LAST-MODIFIED:20240912T074405Z
UID:16704-1730898000-1730908800@ofix.or.jp
SUMMARY:(アイハウス) 弁護士相談 （大阪市民のみ）/ (I-HOUSE) Legal Consultation (for Osaka City residents)
DESCRIPTION:詳しくはこちら/For more details:\n大阪国際交流センター (Osaka International House Foundation)
URL:https://ofix.or.jp/calendar/%e3%82%a2%e3%82%a4%e3%83%8f%e3%82%a6%e3%82%b9-%e6%b3%95%e5%be%8b%e7%9b%b8%e8%ab%87-%ef%bc%88%e5%a4%a7%e9%98%aa%e5%b8%82%e6%b0%91%e3%81%ae%e3%81%bf%ef%bc%89-i-house-legal-consultation-for-osaka-c-4/
END:VEVENT
BEGIN:VEVENT
DTSTART;TZID=Asia/Tokyo:20241112T170000
DTEND;TZID=Asia/Tokyo:20241112T200000
DTSTAMP:20260423T151545
CREATED:20240912T074413Z
LAST-MODIFIED:20240912T074413Z
UID:16707-1731430800-1731441600@ofix.or.jp
SUMMARY:(アイハウス) 弁護士相談 / (I-HOUSE) Legal Consultation
DESCRIPTION:詳しくはこちら/For more details:\n大阪国際交流センター (Osaka International House Foundation)
URL:https://ofix.or.jp/calendar/%e3%82%a2%e3%82%a4%e3%83%8f%e3%82%a6%e3%82%b9-%e5%bc%81%e8%ad%b7%e5%a3%ab%e7%9b%b8%e8%ab%87-i-house-legal-consultation-2/
END:VEVENT
BEGIN:VEVENT
DTSTART;TZID=Asia/Tokyo:20241113T130000
DTEND;TZID=Asia/Tokyo:20241113T160000
DTSTAMP:20260423T151545
CREATED:20240912T074716Z
LAST-MODIFIED:20240912T074716Z
UID:16710-1731502800-1731513600@ofix.or.jp
SUMMARY:（アイハウス）行政書士相談 / (I-HOUSE) Visa Consultation (Visa Lawyer)
DESCRIPTION:詳しくはこちら/For more details:\n大阪国際交流センター (Osaka International House Foundation)
URL:https://ofix.or.jp/calendar/%ef%bc%88%e3%82%a2%e3%82%a4%e3%83%8f%e3%82%a6%e3%82%b9%ef%bc%89%e8%a1%8c%e6%94%bf%e6%9b%b8%e5%a3%ab%e7%9b%b8%e8%ab%87-i-house-visa-consultation-visa-lawyer-2/
END:VEVENT
BEGIN:VEVENT
DTSTART;TZID=Asia/Tokyo:20241113T130000
DTEND;TZID=Asia/Tokyo:20241113T160000
DTSTAMP:20260423T151545
CREATED:20240912T080600Z
LAST-MODIFIED:20240912T080600Z
UID:16719-1731502800-1731513600@ofix.or.jp
SUMMARY:（京都）在留資格の相談 / (Kyoto) Visa Consultation
DESCRIPTION:詳しくはこちら/For more details:\n京都府国際センター (Kyoto Prefectural International Center)
URL:https://ofix.or.jp/calendar/%ef%bc%88%e4%ba%ac%e9%83%bd%ef%bc%89%e5%9c%a8%e7%95%99%e8%b3%87%e6%a0%bc%e3%81%ae%e7%9b%b8%e8%ab%87-kyoto-visa-consultation-4/
END:VEVENT
BEGIN:VEVENT
DTSTART;TZID=Asia/Tokyo:20241116T133000
DTEND;TZID=Asia/Tokyo:20241116T160000
DTSTAMP:20260423T151545
CREATED:20241010T053725Z
LAST-MODIFIED:20241010T053725Z
UID:16875-1731763800-1731772800@ofix.or.jp
SUMMARY:（京都市）法律・ビザ相談 / (Kyoto City) Legal / Visa Consultation
DESCRIPTION:詳しくはこちら/For more details:\n京都市国際交流協会 (Kyoto City International Foundation) 
URL:https://ofix.or.jp/calendar/%ef%bc%88%e4%ba%ac%e9%83%bd%e5%b8%82%ef%bc%89%e6%b3%95%e5%be%8b%e3%83%bb%e3%83%93%e3%82%b6%e7%9b%b8%e8%ab%87-kyoto-city-legal-visa-consultation-3/
END:VEVENT
BEGIN:VEVENT
DTSTART;TZID=Asia/Tokyo:20241118T013000
DTEND;TZID=Asia/Tokyo:20241118T173000
DTSTAMP:20260423T151545
CREATED:20240821T065458Z
LAST-MODIFIED:20240829T021052Z
UID:16316-1731893400-1731951000@ofix.or.jp
SUMMARY:労働相談 / Labor Consultation
DESCRIPTION:無料・秘密厳守 / FREE OF CHARGE AND STRICTLY CONFIDENTIAL \nあなたの国くにのことばで　話はなすことができます。\nお金かねは　かかりません。（0円えんです）。\nひみつは　まもります。\n通訳つうやくが　います。\n（English\, 中文\, 한국·조선어\, Português\, Español\, ไทย\, Filipino\, Tiếng Việt\, Indonesia\, नेपाली）\n予約よやくを　してください。予約受付よやくうけつけは　当日とうじつ16:30まで。 \nInterpretation services are available in English\, Chinese\, Korean\, Portuguese\, Spanish\, Thai\, Filipino\, Vietnamese\, Indonesian and Nepali.\nA reservation is required. The reservation deadline is by 16:30 of the consultation day. \n【相談そうだんの方法ほうほう・Method】\nOFIXに行いく / 電話でんわ / オンライン（ZOOM）\nIn person\, by phone or online \n【相談そうだんの内容ないよう・Topics】\n仕事しごとで困こまっていること、仕事しごとの規則きそくやお金かねのこと、職場しょくばの仲間なかまや上司じょうしのトラブル 、同おなじところで働はたらいている人ひと　との問題もんだい　など\nLabor issues concerning wages\, dismissal\, resignation\, working hours\, labor contracts\, sexual harassment\, power harassment\, etc.
URL:https://ofix.or.jp/calendar/%e5%8a%b4%e5%83%8d%e7%9b%b8%e8%ab%87-labor-consultation-11/
LOCATION:OFIX\, マイドームおおさか５階
CATEGORIES:相談/Consultation
ORGANIZER;CN="%E5%A4%A7%E9%98%AA%E5%BA%9C%E5%A4%96%E5%9B%BD%E4%BA%BA%E6%83%85%E5%A0%B1%E3%82%B3%E3%83%BC%E3%83%8A%E3%83%BC/Osaka Information Service for Foreign Residents":MAILTO:jouhou-c@ofix.or.jp
END:VEVENT
BEGIN:VEVENT
DTSTART;TZID=Asia/Tokyo:20241119T130000
DTEND;TZID=Asia/Tokyo:20241119T160000
DTSTAMP:20260423T151545
CREATED:20240912T074944Z
LAST-MODIFIED:20240912T074944Z
UID:16712-1732021200-1732032000@ofix.or.jp
SUMMARY:（アイハウス）入管相談 / (I-HOUSE) Immigration Consultation
DESCRIPTION:詳しくはこちら/For more details:\n(アイハウス) 入管相談 /  (I-HOUSE) Immigration Consultation
URL:https://ofix.or.jp/calendar/%ef%bc%88%e3%82%a2%e3%82%a4%e3%83%8f%e3%82%a6%e3%82%b9%ef%bc%89%e5%85%a5%e7%ae%a1%e7%9b%b8%e8%ab%87-i-house-immigration-consultation-2/
END:VEVENT
BEGIN:VEVENT
DTSTART;TZID=Asia/Tokyo:20241120T130000
DTEND;TZID=Asia/Tokyo:20241120T160000
DTSTAMP:20260423T151545
CREATED:20240912T075222Z
LAST-MODIFIED:20240912T075222Z
UID:16714-1732107600-1732118400@ofix.or.jp
SUMMARY:（アイハウス） 弁護士相談 （大阪市民のみ）/ (I-HOUSE) Legal Consultation (for Osaka City residents)
DESCRIPTION:詳しくはこちら/For more details:\n大阪国際交流センター (Osaka International House Foundation)
URL:https://ofix.or.jp/calendar/%ef%bc%88%e3%82%a2%e3%82%a4%e3%83%8f%e3%82%a6%e3%82%b9%ef%bc%89-%e5%bc%81%e8%ad%b7%e5%a3%ab%e7%9b%b8%e8%ab%87-%ef%bc%88%e5%a4%a7%e9%98%aa%e5%b8%82%e6%b0%91%e3%81%ae%e3%81%bf%ef%bc%89-i-house-legal/
END:VEVENT
BEGIN:VEVENT
DTSTART;TZID=Asia/Tokyo:20241120T140000
DTEND;TZID=Asia/Tokyo:20241120T170000
DTSTAMP:20260423T151545
CREATED:20241027T062530Z
LAST-MODIFIED:20241027T062530Z
UID:16988-1732111200-1732122000@ofix.or.jp
SUMMARY:（堺市）行政書士相談/（Sakai City）Consultation with Bureaucratic Specialist
DESCRIPTION:詳しくはこちら/For more details:\n多文化交流プラザ・さかい（The Plaza of Multicultural Exchange Sakai） \n 
URL:https://ofix.or.jp/calendar/%ef%bc%88%e5%a0%ba%e5%b8%82%ef%bc%89%e8%a1%8c%e6%94%bf%e6%9b%b8%e5%a3%ab%e7%9b%b8%e8%ab%87-%ef%bc%88sakai-city%ef%bc%89consultation-with-bureaucratic-specialist/
END:VEVENT
BEGIN:VEVENT
DTSTART;TZID=Asia/Tokyo:20241121T130000
DTEND;TZID=Asia/Tokyo:20241121T160000
DTSTAMP:20260423T151545
CREATED:20240912T071611Z
LAST-MODIFIED:20240912T071611Z
UID:16700-1732194000-1732204800@ofix.or.jp
SUMMARY:(わかやま) 法律相談 / (Wakayama) Legal Consultation
DESCRIPTION:詳しくはこちら/For more details:\n和歌山県国際交流センター (Wakayama International Exchange Center)
URL:https://ofix.or.jp/calendar/%e3%82%8f%e3%81%8b%e3%82%84%e3%81%be-%e6%b3%95%e5%be%8b%e7%9b%b8%e8%ab%87-wakayama-legal-consultation/
END:VEVENT
BEGIN:VEVENT
DTSTART;TZID=Asia/Tokyo:20241122T090000
DTEND;TZID=Asia/Tokyo:20241122T210000
DTSTAMP:20260423T151545
CREATED:20240821T072430Z
LAST-MODIFIED:20240822T020731Z
UID:16332-1732266000-1732309200@ofix.or.jp
SUMMARY:夜間集中相談週間 / Consultation Week with Extended Night Hours
DESCRIPTION:11月22日（金）と11月25日（月）～28日（木）は夜9時まで開いています。\nWe will be open until 9 PM on Friday\, November 22nd\, and from Monday\, November 25th to Thursday\, November 28th.
URL:https://ofix.or.jp/calendar/night-hours-1122/
LOCATION:OFIX\, マイドームおおさか５階
ORGANIZER;CN="%E5%A4%A7%E9%98%AA%E5%BA%9C%E5%A4%96%E5%9B%BD%E4%BA%BA%E6%83%85%E5%A0%B1%E3%82%B3%E3%83%BC%E3%83%8A%E3%83%BC/Osaka Information Service for Foreign Residents":MAILTO:jouhou-c@ofix.or.jp
END:VEVENT
BEGIN:VEVENT
DTSTART;TZID=Asia/Tokyo:20241122T180000
DTEND;TZID=Asia/Tokyo:20241122T210000
DTSTAMP:20260423T151545
CREATED:20240821T065907Z
LAST-MODIFIED:20240829T021142Z
UID:16320-1732298400-1732309200@ofix.or.jp
SUMMARY:弁護士相談 / Legal Consultation
DESCRIPTION:無料・秘密厳守 / FREE OF CHARGE AND STRICTLY CONFIDENTIAL \nあなたの国のことばで　話すことができます。\nお金は　かかりません。（0円です）。\nひみつは　まもります。\n通訳がいます。（English\, 中文\, 한국·조선어\, Português\, Español\, ไทย\, Filipino\, Tiếng Việt\, Indonesia\, नेपाली）\n予約を　してください。予約受付は当日20:00まで。 \nInterpretation services are available in English\, Chinese\, Korean\, Portuguese\, Spanish\, Thai\, Filipino\, Vietnamese\, Indonesian and Nepali.\nA reservation is required.\nThe reservation deadline is by 20:00 of the consultation day. \n【相談の方法・Method】\nOFIXに行く / 電話 / オンライン（ZOOM）\nIn person\, by phone or online \n【相談の内容・Topics】\n家族の問題で困っていること（結婚、離婚、子ども、財産をもらう、など）、契約トラブル事故、犯罪、など\nLegal matters including divorce\, child custody\, human rights\, domestic violence\, trouble in the workplaces\, consumer troubles and crimes/accidents
URL:https://ofix.or.jp/calendar/%e5%bc%81%e8%ad%b7%e5%a3%ab%e7%9b%b8%e8%ab%87-legal-consultation-2/
LOCATION:OFIX\, マイドームおおさか５階
CATEGORIES:相談/Consultation
ORGANIZER;CN="%E5%A4%A7%E9%98%AA%E5%BA%9C%E5%A4%96%E5%9B%BD%E4%BA%BA%E6%83%85%E5%A0%B1%E3%82%B3%E3%83%BC%E3%83%8A%E3%83%BC/Osaka Information Service for Foreign Residents":MAILTO:jouhou-c@ofix.or.jp
END:VEVENT
BEGIN:VEVENT
DTSTART;TZID=Asia/Tokyo:20241124T120000
DTEND;TZID=Asia/Tokyo:20241124T150000
DTSTAMP:20260423T151545
CREATED:20241030T074622Z
LAST-MODIFIED:20241030T074622Z
UID:17065-1732449600-1732460400@ofix.or.jp
SUMMARY:（枚方市）外国人のための一日相談会/ (Hirakata) One-day Consultation Service for Foreign Residents
DESCRIPTION:詳しくはこちら/For more details: \n11月24日（日）枚方市・OFIX共催　外国人のための1日相談会を開催します。One-day Consultation Service for Foreign Residents in Hirakata on Sunday\, November 24\, 2024
URL:https://ofix.or.jp/calendar/%ef%bc%88%e6%9e%9a%e6%96%b9%e5%b8%82%ef%bc%89%e5%a4%96%e5%9b%bd%e4%ba%ba%e3%81%ae%e3%81%9f%e3%82%81%e3%81%ae%e4%b8%80%e6%97%a5%e7%9b%b8%e8%ab%87%e4%bc%9a-hirakata-one-day-consultation-service-for-f/
CATEGORIES:相談/Consultation
END:VEVENT
BEGIN:VEVENT
DTSTART;TZID=Asia/Tokyo:20241124T130000
DTEND;TZID=Asia/Tokyo:20241124T163000
DTSTAMP:20260423T151545
CREATED:20240912T080953Z
LAST-MODIFIED:20240912T080953Z
UID:16721-1732453200-1732465800@ofix.or.jp
SUMMARY:（京都）在留資格の相談 / (Kyoto) Visa Consultation
DESCRIPTION:詳しくはこちら/For more details:\n京都府国際センター (Kyoto Prefectural International Center)
URL:https://ofix.or.jp/calendar/%ef%bc%88%e4%ba%ac%e9%83%bd%ef%bc%89%e5%9c%a8%e7%95%99%e8%b3%87%e6%a0%bc%e3%81%ae%e7%9b%b8%e8%ab%87-kyoto-visa-consultation-5/
END:VEVENT
BEGIN:VEVENT
DTSTART;TZID=Asia/Tokyo:20241124T133000
DTEND;TZID=Asia/Tokyo:20241124T163000
DTSTAMP:20260423T151545
CREATED:20240821T073729Z
LAST-MODIFIED:20240821T080219Z
UID:16338-1732455000-1732465800@ofix.or.jp
SUMMARY:入管相談 / Immigration Consultation
DESCRIPTION:無料・秘密厳守/FREE OF CHARGE AND STRICTLY CONFIDENTIAL \nあなたの国のことばで　話すことができます。\nお金は　かかりません。（0円です）。\nひみつは　まもります。\n通訳がいます。（English\, 中文\, 한국·조선어\, Português\, Español\, ไทย\, Filipino\, Tiếng Việt\, Indonesia\, नेपाली）\n予約を　してください。予約受付は当日15:30まで。 \nInterpretation services are available in English\, Chinese\, Korean\, Portuguese\, Spanish\, Thai\, Filipino\, Vietnamese\, Indonesian and Nepali.\nA reservation is required. The reservation deadline is by 15:30 of the consultation day. \n【相談の方法・Method】\nOFIXに行く / 電話 / オンライン（ZOOM）\nIn person\, by phone or online \n【相談の内容・Topics】\nビザ（在留資格）など\nImmigration matters\, including residence status
URL:https://ofix.or.jp/calendar/immigration-1124/
LOCATION:OFIX\, マイドームおおさか５階
CATEGORIES:相談/Consultation
ORGANIZER;CN="%E5%A4%A7%E9%98%AA%E5%BA%9C%E5%A4%96%E5%9B%BD%E4%BA%BA%E6%83%85%E5%A0%B1%E3%82%B3%E3%83%BC%E3%83%8A%E3%83%BC/Osaka Information Service for Foreign Residents":MAILTO:jouhou-c@ofix.or.jp
END:VEVENT
BEGIN:VEVENT
DTSTART;TZID=Asia/Tokyo:20241125T090000
DTEND;TZID=Asia/Tokyo:20241125T210000
DTSTAMP:20260423T151545
CREATED:20240821T070927Z
LAST-MODIFIED:20240821T090419Z
UID:16323-1732525200-1732568400@ofix.or.jp
SUMMARY:夜間集中相談週間 / Consultation Week with Extended Night Hours
DESCRIPTION:11月22日（金）と11月25日（月）～28日（木）は夜9時まで開いています。\nWe will be open until 9 PM on Friday\, November 22nd\, and from Monday\, November 25th to Thursday\, November 28th. \n  \n 
URL:https://ofix.or.jp/calendar/night-hours/
LOCATION:OFIX\, マイドームおおさか５階
ORGANIZER;CN="%E5%A4%A7%E9%98%AA%E5%BA%9C%E5%A4%96%E5%9B%BD%E4%BA%BA%E6%83%85%E5%A0%B1%E3%82%B3%E3%83%BC%E3%83%8A%E3%83%BC/Osaka Information Service for Foreign Residents":MAILTO:jouhou-c@ofix.or.jp
END:VEVENT
BEGIN:VEVENT
DTSTART;TZID=Asia/Tokyo:20241126T090000
DTEND;TZID=Asia/Tokyo:20241126T210000
DTSTAMP:20260423T151545
CREATED:20240821T071541Z
LAST-MODIFIED:20240822T020548Z
UID:16326-1732611600-1732654800@ofix.or.jp
SUMMARY:夜間集中相談週間 / Consultation Week with Extended Night Hours
DESCRIPTION:11月22日（金）と11月25日（月）～28日（木）は夜9時まで開いています。\nWe will be open until 9 PM on Friday\, November 22nd\, and from Monday\, November 25th to Thursday\, November 28th.
URL:https://ofix.or.jp/calendar/%e5%a4%9c%e9%96%93%e9%9b%86%e4%b8%ad%e7%9b%b8%e8%ab%87%e9%80%b1%e9%96%93-consultation-week-with-extended-night-hours-5/
LOCATION:OFIX\, マイドームおおさか５階
ORGANIZER;CN="%E5%A4%A7%E9%98%AA%E5%BA%9C%E5%A4%96%E5%9B%BD%E4%BA%BA%E6%83%85%E5%A0%B1%E3%82%B3%E3%83%BC%E3%83%8A%E3%83%BC/Osaka Information Service for Foreign Residents":MAILTO:jouhou-c@ofix.or.jp
END:VEVENT
BEGIN:VEVENT
DTSTART;TZID=Asia/Tokyo:20241126T130000
DTEND;TZID=Asia/Tokyo:20241126T160000
DTSTAMP:20260423T151545
CREATED:20241107T045733Z
LAST-MODIFIED:20241107T045733Z
UID:17155-1732626000-1732636800@ofix.or.jp
SUMMARY:（吹田市）行政書士相談/（SIFA）Consultation with Bureaucratic Specialist
DESCRIPTION:詳しくはこちら/For more details:\n吹田市多文化共生ワンストップ相談センター（Suita Multilingual One stop Consultation Center）
URL:https://ofix.or.jp/calendar/%ef%bc%88%e5%90%b9%e7%94%b0%e5%b8%82%ef%bc%89%e8%a1%8c%e6%94%bf%e6%9b%b8%e5%a3%ab%e7%9b%b8%e8%ab%87-%ef%bc%88sifa%ef%bc%89consultation-with-bureaucratic-specialist/
END:VEVENT
BEGIN:VEVENT
DTSTART;TZID=Asia/Tokyo:20241127T090000
DTEND;TZID=Asia/Tokyo:20241127T210000
DTSTAMP:20260423T151545
CREATED:20240821T072232Z
LAST-MODIFIED:20240822T020759Z
UID:16330-1732698000-1732741200@ofix.or.jp
SUMMARY:夜間集中相談週間 / Consultation Week with Extended Night Hours
DESCRIPTION:11月22日（金）と11月25日（月）～28日（木）は夜9時まで開いています。\nWe will be open until 9 PM on Friday\, November 22nd\, and from Monday\, November 25th to Thursday\, November 28th.
URL:https://ofix.or.jp/calendar/night-hours-6/
LOCATION:OFIX\, マイドームおおさか５階
ORGANIZER;CN="%E5%A4%A7%E9%98%AA%E5%BA%9C%E5%A4%96%E5%9B%BD%E4%BA%BA%E6%83%85%E5%A0%B1%E3%82%B3%E3%83%BC%E3%83%8A%E3%83%BC/Osaka Information Service for Foreign Residents":MAILTO:jouhou-c@ofix.or.jp
END:VEVENT
BEGIN:VEVENT
DTSTART;TZID=Asia/Tokyo:20241127T133000
DTEND;TZID=Asia/Tokyo:20241127T173000
DTSTAMP:20260423T151545
CREATED:20240821T073934Z
LAST-MODIFIED:20240829T021211Z
UID:16340-1732714200-1732728600@ofix.or.jp
SUMMARY:入管相談 / Immigration Consultation
DESCRIPTION:無料・秘密厳守/FREE OF CHARGE AND STRICTLY CONFIDENTIAL \nあなたの国のことばで　話すことができます。\nお金は　かかりません。（0円です）。\nひみつは　まもります。\n通訳がいます。（English\, 中文\, 한국·조선어\, Português\, Español\, ไทย\, Filipino\, Tiếng Việt\, Indonesia\, नेपाली）\n予約を　してください。予約受付は当日16:30まで。 \nInterpretation services are available in English\, Chinese\, Korean\, Portuguese\, Spanish\, Thai\, Filipino\, Vietnamese\, Indonesian and Nepali.\nA reservation is required. The reservation deadline is by 16:30 of the consultation day. \n【相談の方法・Method】\nOFIXに行く / 電話 / オンライン（ZOOM）\nIn person\, by phone or online \n【相談の内容・Topics】\nビザ（在留資格）など\nImmigration matters\, including residence status
URL:https://ofix.or.jp/calendar/immigration-1127/
LOCATION:OFIX\, マイドームおおさか５階
CATEGORIES:相談/Consultation
ORGANIZER;CN="%E5%A4%A7%E9%98%AA%E5%BA%9C%E5%A4%96%E5%9B%BD%E4%BA%BA%E6%83%85%E5%A0%B1%E3%82%B3%E3%83%BC%E3%83%8A%E3%83%BC/Osaka Information Service for Foreign Residents":MAILTO:jouhou-c@ofix.or.jp
END:VEVENT
BEGIN:VEVENT
DTSTART;TZID=Asia/Tokyo:20241127T170000
DTEND;TZID=Asia/Tokyo:20241127T200000
DTSTAMP:20260423T151545
CREATED:20240912T075456Z
LAST-MODIFIED:20240912T075456Z
UID:16716-1732726800-1732737600@ofix.or.jp
SUMMARY:（アイハウス）行政書士相談 / (I-HOUSE) Visa Consultation (Visa Lawyer)
DESCRIPTION:詳しくはこちら/For more details:\n大阪国際交流センター (Osaka International House Foundation)
URL:https://ofix.or.jp/calendar/%ef%bc%88%e3%82%a2%e3%82%a4%e3%83%8f%e3%82%a6%e3%82%b9%ef%bc%89%e8%a1%8c%e6%94%bf%e6%9b%b8%e5%a3%ab%e7%9b%b8%e8%ab%87-i-house-visa-consultation-visa-lawyer-3/
END:VEVENT
BEGIN:VEVENT
DTSTART;TZID=Asia/Tokyo:20241128T090000
DTEND;TZID=Asia/Tokyo:20241128T210000
DTSTAMP:20260423T151545
CREATED:20240821T072639Z
LAST-MODIFIED:20240822T020659Z
UID:16334-1732784400-1732827600@ofix.or.jp
SUMMARY:夜間集中相談週間 / Consultation Week with Extended Night Hours
DESCRIPTION:11月22日（金）と11月25日（月）～28日（木）は夜9時まで開いています。\nWe will be open until 9 PM on Friday\, November 22nd\, and from Monday\, November 25th to Thursday\, November 28th.
URL:https://ofix.or.jp/calendar/night-hours-1128/
LOCATION:OFIX\, マイドームおおさか５階
ORGANIZER;CN="%E5%A4%A7%E9%98%AA%E5%BA%9C%E5%A4%96%E5%9B%BD%E4%BA%BA%E6%83%85%E5%A0%B1%E3%82%B3%E3%83%BC%E3%83%8A%E3%83%BC/Osaka Information Service for Foreign Residents":MAILTO:jouhou-c@ofix.or.jp
END:VEVENT
BEGIN:VEVENT
DTSTART;TZID=Asia/Tokyo:20241128T180000
DTEND;TZID=Asia/Tokyo:20241128T200000
DTSTAMP:20260423T151545
CREATED:20240821T082150Z
LAST-MODIFIED:20240821T082150Z
UID:16348-1732816800-1732824000@ofix.or.jp
SUMMARY:労働相談 / Labor Consultation
DESCRIPTION:無料・秘密厳守 / FREE OF CHARGE AND STRICTLY CONFIDENTIAL \nあなたの国くにのことばで　話はなすことができます。\nお金かねは　かかりません。（0円えんです）。\nひみつは　まもります。\n通訳つうやくが　います。（English\, 中文\, 한국·조선어\, Português\, Español\, ไทย\, Filipino\, Tiếng Việt\, Indonesia\, नेपाली）\n予約よやくを　してください。予約受付よやくうけつけは　当日とうじつ19:00まで。 \nInterpretation services are available in English\, Chinese\, Korean\, Portuguese\, Spanish\, Thai\, Filipino\, Vietnamese\, Indonesian and Nepali.\nA reservation is required. The reservation deadline is by 19:00 of the consultation day. \n【相談そうだんの方法ほうほう・Method】\nOFIXに行いく / 電話でんわ / オンライン（ZOOM）\nIn person\, by phone or online \n【相談そうだんの内容ないよう・Topics】\n仕事しごとで困こまっていること、仕事しごとの規則きそくやお金かねのこと、職場しょくばの仲間なかまや上司じょうしのトラブル 、同おなじところで働はたらいている人ひと　との問題もんだい　など\nLabor issues concerning wages\, dismissal\, resignation\, working hours\, labor contracts\, sexual harassment\, power harassment\, etc.
URL:https://ofix.or.jp/calendar/labor-1128/
LOCATION:OFIX\, マイドームおおさか５階
CATEGORIES:相談/Consultation
ORGANIZER;CN="%E5%A4%A7%E9%98%AA%E5%BA%9C%E5%A4%96%E5%9B%BD%E4%BA%BA%E6%83%85%E5%A0%B1%E3%82%B3%E3%83%BC%E3%83%8A%E3%83%BC/Osaka Information Service for Foreign Residents":MAILTO:jouhou-c@ofix.or.jp
END:VEVENT
BEGIN:VEVENT
DTSTART;TZID=Asia/Tokyo:20241129T210000
DTEND;TZID=Asia/Tokyo:20241201T220000
DTSTAMP:20260423T151545
CREATED:20241106T062359Z
LAST-MODIFIED:20241106T062359Z
UID:17140-1732914000-1733090400@ofix.or.jp
SUMMARY:社会福祉協議会と連携した在住外国人支援事業　能登地域でのボランティア活動
DESCRIPTION:社会福祉協議会と連携した在住外国人支援事業　能登地域でのボランティア活動を実施します。\n詳しくは、下記【ご案内】をご覧ください。\n【ご案内】能登地域でのボランティア活動
URL:https://ofix.or.jp/calendar/%e7%a4%be%e4%bc%9a%e7%a6%8f%e7%a5%89%e5%8d%94%e8%ad%b0%e4%bc%9a%e3%81%a8%e9%80%a3%e6%90%ba%e3%81%97%e3%81%9f%e5%9c%a8%e4%bd%8f%e5%a4%96%e5%9b%bd%e4%ba%ba%e6%94%af%e6%8f%b4%e4%ba%8b%e6%a5%ad%e3%80%80/
CATEGORIES:イベント/Event
ORGANIZER;CN="OFIX":MAILTO:kikakusuishin@ofix.or.jp
END:VEVENT
BEGIN:VEVENT
DTSTART;TZID=Asia/Tokyo:20241130T133000
DTEND;TZID=Asia/Tokyo:20241130T160000
DTSTAMP:20260423T151545
CREATED:20241010T053840Z
LAST-MODIFIED:20241010T053840Z
UID:16877-1732973400-1732982400@ofix.or.jp
SUMMARY:（京都市）法律・ビザ相談 / (Kyoto City) Legal / Visa Consultation
DESCRIPTION:詳しくはこちら/For more details:\n京都市国際交流協会 (Kyoto City International Foundation) 
URL:https://ofix.or.jp/calendar/%ef%bc%88%e4%ba%ac%e9%83%bd%e5%b8%82%ef%bc%89%e6%b3%95%e5%be%8b%e3%83%bb%e3%83%93%e3%82%b6%e7%9b%b8%e8%ab%87-kyoto-city-legal-visa-consultation-4/
END:VEVENT
BEGIN:VEVENT
DTSTART;TZID=Asia/Tokyo:20241202T133000
DTEND;TZID=Asia/Tokyo:20241202T173000
DTSTAMP:20260423T151545
CREATED:20240904T042618Z
LAST-MODIFIED:20240904T042618Z
UID:16631-1733146200-1733160600@ofix.or.jp
SUMMARY:労働相談 / Labor Consultation
DESCRIPTION:無料・秘密厳守 / FREE OF CHARGE AND STRICTLY CONFIDENTIAL \nあなたの国のことばで　話すことができます。\nお金は　かかりません。（0円です）。\nひみつは　まもります。\n通訳が　います。\n（English\, 中文\, 한국·조선어\, Português\, Español\, ไทย\, Filipino\, Tiếng Việt\, Indonesia\, नेपाली）\n予約を　してください。予約受付は　当日16:30まで。 \nInterpretation services are available in English\, Chinese\, Korean\, Portuguese\, Spanish\, Thai\, Filipino\, Vietnamese\, Indonesian and Nepali.\nA reservation is required. The reservation deadline is by 16:30 of the consultation day. \n【相談の方法・Method】\nOFIXに行く / 電話 / オンライン（ZOOM）\nIn person\, by phone or online \n【相談の内容・Topics】\n仕事で困っていること、仕事の規則やお金のこと、職場の仲間や上司のトラブル 、同じところで働いている人　との問題　など\nLabor issues concerning wages\, dismissal\, resignation\, working hours\, labor contracts\, sexual harassment\, power harassment\, etc.
URL:https://ofix.or.jp/calendar/%e5%8a%b4%e5%83%8d%e7%9b%b8%e8%ab%87-labor-consultation-9/
LOCATION:OFIX\, マイドームおおさか５階
CATEGORIES:相談/Consultation
ORGANIZER;CN="%E5%A4%A7%E9%98%AA%E5%BA%9C%E5%A4%96%E5%9B%BD%E4%BA%BA%E6%83%85%E5%A0%B1%E3%82%B3%E3%83%BC%E3%83%8A%E3%83%BC/Osaka Information Service for Foreign Residents":MAILTO:jouhou-c@ofix.or.jp
END:VEVENT
BEGIN:VEVENT
DTSTART;TZID=Asia/Tokyo:20241204T130000
DTEND;TZID=Asia/Tokyo:20241204T160000
DTSTAMP:20260423T151545
CREATED:20241010T055640Z
LAST-MODIFIED:20241010T055640Z
UID:16897-1733317200-1733328000@ofix.or.jp
SUMMARY:(アイハウス) 弁護士相談 （大阪市民のみ）/ (I-HOUSE) Legal Consultation (for Osaka City residents)
DESCRIPTION:詳しくはこちら/For more details:\n(アイハウス) 弁護士相談 （大阪市民のみ）/ (I-HOUSE) Legal Consultation (for Osaka City residents)
URL:https://ofix.or.jp/calendar/%e3%82%a2%e3%82%a4%e3%83%8f%e3%82%a6%e3%82%b9-%e5%bc%81%e8%ad%b7%e5%a3%ab%e7%9b%b8%e8%ab%87-%ef%bc%88%e5%a4%a7%e9%98%aa%e5%b8%82%e6%b0%91%e3%81%ae%e3%81%bf%ef%bc%89-i-house-legal-consultation-fo-2/
END:VEVENT
BEGIN:VEVENT
DTSTART;TZID=Asia/Tokyo:20241207T133000
DTEND;TZID=Asia/Tokyo:20241207T160000
DTSTAMP:20260423T151545
CREATED:20241010T053937Z
LAST-MODIFIED:20241010T053937Z
UID:16879-1733578200-1733587200@ofix.or.jp
SUMMARY:（京都市）法律・ビザ相談 / (Kyoto City) Legal / Visa Consultation
DESCRIPTION:詳しくはこちら/For more details:\n京都市国際交流協会 (Kyoto City International Foundation) 
URL:https://ofix.or.jp/calendar/%ef%bc%88%e4%ba%ac%e9%83%bd%e5%b8%82%ef%bc%89%e6%b3%95%e5%be%8b%e3%83%bb%e3%83%93%e3%82%b6%e7%9b%b8%e8%ab%87-kyoto-city-legal-visa-consultation-5/
END:VEVENT
BEGIN:VEVENT
DTSTART;TZID=Asia/Tokyo:20241210T130000
DTEND;TZID=Asia/Tokyo:20241210T160000
DTSTAMP:20260423T151545
CREATED:20241010T060426Z
LAST-MODIFIED:20241010T060426Z
UID:16899-1733835600-1733846400@ofix.or.jp
SUMMARY:(アイハウス) 弁護士相談 / (I-HOUSE) Legal Consultation
DESCRIPTION:詳しくはこちら/For more details:\n(アイハウス) 弁護士相談 / (I-HOUSE) Legal Consultation
URL:https://ofix.or.jp/calendar/%e3%82%a2%e3%82%a4%e3%83%8f%e3%82%a6%e3%82%b9-%e5%bc%81%e8%ad%b7%e5%a3%ab%e7%9b%b8%e8%ab%87-i-house-legal-consultation-3/
END:VEVENT
BEGIN:VEVENT
DTSTART;TZID=Asia/Tokyo:20241210T130000
DTEND;TZID=Asia/Tokyo:20241210T160000
DTSTAMP:20260423T151545
CREATED:20241107T050746Z
LAST-MODIFIED:20241107T050746Z
UID:17157-1733835600-1733846400@ofix.or.jp
SUMMARY:（吹田市）弁護士相談 / (SIFA) Legal Consultation
DESCRIPTION:詳しくはこちら/For more details: \n吹田市多文化共生ワンストップ相談センター（Suita Multilingual One stop Consultation Center） \n 
URL:https://ofix.or.jp/calendar/%ef%bc%88%e5%90%b9%e7%94%b0%e5%b8%82%ef%bc%89%e5%bc%81%e8%ad%b7%e5%a3%ab%e7%9b%b8%e8%ab%87-sifa-legal-consultation/
END:VEVENT
END:VCALENDAR