BEGIN:VCALENDAR
VERSION:2.0
PRODID:-//公益財団法人 大阪府国際交流財団 Osaka Foundation of International Exchange (OFIX) - ECPv6.15.20//NONSGML v1.0//EN
CALSCALE:GREGORIAN
METHOD:PUBLISH
X-ORIGINAL-URL:https://ofix.or.jp
X-WR-CALDESC:公益財団法人 大阪府国際交流財団 Osaka Foundation of International Exchange (OFIX) のイベント
REFRESH-INTERVAL;VALUE=DURATION:PT1H
X-Robots-Tag:noindex
X-PUBLISHED-TTL:PT1H
BEGIN:VTIMEZONE
TZID:Asia/Tokyo
BEGIN:STANDARD
TZOFFSETFROM:+0900
TZOFFSETTO:+0900
TZNAME:JST
DTSTART:20230101T000000
END:STANDARD
END:VTIMEZONE
BEGIN:VEVENT
DTSTART;TZID=Asia/Tokyo:20240819T133000
DTEND;TZID=Asia/Tokyo:20240819T173000
DTSTAMP:20260421T070323
CREATED:20240718T060328Z
LAST-MODIFIED:20240802T111457Z
UID:15779-1724074200-1724088600@ofix.or.jp
SUMMARY:労働相談/Labor Consultation
DESCRIPTION:無料・秘密厳守/FREE OF CHARGE AND STRICTLY CONFIDENTIAL \nあなたの国のことばで　話すことができます。\nお金は　かかりません。（0円です）。\nひみつは　まもります。\n通訳がいます。（English\, 中文\, 한국·조선어\, Português\, Español\, ไทย\, Filipino\, Tiếng Việt\, Indonesia\, नेपाली）\n予約を　してください。予約受付は当日16:30まで。 \nInterpretation services are available in English\, Chinese\, Korean\, Portuguese\, Spanish\, Thai\, Filipino\, Vietnamese\, Indonesian and Nepali.\nA reservation is required. The reservation deadline is by 16:30 of the consultation day. \n【相談の方法・Method】\nOFIXに行く / 電話 / オンライン（ZOOM）\nIn person\, by phone or online \n【相談の内容・Topics】\n仕事で困っていること、仕事の規則やお金のこと、職場の仲間や上司のトラブル 、同じところで働いている人　との問題　など\nLabor issues concerning wages\, dismissal\, resignation\, working hours\, labor contracts\, sexual harassment\, power harassment\, etc.
URL:https://ofix.or.jp/calendar/%e5%8a%b4%e5%83%8d%e7%9b%b8%e8%ab%87-labor-consultation-7/
LOCATION:OFIX\, マイドームおおさか５階
CATEGORIES:相談/Consultation
ORGANIZER;CN="%E5%A4%A7%E9%98%AA%E5%BA%9C%E5%A4%96%E5%9B%BD%E4%BA%BA%E6%83%85%E5%A0%B1%E3%82%B3%E3%83%BC%E3%83%8A%E3%83%BC/Osaka Information Service for Foreign Residents":MAILTO:jouhou-c@ofix.or.jp
END:VEVENT
BEGIN:VEVENT
DTSTART;TZID=Asia/Tokyo:20240820T130000
DTEND;TZID=Asia/Tokyo:20240820T160000
DTSTAMP:20260421T070323
CREATED:20240802T092556Z
LAST-MODIFIED:20240802T092556Z
UID:15977-1724158800-1724169600@ofix.or.jp
SUMMARY:(アイハウス) 入管相談/ (I-HOUSE) Immigration Consultation
DESCRIPTION:詳しくはこちら/For more details:\n(アイハウス) 入管相談/ (I-HOUSE) Immigration Consultation
URL:https://ofix.or.jp/calendar/%e3%82%a2%e3%82%a4%e3%83%8f%e3%82%a6%e3%82%b9-%e5%85%a5%e7%ae%a1%e7%9b%b8%e8%ab%87-i-house-immigration-consultation/
END:VEVENT
BEGIN:VEVENT
DTSTART;TZID=Asia/Tokyo:20240821T170000
DTEND;TZID=Asia/Tokyo:20240821T200000
DTSTAMP:20260421T070323
CREATED:20240802T092820Z
LAST-MODIFIED:20240802T093128Z
UID:15979-1724259600-1724270400@ofix.or.jp
SUMMARY:(アイハウス) 法律相談 （大阪市民のみ）/ (I-HOUSE) Legal Consultation (for Osaka City residents)
DESCRIPTION:詳しくはこちら/For more details:\n(アイハウス) 法律相談 （大阪市民のみ）/ (I-HOUSE) Legal Consultation (for Osaka City residents)
URL:https://ofix.or.jp/calendar/%e3%82%a2%e3%82%a4%e3%83%8f%e3%82%a6%e3%82%b9-%e6%b3%95%e5%be%8b%e7%9b%b8%e8%ab%87-i-house-legal-consultation-2/
END:VEVENT
BEGIN:VEVENT
DTSTART;TZID=Asia/Tokyo:20240823T180000
DTEND;TZID=Asia/Tokyo:20240823T210000
DTSTAMP:20260421T070323
CREATED:20240718T064118Z
LAST-MODIFIED:20240802T113302Z
UID:15781-1724436000-1724446800@ofix.or.jp
SUMMARY:臨床心理士（心の）相談/Certified Clinical Psychologist Consultation
DESCRIPTION:無料・秘密厳守/FREE OF CHARGE AND STRICTLY CONFIDENTIAL \nあなたの国のことばで　話すことができます。\nお金は　かかりません。（0円です）。\nひみつは　まもります。\n通訳がいます。（English\, 中文\, 한국·조선어\, Português\, Español\, ไทย\, Filipino\, Tiếng Việt\, Indonesia\, नेपाली）\n予約を　してください。予約受付は前日16:30まで。\nInterpretation services are available in English\, Chinese\, Korean\, Portuguese\, Spanish\, Thai\, Filipino\, Vietnamese\, Indonesian and Nepali. \nA reservation is required. The reservation deadline is by 16:30 on the previous day. \n【相談の方法・Method】\nOFIXに行く\nIn person \n【相談の内容・Topics】\n悩みがあるのに話す人がいない、心がつらい など\nWishing to have someone hear about your worries\, having a mentally tough time\, etc\,
URL:https://ofix.or.jp/calendar/%e8%87%a8%e5%ba%8a%e5%bf%83%e7%90%86%e5%a3%ab%ef%bc%88%e5%bf%83%e3%81%ae%ef%bc%89%e7%9b%b8%e8%ab%87-certified-clinical-psychologist-consultation-2/
LOCATION:OFIX\, マイドームおおさか５階
CATEGORIES:相談/Consultation
ORGANIZER;CN="%E5%A4%A7%E9%98%AA%E5%BA%9C%E5%A4%96%E5%9B%BD%E4%BA%BA%E6%83%85%E5%A0%B1%E3%82%B3%E3%83%BC%E3%83%8A%E3%83%BC/Osaka Information Service for Foreign Residents":MAILTO:jouhou-c@ofix.or.jp
END:VEVENT
BEGIN:VEVENT
DTSTART;TZID=Asia/Tokyo:20240825T090000
DTEND;TZID=Asia/Tokyo:20240825T173000
DTSTAMP:20260421T070323
CREATED:20240819T002447Z
LAST-MODIFIED:20240819T051326Z
UID:16254-1724576400-1724607000@ofix.or.jp
SUMMARY:対応時間 / Office Hours 9:00～17:30
DESCRIPTION:8月25日（日）は、9:00～17:30まで外国人情報（がいこくじん じょうほう）コーナーは開（あ）いています。 \nOffice hours for the Osaka Information Service are 9:00-17:30 on Sunday\, August 25th.
URL:https://ofix.or.jp/calendar/august/
LOCATION:OFIX\, マイドームおおさか５階
ORGANIZER;CN="%E5%A4%A7%E9%98%AA%E5%BA%9C%E5%A4%96%E5%9B%BD%E4%BA%BA%E6%83%85%E5%A0%B1%E3%82%B3%E3%83%BC%E3%83%8A%E3%83%BC/Osaka Information Service for Foreign Residents":MAILTO:jouhou-c@ofix.or.jp
END:VEVENT
BEGIN:VEVENT
DTSTART;TZID=Asia/Tokyo:20240825T133000
DTEND;TZID=Asia/Tokyo:20240825T163000
DTSTAMP:20260421T070323
CREATED:20240718T064718Z
LAST-MODIFIED:20240822T050149Z
UID:15789-1724592600-1724603400@ofix.or.jp
SUMMARY:弁護士専門相談 / Legal Consultation
DESCRIPTION:無料・秘密厳守 / FREE OF CHARGE AND STRICTLY CONFIDENTIAL \nあなたの国のことばで　話すことができます。\nお金は　かかりません。（0円です）。\nひみつは　まもります。\n通訳がいます。（English\, 中文\, 한국·조선어\, Português\, Español\, ไทย\, Filipino\, Tiếng Việt\, Indonesia\, नेपाली）\n予約を　してください。予約受付は当日15:30まで。 \nInterpretation services are available in English\, Chinese\, Korean\, Portuguese\, Spanish\, Thai\, Filipino\, Vietnamese\, Indonesian and Nepali.\nA reservation is required.\nThe reservation deadline is by 15:30 of the consultation day. \n【相談の方法・Method】\nOFIXに行く / 電話 / オンライン（ZOOM）\nIn person\, by phone or online \n【相談の内容・Topics】\n家族の問題で困っていること（結婚、離婚、子ども、財産をもらう、など）、契約トラブル事故、犯罪、など\nLegal matters including divorce\, child custody\, human rights\, domestic violence\, trouble in the workplaces\, consumer troubles and crimes/accidents
URL:https://ofix.or.jp/calendar/legal-0825/
CATEGORIES:相談/Consultation
ORGANIZER;CN="%E5%A4%A7%E9%98%AA%E5%BA%9C%E5%A4%96%E5%9B%BD%E4%BA%BA%E6%83%85%E5%A0%B1%E3%82%B3%E3%83%BC%E3%83%8A%E3%83%BC/Osaka Information Service for Foreign Residents":MAILTO:jouhou-c@ofix.or.jp
END:VEVENT
BEGIN:VEVENT
DTSTART;TZID=Asia/Tokyo:20240827T130000
DTEND;TZID=Asia/Tokyo:20240827T160000
DTSTAMP:20260421T070323
CREATED:20240802T103628Z
LAST-MODIFIED:20240802T103628Z
UID:16001-1724763600-1724774400@ofix.or.jp
SUMMARY:(すいたし) ビザ相談/ (SIFA) Visa Consultation
DESCRIPTION:詳しくはこちら/For more details:\n(すいたし) ビザ相談/ (SIFA) Visa Consultation
URL:https://ofix.or.jp/calendar/%e3%81%99%e3%81%84%e3%81%9f%e3%81%97-%e3%83%93%e3%82%b6%e7%9b%b8%e8%ab%87-sifa-visa-consultation/
END:VEVENT
BEGIN:VEVENT
DTSTART;TZID=Asia/Tokyo:20240828T133000
DTEND;TZID=Asia/Tokyo:20240828T173000
DTSTAMP:20260421T070323
CREATED:20240718T064358Z
LAST-MODIFIED:20240802T112118Z
UID:15785-1724851800-1724866200@ofix.or.jp
SUMMARY:入管相談/Immigration Consultation
DESCRIPTION:無料・秘密厳守/FREE OF CHARGE AND STRICTLY CONFIDENTIAL \nあなたの国のことばで　話すことができます。\nお金は　かかりません。（0円です）。\nひみつは　まもります。\n通訳がいます。（English\, 中文\, 한국·조선어\, Português\, Español\, ไทย\, Filipino\, Tiếng Việt\, Indonesia\, नेपाली）\n予約を　してください。予約受付は当日16:30まで。 \nInterpretation services are available in English\, Chinese\, Korean\, Portuguese\, Spanish\, Thai\, Filipino\, Vietnamese\, Indonesian and Nepali.\nA reservation is required. The reservation deadline is by 16:30 of the consultation day. \n【相談の方法・Method】\nOFIXに行く / 電話 / オンライン（ZOOM）\nIn person\, by phone or online \n【相談の内容・Topics】\nビザ（在留資格）など\nImmigration matters\, including residence status
URL:https://ofix.or.jp/calendar/%e5%85%a5%e7%ae%a1%e7%9b%b8%e8%ab%87-immigration-consultation-3/
LOCATION:OFIX\, マイドームおおさか５階
CATEGORIES:相談/Consultation
ORGANIZER;CN="%E5%A4%A7%E9%98%AA%E5%BA%9C%E5%A4%96%E5%9B%BD%E4%BA%BA%E6%83%85%E5%A0%B1%E3%82%B3%E3%83%BC%E3%83%8A%E3%83%BC/Osaka Information Service for Foreign Residents":MAILTO:jouhou-c@ofix.or.jp
END:VEVENT
BEGIN:VEVENT
DTSTART;TZID=Asia/Tokyo:20240828T170000
DTEND;TZID=Asia/Tokyo:20240828T200000
DTSTAMP:20260421T070323
CREATED:20240802T093421Z
LAST-MODIFIED:20240802T093421Z
UID:15983-1724864400-1724875200@ofix.or.jp
SUMMARY:(アイハウス) ビザ相談 / (I-HOUSE) Visa Consultation
DESCRIPTION:詳しくはこちら/For more details:\n(アイハウス) ビザ相談 / (I-HOUSE) Visa Consultation
URL:https://ofix.or.jp/calendar/%e3%82%a2%e3%82%a4%e3%83%8f%e3%82%a6%e3%82%b9-%e3%83%93%e3%82%b6%e7%9b%b8%e8%ab%87-i-house-visa-consultation-4/
END:VEVENT
BEGIN:VEVENT
DTSTART;TZID=Asia/Tokyo:20240830T090000
DTEND;TZID=Asia/Tokyo:20240830T150000
DTSTAMP:20260421T070323
CREATED:20240829T083724Z
LAST-MODIFIED:20240830T002345Z
UID:16529-1725008400-1725030000@ofix.or.jp
SUMMARY:対面相談は午後3時まで / Face-to-face consultations available until 3pm
DESCRIPTION:台風10号の接近に伴う、大阪府外国人情報コーナーの対応について | 公益財団法人 大阪府国際交流財団 Osaka Foundation of International Exchange (OFIX) \n電話相談は、夜9時までです。\nConsultations by phone are available until 9pm\, as usual.
URL:https://ofix.or.jp/calendar/until-3pm/
LOCATION:OFIX\, マイドームおおさか５階
ORGANIZER;CN="%E5%A4%A7%E9%98%AA%E5%BA%9C%E5%A4%96%E5%9B%BD%E4%BA%BA%E6%83%85%E5%A0%B1%E3%82%B3%E3%83%BC%E3%83%8A%E3%83%BC/Osaka Information Service for Foreign Residents":MAILTO:jouhou-c@ofix.or.jp
END:VEVENT
BEGIN:VEVENT
DTSTART;TZID=Asia/Tokyo:20240902T133000
DTEND;TZID=Asia/Tokyo:20240902T173000
DTSTAMP:20260421T070323
CREATED:20240802T104053Z
LAST-MODIFIED:20240829T005455Z
UID:16004-1725283800-1725298200@ofix.or.jp
SUMMARY:労働相談/Labor Consultation
DESCRIPTION:無料・秘密厳守/FREE OF CHARGE AND STRICTLY CONFIDENTIAL \nあなたの国のことばで　話すことができます。\nお金は　かかりません。（0円です）。\nひみつは　まもります。\n通訳がいます。（English\, 中文\, 한국·조선어\, Português\, Español\, ไทย\, Filipino\, Tiếng Việt\, Indonesia\, नेपाली）\n予約を　してください。予約受付は当日16:30まで。 \nInterpretation services are available in English\, Chinese\, Korean\, Portuguese\, Spanish\, Thai\, Filipino\, Vietnamese\, Indonesian and Nepali.\nA reservation is required. The reservation deadline is by 16:30 of the consultation day. \n【相談の方法・Method】\nOFIXに行く / 電話 / オンライン（ZOOM）\nIn person\, by phone or online \n【相談の内容・Topics】\n仕事で困っていること、仕事の規則やお金のこと、職場の仲間や上司のトラブル 、同じところで働いている人　との問題　など\nLabor issues concerning wages\, dismissal\, resignation\, working hours\, labor contracts\, sexual harassment\, power harassment\, etc.
URL:https://ofix.or.jp/calendar/%e5%8a%b4%e5%83%8d%e7%9b%b8%e8%ab%87-labor-consultation-8/
LOCATION:OFIX\, マイドームおおさか５階
CATEGORIES:相談/Consultation
ORGANIZER;CN="%E5%A4%A7%E9%98%AA%E5%BA%9C%E5%A4%96%E5%9B%BD%E4%BA%BA%E6%83%85%E5%A0%B1%E3%82%B3%E3%83%BC%E3%83%8A%E3%83%BC/Osaka Information Service for Foreign Residents":MAILTO:jouhou-c@ofix.or.jp
END:VEVENT
BEGIN:VEVENT
DTSTART;TZID=Asia/Tokyo:20240904T130000
DTEND;TZID=Asia/Tokyo:20240904T160000
DTSTAMP:20260421T070323
CREATED:20240802T100925Z
LAST-MODIFIED:20240802T100925Z
UID:15985-1725454800-1725465600@ofix.or.jp
SUMMARY:(アイハウス) 法律相談 （大阪市民のみ）/ (I-HOUSE) Legal Consultation (for Osaka City residents)
DESCRIPTION:詳しくはこちら/For more details:\n(アイハウス) 法律相談 （大阪市民のみ）/ (I-HOUSE) Legal Consultation (for Osaka City residents)
URL:https://ofix.or.jp/calendar/%e3%82%a2%e3%82%a4%e3%83%8f%e3%82%a6%e3%82%b9-%e6%b3%95%e5%be%8b%e7%9b%b8%e8%ab%87-%ef%bc%88%e5%a4%a7%e9%98%aa%e5%b8%82%e6%b0%91%e3%81%ae%e3%81%bf%ef%bc%89-i-house-legal-consultation-for-osaka-c-2/
END:VEVENT
BEGIN:VEVENT
DTSTART;TZID=Asia/Tokyo:20240910T170000
DTEND;TZID=Asia/Tokyo:20240910T200000
DTSTAMP:20260421T070323
CREATED:20240802T101147Z
LAST-MODIFIED:20240802T101147Z
UID:15987-1725987600-1725998400@ofix.or.jp
SUMMARY:(アイハウス) 法律相談 / (I-HOUSE) Legal Consultation
DESCRIPTION:詳しくはこちら/For more details:\n(アイハウス) 法律相談 / (I-HOUSE) Legal Consultation
URL:https://ofix.or.jp/calendar/%e3%82%a2%e3%82%a4%e3%83%8f%e3%82%a6%e3%82%b9-%e6%b3%95%e5%be%8b%e7%9b%b8%e8%ab%87-i-house-legal-consultation-3/
END:VEVENT
BEGIN:VEVENT
DTSTART;TZID=Asia/Tokyo:20240911T130000
DTEND;TZID=Asia/Tokyo:20240911T160000
DTSTAMP:20260421T070323
CREATED:20240802T101331Z
LAST-MODIFIED:20240802T101331Z
UID:15989-1726059600-1726070400@ofix.or.jp
SUMMARY:(アイハウス) ビザ相談 / (I-HOUSE) Visa Consultation
DESCRIPTION:詳しくはこちら/For more details:\n(アイハウス) ビザ相談 / (I-HOUSE) Visa Consultation
URL:https://ofix.or.jp/calendar/%e3%82%a2%e3%82%a4%e3%83%8f%e3%82%a6%e3%82%b9-%e3%83%93%e3%82%b6%e7%9b%b8%e8%ab%87-i-house-visa-consultation-5/
END:VEVENT
BEGIN:VEVENT
DTSTART;TZID=Asia/Tokyo:20240911T130000
DTEND;TZID=Asia/Tokyo:20240911T160000
DTSTAMP:20260421T070323
CREATED:20240802T104444Z
LAST-MODIFIED:20240802T104444Z
UID:16006-1726059600-1726070400@ofix.or.jp
SUMMARY:（すいたし）法律相談 / (SIFA) Legal Consultation
DESCRIPTION:詳しくはこちら/For more details:\n（すいたし）法律相談 / (SIFA) Legal Consultation
URL:https://ofix.or.jp/calendar/%ef%bc%88%e3%81%99%e3%81%84%e3%81%9f%e3%81%97%ef%bc%89%e6%b3%95%e5%be%8b%e7%9b%b8%e8%ab%87-sifa-legal-consultation/
END:VEVENT
BEGIN:VEVENT
DTSTART;TZID=Asia/Tokyo:20240917T130000
DTEND;TZID=Asia/Tokyo:20240917T160000
DTSTAMP:20260421T070323
CREATED:20240802T101530Z
LAST-MODIFIED:20240802T101530Z
UID:15991-1726578000-1726588800@ofix.or.jp
SUMMARY:(アイハウス) 入管相談/ (I-HOUSE) Immigration Consultation
DESCRIPTION:詳しくはこちら/For more details:\n(アイハウス) 入管相談/ (I-HOUSE) Immigration Consultation
URL:https://ofix.or.jp/calendar/%e3%82%a2%e3%82%a4%e3%83%8f%e3%82%a6%e3%82%b9-%e5%85%a5%e7%ae%a1%e7%9b%b8%e8%ab%87-i-house-immigration-consultation-2/
END:VEVENT
BEGIN:VEVENT
DTSTART;TZID=Asia/Tokyo:20240918T130000
DTEND;TZID=Asia/Tokyo:20240918T160000
DTSTAMP:20260421T070323
CREATED:20240802T101723Z
LAST-MODIFIED:20240802T101723Z
UID:15993-1726664400-1726675200@ofix.or.jp
SUMMARY:(アイハウス) 法律相談 （大阪市民のみ）/ (I-HOUSE) Legal Consultation (for Osaka City residents)
DESCRIPTION:詳しくはこちら/For more details:\n(アイハウス) 法律相談 （大阪市民のみ）/ (I-HOUSE) Legal Consultation (for Osaka City residents)
URL:https://ofix.or.jp/calendar/%e3%82%a2%e3%82%a4%e3%83%8f%e3%82%a6%e3%82%b9-%e6%b3%95%e5%be%8b%e7%9b%b8%e8%ab%87-%ef%bc%88%e5%a4%a7%e9%98%aa%e5%b8%82%e6%b0%91%e3%81%ae%e3%81%bf%ef%bc%89-i-house-legal-consultation-for-osaka-c-3/
END:VEVENT
BEGIN:VEVENT
DTSTART;TZID=Asia/Tokyo:20240919T130000
DTEND;TZID=Asia/Tokyo:20240919T160000
DTSTAMP:20260421T070323
CREATED:20240802T105140Z
LAST-MODIFIED:20240802T105140Z
UID:16008-1726750800-1726761600@ofix.or.jp
SUMMARY:(わかやま) 法律相談 / (WIEC) Legal Consultation
DESCRIPTION:詳しくはこちら/For more details:\n(わかやま) 法律相談 / (WIEC) Legal Consultation
URL:https://ofix.or.jp/calendar/%e3%82%8f%e3%81%8b%e3%82%84%e3%81%be-%e6%b3%95%e5%be%8b%e7%9b%b8%e8%ab%87-wiec-legal-consultation/
END:VEVENT
BEGIN:VEVENT
DTSTART;TZID=Asia/Tokyo:20240920T090000
DTEND;TZID=Asia/Tokyo:20240920T210000
DTSTAMP:20260421T070323
CREATED:20240802T114514Z
LAST-MODIFIED:20240802T114514Z
UID:16030-1726822800-1726866000@ofix.or.jp
SUMMARY:夜間集中相談週間 / Consultation Week with Extended Night Hours
DESCRIPTION:
URL:https://ofix.or.jp/calendar/%e5%a4%9c%e9%96%93%e9%9b%86%e4%b8%ad%e7%9b%b8%e8%ab%87%e9%80%b1%e9%96%93-consultation-week-with-extended-night-hours-4/
LOCATION:OFIX\, マイドームおおさか５階
ORGANIZER;CN="%E5%A4%A7%E9%98%AA%E5%BA%9C%E5%A4%96%E5%9B%BD%E4%BA%BA%E6%83%85%E5%A0%B1%E3%82%B3%E3%83%BC%E3%83%8A%E3%83%BC/Osaka Information Service for Foreign Residents":MAILTO:jouhou-c@ofix.or.jp
END:VEVENT
BEGIN:VEVENT
DTSTART;TZID=Asia/Tokyo:20240920T140000
DTEND;TZID=Asia/Tokyo:20240920T160000
DTSTAMP:20260421T070323
CREATED:20240722T043036Z
LAST-MODIFIED:20240814T064747Z
UID:15853-1726840800-1726848000@ofix.or.jp
SUMMARY:参加者を募集しています！先輩外国人から社会人生活についてアドバイスを聞きませんか? / Looking for Participants: Let’s Hear from Veteran Foreign Residents about Working in Japan!
DESCRIPTION:【参加者を募集しています！先輩外国人から社会人生活についてアドバイスを聞きませんか】\n(English Below) \n9月20日（金）14:00～16:00に「第1回勉強会～先輩外国人からアドバイスを聞いて日本社会で生きていく自信を身につけよう！」を開催します。今後の日本での生活について考えている留学生、海外の方のために先輩外国人から社会人生活について聞けるイベントです。パネルディスカッションやグループディスカッションを通して日本語で話し合い、社会人生活について学べる貴重な機会です。 \n社会人の生活、日本で働くことなどについて聞きたい方はぜひご参加ください。 \n申込方法は以下をご確認ください。 \n【Looking for Participants: Let’s Hear from Veteran Foreign Residents about Working in Japan!】 \nWe are holding the first gathering for international students and residents “Let’s Learn from Veteran Foreign Residents!” on September 20th from 2pm to 4pm. This is a great opportunity for any international resident or student who is thinking about continuing to live in Japan and wants to hear from veteran foreign residents about working life in Japan. We will discuss different topics related to working life in Japan through a panel discussion and group discussions in Japanese. \nIf you want to know more about living and working in Japan\, please feel free to join! \n詳細にていて/For more details: https://ofix.or.jp/2024/08/14/working-in-japan/
URL:https://ofix.or.jp/calendar/%e5%8f%82%e5%8a%a0%e8%80%85%e3%82%92%e5%8b%9f%e9%9b%86%e3%81%97%e3%81%a6%e3%81%84%e3%81%be%e3%81%99%ef%bc%81%e5%85%88%e8%bc%a9%e5%a4%96%e5%9b%bd%e4%ba%ba%e3%81%8b%e3%82%89%e7%a4%be%e4%bc%9a%e4%ba%ba/
LOCATION:β本町橋、レンタルスペース「ラボ」 2階\, 大阪府大阪市中央区本町橋４−８
CATEGORIES:イベント/Event
ATTACH;FMTTYPE=image/png:https://ofix.or.jp/wp-content/uploads/2024/07/9月20日チラシ.png
ORGANIZER;CN="OFIX":MAILTO:kikakusuishin@ofix.or.jp
END:VEVENT
BEGIN:VEVENT
DTSTART;TZID=Asia/Tokyo:20240920T180000
DTEND;TZID=Asia/Tokyo:20240920T210000
DTSTAMP:20260421T070323
CREATED:20240802T105504Z
LAST-MODIFIED:20240829T005536Z
UID:16010-1726855200-1726866000@ofix.or.jp
SUMMARY:弁護士専門相談/Legal Consultation
DESCRIPTION:無料・秘密厳守/FREE OF CHARGE AND STRICTLY CONFIDENTIAL \nあなたの国のことばで　話すことができます。\nお金は　かかりません。（0円です）。\nひみつは　まもります。\n通訳がいます。（English\, 中文\, 한국·조선어\, Português\, Español\, ไทย\, Filipino\, Tiếng Việt\, Indonesia\, नेपाली）\n予約を　してください。予約受付は当日15:30まで。 \nInterpretation services are available in English\, Chinese\, Korean\, Portuguese\, Spanish\, Thai\, Filipino\, Vietnamese\, Indonesian and Nepali.\nA reservation is required.\nThe reservation deadline is by 15:30 of the consultation day. \n【相談の方法・Method】\nOFIXに行く / 電話 / オンライン（ZOOM）\nIn person\, by phone or online \n【相談の内容・Topics】\n家族の問題で困っていること（結婚、離婚、子ども、財産をもらう、など）、契約トラブル事故、犯罪、など\nLegal matters including divorce\, child custody\, human rights\, domestic violence\, trouble in the workplaces\, consumer troubles and crimes/accidents
URL:https://ofix.or.jp/calendar/%e5%bc%81%e8%ad%b7%e5%a3%ab%e7%9b%b8%e8%ab%87-legal-consultation/
LOCATION:OFIX\, マイドームおおさか５階
CATEGORIES:相談/Consultation
ORGANIZER;CN="%E5%A4%A7%E9%98%AA%E5%BA%9C%E5%A4%96%E5%9B%BD%E4%BA%BA%E6%83%85%E5%A0%B1%E3%82%B3%E3%83%BC%E3%83%8A%E3%83%BC/Osaka Information Service for Foreign Residents":MAILTO:jouhou-c@ofix.or.jp
END:VEVENT
BEGIN:VEVENT
DTSTART;TZID=Asia/Tokyo:20240921T130000
DTEND;TZID=Asia/Tokyo:20240921T170000
DTSTAMP:20260421T070323
CREATED:20240912T070801Z
LAST-MODIFIED:20240912T070801Z
UID:16698-1726923600-1726938000@ofix.or.jp
SUMMARY:（京都市）心の悩み相談 / (Kyoto City) Counseling Day
DESCRIPTION:詳しくはこちら/For more details:\n京都市国際交流協会 (Kyoto City International Foundation)
URL:https://ofix.or.jp/calendar/%ef%bc%88%e4%ba%ac%e9%83%bd%e5%b8%82%ef%bc%89%e5%bf%83%e3%81%ae%e6%82%a9%e3%81%bf%e7%9b%b8%e8%ab%87-kyoto-city-counseling-day/
END:VEVENT
BEGIN:VEVENT
DTSTART;TZID=Asia/Tokyo:20240922T130000
DTEND;TZID=Asia/Tokyo:20240922T163000
DTSTAMP:20260421T070323
CREATED:20240912T040450Z
LAST-MODIFIED:20240912T040450Z
UID:16677-1727010000-1727022600@ofix.or.jp
SUMMARY:（京都）在留資格の相談 / (Kyoto) Visa Consultation
DESCRIPTION:詳しくはこちら/For more details:\n京都府国際センター (Kyoto Prefectural International Center)
URL:https://ofix.or.jp/calendar/%ef%bc%88%e4%ba%ac%e9%83%bd%ef%bc%89%e5%9c%a8%e7%95%99%e8%b3%87%e6%a0%bc%e3%81%ae%e7%9b%b8%e8%ab%87-kyoto-visa-consultation/
END:VEVENT
BEGIN:VEVENT
DTSTART;TZID=Asia/Tokyo:20240922T133000
DTEND;TZID=Asia/Tokyo:20240922T163000
DTSTAMP:20260421T070323
CREATED:20240802T112920Z
LAST-MODIFIED:20240829T005616Z
UID:16018-1727011800-1727022600@ofix.or.jp
SUMMARY:行政書士専門相談/Bureaucratic Consultation
DESCRIPTION:無料・秘密厳守/FREE OF CHARGE AND STRICTLY CONFIDENTIAL \nあなたの国のことばで　話すことができます。\nお金は　かかりません。（0円です）。\nひみつは　まもります。\n通訳がいます。（English\, 中文\, 한국·조선어\, Português\, Español\, ไทย\, Filipino\, Tiếng Việt\, Indonesia\, नेपाली）\n予約を　してください。予約受付は当日15:30まで。 \nInterpretation services are available in English\, Chinese\, Korean\, Portuguese\, Spanish\, Thai\, Filipino\, Vietnamese\, Indonesian and Nepali.\nA reservation is required.\nThe reservation deadline is by 15:30 of the consultation day. \n【相談の方法・Method】\nOFIXに行く / 電話 / オンライン（ZOOM）\nIn person\, by phone or online \n【相談の内容・Topics】\nビザ（在留資格）のこと、帰化申請、永住許可、国際結婚や会社をつくる手続きなど\nVarious administrative issues concerning residence status\, naturalization\, permanent residency\, international marriage and setting up a business\, etc.
URL:https://ofix.or.jp/calendar/%e8%a1%8c%e6%94%bf%e6%9b%b8%e5%a3%ab%e5%b0%82%e9%96%80%e7%9b%b8%e8%ab%87-bureaucratic-consultation-2/
LOCATION:OFIX\, マイドームおおさか５階
CATEGORIES:相談/Consultation
ORGANIZER;CN="%E5%A4%A7%E9%98%AA%E5%BA%9C%E5%A4%96%E5%9B%BD%E4%BA%BA%E6%83%85%E5%A0%B1%E3%82%B3%E3%83%BC%E3%83%8A%E3%83%BC/Osaka Information Service for Foreign Residents":MAILTO:jouhou-c@ofix.or.jp
END:VEVENT
BEGIN:VEVENT
DTSTART;TZID=Asia/Tokyo:20240924T090000
DTEND;TZID=Asia/Tokyo:20240924T210000
DTSTAMP:20260421T070323
CREATED:20240802T114115Z
LAST-MODIFIED:20240802T114115Z
UID:16024-1727168400-1727211600@ofix.or.jp
SUMMARY:夜間集中相談週間 / Consultation Week with Extended Night Hours
DESCRIPTION:
URL:https://ofix.or.jp/calendar/%e5%a4%9c%e9%96%93%e9%9b%86%e4%b8%ad%e7%9b%b8%e8%ab%87%e9%80%b1%e9%96%93-consultation-week-with-extended-night-hours/
LOCATION:OFIX\, マイドームおおさか５階
ORGANIZER;CN="%E5%A4%A7%E9%98%AA%E5%BA%9C%E5%A4%96%E5%9B%BD%E4%BA%BA%E6%83%85%E5%A0%B1%E3%82%B3%E3%83%BC%E3%83%8A%E3%83%BC/Osaka Information Service for Foreign Residents":MAILTO:jouhou-c@ofix.or.jp
END:VEVENT
BEGIN:VEVENT
DTSTART;TZID=Asia/Tokyo:20240925T090000
DTEND;TZID=Asia/Tokyo:20240925T210000
DTSTAMP:20260421T070323
CREATED:20240802T114232Z
LAST-MODIFIED:20240802T114232Z
UID:16026-1727254800-1727298000@ofix.or.jp
SUMMARY:夜間集中相談週間 / Consultation Week with Extended Night Hours
DESCRIPTION:
URL:https://ofix.or.jp/calendar/%e5%a4%9c%e9%96%93%e9%9b%86%e4%b8%ad%e7%9b%b8%e8%ab%87%e9%80%b1%e9%96%93-consultation-week-with-extended-night-hours-2/
LOCATION:OFIX\, マイドームおおさか５階
ORGANIZER;CN="%E5%A4%A7%E9%98%AA%E5%BA%9C%E5%A4%96%E5%9B%BD%E4%BA%BA%E6%83%85%E5%A0%B1%E3%82%B3%E3%83%BC%E3%83%8A%E3%83%BC/Osaka Information Service for Foreign Residents":MAILTO:jouhou-c@ofix.or.jp
END:VEVENT
BEGIN:VEVENT
DTSTART;TZID=Asia/Tokyo:20240925T133000
DTEND;TZID=Asia/Tokyo:20240925T173000
DTSTAMP:20260421T070323
CREATED:20240802T113826Z
LAST-MODIFIED:20240829T005651Z
UID:16022-1727271000-1727285400@ofix.or.jp
SUMMARY:入管相談/Immigration Consultation
DESCRIPTION:無料・秘密厳守/FREE OF CHARGE AND STRICTLY CONFIDENTIAL \nあなたの国のことばで　話すことができます。\nお金は　かかりません。（0円です）。\nひみつは　まもります。\n通訳がいます。（English\, 中文\, 한국·조선어\, Português\, Español\, ไทย\, Filipino\, Tiếng Việt\, Indonesia\, नेपाली）\n予約を　してください。予約受付は当日16:30まで。 \nInterpretation services are available in English\, Chinese\, Korean\, Portuguese\, Spanish\, Thai\, Filipino\, Vietnamese\, Indonesian and Nepali.\nA reservation is required. The reservation deadline is by 16:30 of the consultation day. \n【相談の方法・Method】\nOFIXに行く / 電話 / オンライン（ZOOM）\nIn person\, by phone or online \n【相談の内容・Topics】\nビザ（在留資格）など\nImmigration matters\, including residence status
URL:https://ofix.or.jp/calendar/%e5%85%a5%e7%ae%a1%e7%9b%b8%e8%ab%87-immigration-consultation-4/
LOCATION:OFIX\, マイドームおおさか５階
CATEGORIES:相談/Consultation
ORGANIZER;CN="%E5%A4%A7%E9%98%AA%E5%BA%9C%E5%A4%96%E5%9B%BD%E4%BA%BA%E6%83%85%E5%A0%B1%E3%82%B3%E3%83%BC%E3%83%8A%E3%83%BC/Osaka Information Service for Foreign Residents":MAILTO:jouhou-c@ofix.or.jp
END:VEVENT
BEGIN:VEVENT
DTSTART;TZID=Asia/Tokyo:20240925T170000
DTEND;TZID=Asia/Tokyo:20240925T200000
DTSTAMP:20260421T070323
CREATED:20240802T101859Z
LAST-MODIFIED:20240802T101859Z
UID:15995-1727283600-1727294400@ofix.or.jp
SUMMARY:(アイハウス) ビザ相談 / (I-HOUSE) Visa Consultation
DESCRIPTION:詳しくはこちら/For more details:\n(アイハウス) ビザ相談 / (I-HOUSE) Visa Consultation
URL:https://ofix.or.jp/calendar/%e3%82%a2%e3%82%a4%e3%83%8f%e3%82%a6%e3%82%b9-%e3%83%93%e3%82%b6%e7%9b%b8%e8%ab%87-i-house-visa-consultation-6/
END:VEVENT
BEGIN:VEVENT
DTSTART;TZID=Asia/Tokyo:20240926T090000
DTEND;TZID=Asia/Tokyo:20240926T210000
DTSTAMP:20260421T070323
CREATED:20240802T114343Z
LAST-MODIFIED:20240802T114343Z
UID:16028-1727341200-1727384400@ofix.or.jp
SUMMARY:夜間集中相談週間 / Consultation Week with Extended Night Hours
DESCRIPTION:
URL:https://ofix.or.jp/calendar/%e5%a4%9c%e9%96%93%e9%9b%86%e4%b8%ad%e7%9b%b8%e8%ab%87%e9%80%b1%e9%96%93-consultation-week-with-extended-night-hours-3/
LOCATION:OFIX\, マイドームおおさか５階
ORGANIZER;CN="%E5%A4%A7%E9%98%AA%E5%BA%9C%E5%A4%96%E5%9B%BD%E4%BA%BA%E6%83%85%E5%A0%B1%E3%82%B3%E3%83%BC%E3%83%8A%E3%83%BC/Osaka Information Service for Foreign Residents":MAILTO:jouhou-c@ofix.or.jp
END:VEVENT
BEGIN:VEVENT
DTSTART;TZID=Asia/Tokyo:20240926T180000
DTEND;TZID=Asia/Tokyo:20240926T200000
DTSTAMP:20260421T070323
CREATED:20240821T080010Z
LAST-MODIFIED:20240829T021018Z
UID:16344-1727373600-1727380800@ofix.or.jp
SUMMARY:労働相談 / Labor Consultation
DESCRIPTION:無料・秘密厳守 / FREE OF CHARGE AND STRICTLY CONFIDENTIAL \nあなたの国くにのことばで　話はなすことができます。\nお金かねは　かかりません。（0円えんです）。\nひみつは　まもります。\n通訳つうやくが　います。\n（English\, 中文\, 한국·조선어\, Português\, Español\, ไทย\, Filipino\, Tiếng Việt\, Indonesia\, नेपाली）\n予約よやくを　してください。予約受付よやくうけつけは　当日とうじつ19:00まで。 \nInterpretation services are available in English\, Chinese\, Korean\, Portuguese\, Spanish\, Thai\, Filipino\, Vietnamese\, Indonesian and Nepali.\nA reservation is required. The reservation deadline is by 19:00 of the consultation day. \n【相談そうだんの方法ほうほう・Method】\nOFIXに行いく / 電話でんわ / オンライン（ZOOM）\nIn person\, by phone or online \n【相談そうだんの内容ないよう・Topics】\n仕事しごとで困こまっていること、仕事しごとの規則きそくやお金かねのこと、職場しょくばの仲間なかまや上司じょうしのトラブル 、同おなじところで働はたらいている人ひと　との問題もんだい　など\nLabor issues concerning wages\, dismissal\, resignation\, working hours\, labor contracts\, sexual harassment\, power harassment\, etc.
URL:https://ofix.or.jp/calendar/labor-0926/
LOCATION:OFIX\, マイドームおおさか５階
CATEGORIES:相談/Consultation
ORGANIZER;CN="%E5%A4%A7%E9%98%AA%E5%BA%9C%E5%A4%96%E5%9B%BD%E4%BA%BA%E6%83%85%E5%A0%B1%E3%82%B3%E3%83%BC%E3%83%8A%E3%83%BC/Osaka Information Service for Foreign Residents":MAILTO:jouhou-c@ofix.or.jp
END:VEVENT
END:VCALENDAR