BEGIN:VCALENDAR
VERSION:2.0
PRODID:-//公益財団法人 大阪府国際交流財団 Osaka Foundation of International Exchange (OFIX) - ECPv6.15.20//NONSGML v1.0//EN
CALSCALE:GREGORIAN
METHOD:PUBLISH
X-WR-CALNAME:公益財団法人 大阪府国際交流財団 Osaka Foundation of International Exchange (OFIX)
X-ORIGINAL-URL:https://ofix.or.jp
X-WR-CALDESC:公益財団法人 大阪府国際交流財団 Osaka Foundation of International Exchange (OFIX) のイベント
REFRESH-INTERVAL;VALUE=DURATION:PT1H
X-Robots-Tag:noindex
X-PUBLISHED-TTL:PT1H
BEGIN:VTIMEZONE
TZID:Asia/Tokyo
BEGIN:STANDARD
TZOFFSETFROM:+0900
TZOFFSETTO:+0900
TZNAME:JST
DTSTART:20240101T000000
END:STANDARD
END:VTIMEZONE
BEGIN:VEVENT
DTSTART;TZID=Asia/Tokyo:20250610T130000
DTEND;TZID=Asia/Tokyo:20250610T160000
DTSTAMP:20260424T064658
CREATED:20250410T051531Z
LAST-MODIFIED:20250410T051531Z
UID:18457-1749560400-1749571200@ofix.or.jp
SUMMARY:（吹田市）弁護士相談 / (SIFA) Legal Consultations
DESCRIPTION:詳しくはこちら/For more details:\n吹田市多文化共生ワンストップ相談センター（Suita Multilingual One stop Consultation Center）
URL:https://ofix.or.jp/calendar/%ef%bc%88%e5%90%b9%e7%94%b0%e5%b8%82%ef%bc%89%e5%bc%81%e8%ad%b7%e5%a3%ab%e7%9b%b8%e8%ab%87-sifa-legal-consultations/
END:VEVENT
BEGIN:VEVENT
DTSTART;TZID=Asia/Tokyo:20250611T130000
DTEND;TZID=Asia/Tokyo:20250611T160000
DTSTAMP:20260424T064658
CREATED:20250318T013333Z
LAST-MODIFIED:20250318T021047Z
UID:18025-1749646800-1749657600@ofix.or.jp
SUMMARY:（アイハウス）行政書士相談（大阪市民のみ） / (I-HOUSE) Visa Consultation (by visa lawyers) (for Osaka City residents)
DESCRIPTION:詳しくはこちら/For more details:\n(アイハウス) 行政書士相談（大阪市民のみ） / (I-HOUSE) Visa Consultation (Visa Lawyer) (for Osaka City residents)
URL:https://ofix.or.jp/calendar/%ef%bc%88%e3%82%a2%e3%82%a4%e3%83%8f%e3%82%a6%e3%82%b9%ef%bc%89%e8%a1%8c%e6%94%bf%e6%9b%b8%e5%a3%ab%e7%9b%b8%e8%ab%87%ef%bc%88%e5%a4%a7%e9%98%aa%e5%b8%82%e6%b0%91%e3%81%ae%e3%81%bf%ef%bc%89-i-house-3/
END:VEVENT
BEGIN:VEVENT
DTSTART;TZID=Asia/Tokyo:20250613T133000
DTEND;TZID=Asia/Tokyo:20250613T173000
DTSTAMP:20260424T064658
CREATED:20250404T003500Z
LAST-MODIFIED:20250404T015935Z
UID:18278-1749821400-1749835800@ofix.or.jp
SUMMARY:入管相談 / Immigration Consultations
DESCRIPTION:無料・秘密厳守/FREE OF CHARGE AND STRICTLY CONFIDENTIAL \n  \nあなたの国のことばで　話すことができます。\nお金は　かかりません。（0円です）。\nひみつは　まもります。\n通訳がいます。\n（English\, 中文\, 한국·조선어\, Português\, Español\, ไทย\, Filipino\, Tiếng Việt\, Indonesia\, नेपाली）\n予約を　してください。 \n  \nInterpretation services are available in English\, Chinese\, Korean\, Portuguese\, Spanish\,\nThai\, Filipino\, Vietnamese\, Indonesian and Nepali.\nA reservation is required. \n  \n【相談の方法・Method】\nOFIXに行く / 電話 / オンライン（ZOOM）\nIn person\, by phone or online \n  \n【相談の内容・Topics】\nビザ（在留資格）など\nImmigration matters\, including residence status
URL:https://ofix.or.jp/calendar/%e5%85%a5%e7%ae%a1%e7%9b%b8%e8%ab%87-immigration-consultations-3/
LOCATION:OFIX\, マイドームおおさか５階
CATEGORIES:相談/Consultation
ORGANIZER;CN="%E5%A4%A7%E9%98%AA%E5%BA%9C%E5%A4%96%E5%9B%BD%E4%BA%BA%E6%83%85%E5%A0%B1%E3%82%B3%E3%83%BC%E3%83%8A%E3%83%BC/Osaka Information Service for Foreign Residents":MAILTO:jouhou-c@ofix.or.jp
END:VEVENT
BEGIN:VEVENT
DTSTART;TZID=Asia/Tokyo:20250615T130000
DTEND;TZID=Asia/Tokyo:20250615T170000
DTSTAMP:20260424T064658
CREATED:20250404T003721Z
LAST-MODIFIED:20250404T020328Z
UID:18280-1749992400-1750006800@ofix.or.jp
SUMMARY:弁護士相談 / Legal Consultations
DESCRIPTION:無料・秘密厳守/FREE OF CHARGE AND STRICTLY CONFIDENTIAL \n  \nあなたの国のことばで　話すことができます。\nお金は　かかりません。（0円です）。\nひみつは　まもります。\n通訳がいます。\n（English\, 中文\, 한국·조선어\, Português\, Español\, ไทย\, Filipino\, Tiếng Việt\, Indonesia\, नेपाली）\n予約を　してください。 \n  \nInterpretation services are available in English\, Chinese\, Korean\, Portuguese\, Spanish\,\nThai\, Filipino\, Vietnamese\, Indonesian and Nepali.\nA reservation is required. \n  \n【相談の方法・Method】\nOFIXに行く / 電話 / オンライン（ZOOM）\nIn person\, by phone or online \n  \n【相談の内容・Topics】\n家族の問題で困っていること（結婚、離婚、子ども、財産をもらう、など）、\n契約トラブル事故、犯罪、など \nLegal matters including divorce\, child custody\, human rights\, domestic violence\,\ntrouble in the workplaces\, consumer troubles and crimes/accidents
URL:https://ofix.or.jp/calendar/%e5%bc%81%e8%ad%b7%e5%a3%ab%e7%9b%b8%e8%ab%87-legal-consultations-3/
LOCATION:OFIX\, マイドームおおさか５階
CATEGORIES:相談/Consultation
ORGANIZER;CN="%E5%A4%A7%E9%98%AA%E5%BA%9C%E5%A4%96%E5%9B%BD%E4%BA%BA%E6%83%85%E5%A0%B1%E3%82%B3%E3%83%BC%E3%83%8A%E3%83%BC/Osaka Information Service for Foreign Residents":MAILTO:jouhou-c@ofix.or.jp
END:VEVENT
BEGIN:VEVENT
DTSTART;TZID=Asia/Tokyo:20250617T130000
DTEND;TZID=Asia/Tokyo:20250617T160000
DTSTAMP:20260424T064658
CREATED:20250318T013436Z
LAST-MODIFIED:20250318T021231Z
UID:18027-1750165200-1750176000@ofix.or.jp
SUMMARY:（アイハウス）入管相談 / (I-HOUSE) Immigration Consultation
DESCRIPTION:詳しくはこちら/For more details:\n(アイハウス) 入管相談 /  (I-HOUSE) Immigration Consultation
URL:https://ofix.or.jp/calendar/%ef%bc%88%e3%82%a2%e3%82%a4%e3%83%8f%e3%82%a6%e3%82%b9%ef%bc%89%e5%85%a5%e7%ae%a1%e7%9b%b8%e8%ab%87-i-house-immigration-consultation-9/
END:VEVENT
BEGIN:VEVENT
DTSTART;TZID=Asia/Tokyo:20250618T140000
DTEND;TZID=Asia/Tokyo:20250618T170000
DTSTAMP:20260424T064658
CREATED:20250402T062358Z
LAST-MODIFIED:20250402T062358Z
UID:18235-1750255200-1750266000@ofix.or.jp
SUMMARY:（堺市）行政書士相談 / (Sakai city) Visa Consultation (by visa lawyers)
DESCRIPTION:詳しくはこちら/For more details:\n（堺市）行政書士相談/(Sakai city) Visa Consultation (by visa lawyers)
URL:https://ofix.or.jp/calendar/%ef%bc%88%e5%a0%ba%e5%b8%82%ef%bc%89%e8%a1%8c%e6%94%bf%e6%9b%b8%e5%a3%ab%e7%9b%b8%e8%ab%87-sakai-city-visa-consultation-by-visa-lawyers-3/
END:VEVENT
BEGIN:VEVENT
DTSTART;TZID=Asia/Tokyo:20250618T170000
DTEND;TZID=Asia/Tokyo:20250618T200000
DTSTAMP:20260424T064658
CREATED:20250318T014300Z
LAST-MODIFIED:20250318T021323Z
UID:18030-1750266000-1750276800@ofix.or.jp
SUMMARY:(アイハウス) 弁護士相談（大阪市民のみ / (I-HOUSE) Legal Consultation (for Osaka City residents)
DESCRIPTION:詳しくはこちら/For more details:\n(アイハウス) 弁護士相談（大阪市民のみ） / (I-HOUSE) Legal Consultation (for Osaka City residents)
URL:https://ofix.or.jp/calendar/%e3%82%a2%e3%82%a4%e3%83%8f%e3%82%a6%e3%82%b9-%e6%b3%95%e5%be%8b%e7%9b%b8%e8%ab%87%ef%bc%88%e5%a4%a7%e9%98%aa%e5%b8%82%e6%b0%91%e3%81%ae%e3%81%bf%ef%bc%89-i-house-legal-consultation-for-osaka-c-5/
END:VEVENT
BEGIN:VEVENT
DTSTART;TZID=Asia/Tokyo:20250619T180000
DTEND;TZID=Asia/Tokyo:20250619T200000
DTSTAMP:20260424T064658
CREATED:20250404T003249Z
LAST-MODIFIED:20250404T003249Z
UID:18276-1750356000-1750363200@ofix.or.jp
SUMMARY:労働相談 / Labor Consultations
DESCRIPTION:無料・秘密厳守/FREE OF CHARGE AND STRICTLY CONFIDENTIAL \n  \nあなたの国のことばで　話すことができます。\nお金は　かかりません。（0円です）。\nひみつは　まもります。\n通訳がいます。\n（English\, 中文\, 한국·조선어\, Português\, Español\, ไทย\, Filipino\, Tiếng Việt\, Indonesia\, नेपाली）\n予約を　してください。 \n  \nInterpretation services are available in English\, Chinese\, Korean\, Portuguese\, Spanish\,\nThai\, Filipino\, Vietnamese\, Indonesian and Nepali.\nA reservation is required. \n  \n【相談の方法・Method】\nOFIXに行く / 電話 / オンライン（ZOOM）\nIn person\, by phone or online \n  \n【相談の内容・Topics】\n仕事で困っていること、仕事の規則やお金のこと、職場の仲間や上司のトラブル 、\n同じところで働いている人　との問題　など\nLabor issues concerning wages\, dismissal\, resignation\, working hours\, labor contracts\,\nsexual harassment\, power harassment\, etc.
URL:https://ofix.or.jp/calendar/%e5%8a%b4%e5%83%8d%e7%9b%b8%e8%ab%87-labor-consultations-4/
LOCATION:OFIX\, マイドームおおさか５階
CATEGORIES:相談/Consultation
ORGANIZER;CN="%E5%A4%A7%E9%98%AA%E5%BA%9C%E5%A4%96%E5%9B%BD%E4%BA%BA%E6%83%85%E5%A0%B1%E3%82%B3%E3%83%BC%E3%83%8A%E3%83%BC/Osaka Information Service for Foreign Residents":MAILTO:jouhou-c@ofix.or.jp
END:VEVENT
BEGIN:VEVENT
DTSTART;TZID=Asia/Tokyo:20250625T170000
DTEND;TZID=Asia/Tokyo:20250625T200000
DTSTAMP:20260424T064658
CREATED:20250318T014452Z
LAST-MODIFIED:20250318T021356Z
UID:18032-1750870800-1750881600@ofix.or.jp
SUMMARY:（アイハウス）行政書士相談（大阪市民のみ）/ (I-HOUSE) Visa Consultation (by visa lawyers) (for Osaka City residents)
DESCRIPTION:詳しくはこちら/For more details:\n(アイハウス) 行政書士相談（大阪市民のみ） / (I-HOUSE) Visa Consultation (Visa Lawyer) (for Osaka City residents)
URL:https://ofix.or.jp/calendar/%ef%bc%88%e3%82%a2%e3%82%a4%e3%83%8f%e3%82%a6%e3%82%b9%ef%bc%89%e8%a1%8c%e6%94%bf%e6%9b%b8%e5%a3%ab%e7%9b%b8%e8%ab%87%ef%bc%88%e5%a4%a7%e9%98%aa%e5%b8%82%e6%b0%91%e3%81%ae%e3%81%bf%ef%bc%89-i-house-4/
END:VEVENT
BEGIN:VEVENT
DTSTART;TZID=Asia/Tokyo:20250627T180000
DTEND;TZID=Asia/Tokyo:20250627T200000
DTSTAMP:20260424T064658
CREATED:20250404T010712Z
LAST-MODIFIED:20250404T020153Z
UID:18284-1751047200-1751054400@ofix.or.jp
SUMMARY:臨床心理士相談 / Certified Clinical Psychologist Consultations
DESCRIPTION:無料・秘密厳守/FREE OF CHARGE AND STRICTLY CONFIDENTIAL \n  \nあなたの国のことばで　話すことができます。\nお金は　かかりません。（0円です）。\nひみつは　まもります。\n通訳がいます。\n（English\, 中文\, 한국·조선어\, Português\, Español\, ไทย\, Filipino\, Tiếng Việt\, Indonesia\, नेपाली）\n予約を　してください。 \n  \nInterpretation services are available in English\, Chinese\, Korean\, Portuguese\, Spanish\, Thai\, Filipino\, Vietnamese\, Indonesian and Nepali.\nA reservation is required. \n【相談の方法・Method】\nOFIXに行く\nIn person \n  \n【相談の内容・Topics】\n悩みがあるのに話す人がいない、心がつらいなど\nNeed someone to talk to about your worries\, having a mentally tough time\, etc.
URL:https://ofix.or.jp/calendar/%e8%87%a8%e5%ba%8a%e5%bf%83%e7%90%86%e5%a3%ab%e7%9b%b8%e8%ab%87-therapeutic-counseling-with-a-specialist/
LOCATION:OFIX\, マイドームおおさか５階
CATEGORIES:相談/Consultation
ORGANIZER;CN="%E5%A4%A7%E9%98%AA%E5%BA%9C%E5%A4%96%E5%9B%BD%E4%BA%BA%E6%83%85%E5%A0%B1%E3%82%B3%E3%83%BC%E3%83%8A%E3%83%BC/Osaka Information Service for Foreign Residents":MAILTO:jouhou-c@ofix.or.jp
END:VEVENT
BEGIN:VEVENT
DTSTART;TZID=Asia/Tokyo:20250701T130000
DTEND;TZID=Asia/Tokyo:20250701T160000
DTSTAMP:20260424T064658
CREATED:20250410T050648Z
LAST-MODIFIED:20250410T051018Z
UID:18450-1751374800-1751385600@ofix.or.jp
SUMMARY:（吹田市）社労士相談 / (SIFA) Labor Consultations
DESCRIPTION:詳しくはこちら/For more details:\n吹田市多文化共生ワンストップ相談センター（Suita Multilingual One stop Consultation Center）
URL:https://ofix.or.jp/calendar/%ef%bc%88%e5%90%b9%e7%94%b0%e5%b8%82%ef%bc%89%e7%a4%be%e5%8a%b4%e5%a3%ab%e7%9b%b8%e8%ab%87-sifa-labor-consultations/
END:VEVENT
BEGIN:VEVENT
DTSTART;TZID=Asia/Tokyo:20250702T130000
DTEND;TZID=Asia/Tokyo:20250702T160000
DTSTAMP:20260424T064658
CREATED:20250318T021609Z
LAST-MODIFIED:20250318T021609Z
UID:18061-1751461200-1751472000@ofix.or.jp
SUMMARY:(アイハウス) 弁護士相談（大阪市民のみ / (I-HOUSE) Legal Consultation (for Osaka City residents)
DESCRIPTION:詳しくはこちら/For more details:\n(アイハウス) 弁護士相談（大阪市民のみ） / (I-HOUSE) Legal Consultation (for Osaka City residents)
URL:https://ofix.or.jp/calendar/%e3%82%a2%e3%82%a4%e3%83%8f%e3%82%a6%e3%82%b9-%e5%bc%81%e8%ad%b7%e5%a3%ab%e7%9b%b8%e8%ab%87%ef%bc%88%e5%a4%a7%e9%98%aa%e5%b8%82%e6%b0%91%e3%81%ae%e3%81%bf-i-house-legal-consultation-for-osaka-c/
END:VEVENT
BEGIN:VEVENT
DTSTART;TZID=Asia/Tokyo:20250704T133000
DTEND;TZID=Asia/Tokyo:20250704T173000
DTSTAMP:20260424T064658
CREATED:20250404T070731Z
LAST-MODIFIED:20250404T070731Z
UID:18300-1751635800-1751650200@ofix.or.jp
SUMMARY:労働相談 / Labor Consultations
DESCRIPTION:無料・秘密厳守/FREE OF CHARGE AND STRICTLY CONFIDENTIAL \n  \nあなたの国のことばで　話すことができます。\nお金は　かかりません。（0円です）。\nひみつは　まもります。\n通訳がいます。\n（English\, 中文\, 한국·조선어\, Português\, Español\, ไทย\, Filipino\, Tiếng Việt\, Indonesia\, नेपाली）\n予約を　してください。 \n  \nInterpretation services are available in English\, Chinese\, Korean\, Portuguese\, Spanish\,\nThai\, Filipino\, Vietnamese\, Indonesian and Nepali.\nA reservation is required. \n  \n【相談の方法・Method】\nOFIXに行く / 電話 / オンライン（ZOOM）\nIn person\, by phone or online \n  \n【相談の内容・Topics】\n仕事で困っていること、仕事の規則やお金のこと、職場の仲間や上司のトラブル 、\n同じところで働いている人　との問題　など\nLabor issues concerning wages\, dismissal\, resignation\, working hours\, labor contracts\,\nsexual harassment\, power harassment\, etc.
URL:https://ofix.or.jp/calendar/%e5%8a%b4%e5%83%8d%e7%9b%b8%e8%ab%87-labor-consultations-5/
LOCATION:OFIX\, マイドームおおさか５階
CATEGORIES:相談/Consultation
ORGANIZER;CN="%E5%A4%A7%E9%98%AA%E5%BA%9C%E5%A4%96%E5%9B%BD%E4%BA%BA%E6%83%85%E5%A0%B1%E3%82%B3%E3%83%BC%E3%83%8A%E3%83%BC/Osaka Information Service for Foreign Residents":MAILTO:jouhou-c@ofix.or.jp
END:VEVENT
BEGIN:VEVENT
DTSTART;TZID=Asia/Tokyo:20250709T130000
DTEND;TZID=Asia/Tokyo:20250709T160000
DTSTAMP:20260424T064658
CREATED:20250319T001815Z
LAST-MODIFIED:20250319T001815Z
UID:18069-1752066000-1752076800@ofix.or.jp
SUMMARY:（アイハウス）行政書士相談（大阪市民のみ） / (I-HOUSE) Visa Consultation (by visa lawyers) (for Osaka City residents)
DESCRIPTION:詳しくはこちら/For more details:\n(アイハウス) 行政書士相談（大阪市民のみ） / (I-HOUSE) Visa Consultation (Visa Lawyer) (for Osaka City residents)
URL:https://ofix.or.jp/calendar/%ef%bc%88%e3%82%a2%e3%82%a4%e3%83%8f%e3%82%a6%e3%82%b9%ef%bc%89%e8%a1%8c%e6%94%bf%e6%9b%b8%e5%a3%ab%e7%9b%b8%e8%ab%87%ef%bc%88%e5%a4%a7%e9%98%aa%e5%b8%82%e6%b0%91%e3%81%ae%e3%81%bf%ef%bc%89-i-house-5/
END:VEVENT
BEGIN:VEVENT
DTSTART;TZID=Asia/Tokyo:20250711T133000
DTEND;TZID=Asia/Tokyo:20250711T173000
DTSTAMP:20260424T064658
CREATED:20250404T071146Z
LAST-MODIFIED:20250404T071146Z
UID:18304-1752240600-1752255000@ofix.or.jp
SUMMARY:入管相談 / Immigration Consultations
DESCRIPTION:無料・秘密厳守/FREE OF CHARGE AND STRICTLY CONFIDENTIAL \n  \nあなたの国のことばで　話すことができます。\nお金は　かかりません。（0円です）。\nひみつは　まもります。\n通訳がいます。\n（English\, 中文\, 한국·조선어\, Português\, Español\, ไทย\, Filipino\, Tiếng Việt\, Indonesia\, नेपाली）\n予約を　してください。 \n  \nInterpretation services are available in English\, Chinese\, Korean\, Portuguese\, Spanish\,\nThai\, Filipino\, Vietnamese\, Indonesian and Nepali.\nA reservation is required. \n  \n【相談の方法・Method】\nOFIXに行く / 電話 / オンライン（ZOOM）\nIn person\, by phone or online \n  \n【相談の内容・Topics】\nビザ（在留資格）など\nImmigration matters\, including residence status
URL:https://ofix.or.jp/calendar/%e5%85%a5%e7%ae%a1%e7%9b%b8%e8%ab%87-immigration-consultations-4/
LOCATION:OFIX\, マイドームおおさか５階
CATEGORIES:相談/Consultation
ORGANIZER;CN="%E5%A4%A7%E9%98%AA%E5%BA%9C%E5%A4%96%E5%9B%BD%E4%BA%BA%E6%83%85%E5%A0%B1%E3%82%B3%E3%83%BC%E3%83%8A%E3%83%BC/Osaka Information Service for Foreign Residents":MAILTO:jouhou-c@ofix.or.jp
END:VEVENT
BEGIN:VEVENT
DTSTART;TZID=Asia/Tokyo:20250715T130000
DTEND;TZID=Asia/Tokyo:20250715T160000
DTSTAMP:20260424T064658
CREATED:20250319T002215Z
LAST-MODIFIED:20250319T002215Z
UID:18071-1752584400-1752595200@ofix.or.jp
SUMMARY:（アイハウス）入管相談 / (I-HOUSE) Immigration Consultation
DESCRIPTION:詳しくはこちら/For more details:\n(アイハウス) 入管相談 /  (I-HOUSE) Immigration Consultation
URL:https://ofix.or.jp/calendar/%ef%bc%88%e3%82%a2%e3%82%a4%e3%83%8f%e3%82%a6%e3%82%b9%ef%bc%89%e5%85%a5%e7%ae%a1%e7%9b%b8%e8%ab%87-i-house-immigration-consultation-10/
END:VEVENT
BEGIN:VEVENT
DTSTART;TZID=Asia/Tokyo:20250716T130000
DTEND;TZID=Asia/Tokyo:20250716T160000
DTSTAMP:20260424T064658
CREATED:20250319T002319Z
LAST-MODIFIED:20250319T002319Z
UID:18073-1752670800-1752681600@ofix.or.jp
SUMMARY:(アイハウス) 弁護士相談 （大阪市民のみ）/ (I-HOUSE) Legal Consultation (for Osaka City residents)
DESCRIPTION:詳しくはこちら/For more details:\n(アイハウス) 弁護士相談 （大阪市民のみ）/ (I-HOUSE) Legal Consultation (for Osaka City residents)
URL:https://ofix.or.jp/calendar/%e3%82%a2%e3%82%a4%e3%83%8f%e3%82%a6%e3%82%b9-%e5%bc%81%e8%ad%b7%e5%a3%ab%e7%9b%b8%e8%ab%87-%ef%bc%88%e5%a4%a7%e9%98%aa%e5%b8%82%e6%b0%91%e3%81%ae%e3%81%bf%ef%bc%89-i-house-legal-consultation-fo-9/
END:VEVENT
BEGIN:VEVENT
DTSTART;TZID=Asia/Tokyo:20250716T140000
DTEND;TZID=Asia/Tokyo:20250716T170000
DTSTAMP:20260424T064658
CREATED:20250402T062440Z
LAST-MODIFIED:20250402T062440Z
UID:18237-1752674400-1752685200@ofix.or.jp
SUMMARY:（堺市）行政書士相談 / (Sakai city) Visa Consultation (by visa lawyers)
DESCRIPTION:詳しくはこちら/For more details:\n（堺市）行政書士相談/(Sakai city) Visa Consultation (by visa lawyers)
URL:https://ofix.or.jp/calendar/%ef%bc%88%e5%a0%ba%e5%b8%82%ef%bc%89%e8%a1%8c%e6%94%bf%e6%9b%b8%e5%a3%ab%e7%9b%b8%e8%ab%87-sakai-city-visa-consultation-by-visa-lawyers-4/
END:VEVENT
BEGIN:VEVENT
DTSTART;TZID=Asia/Tokyo:20250717T180000
DTEND;TZID=Asia/Tokyo:20250717T200000
DTSTAMP:20260424T064658
CREATED:20250404T070932Z
LAST-MODIFIED:20250404T070932Z
UID:18302-1752775200-1752782400@ofix.or.jp
SUMMARY:労働相談 / Labor Consultations
DESCRIPTION:無料・秘密厳守/FREE OF CHARGE AND STRICTLY CONFIDENTIAL \n  \nあなたの国のことばで　話すことができます。\nお金は　かかりません。（0円です）。\nひみつは　まもります。\n通訳がいます。\n（English\, 中文\, 한국·조선어\, Português\, Español\, ไทย\, Filipino\, Tiếng Việt\, Indonesia\, नेपाली）\n予約を　してください。 \n  \nInterpretation services are available in English\, Chinese\, Korean\, Portuguese\, Spanish\,\nThai\, Filipino\, Vietnamese\, Indonesian and Nepali.\nA reservation is required. \n  \n【相談の方法・Method】\nOFIXに行く / 電話 / オンライン（ZOOM）\nIn person\, by phone or online \n  \n【相談の内容・Topics】\n仕事で困っていること、仕事の規則やお金のこと、職場の仲間や上司のトラブル 、\n同じところで働いている人　との問題　など\nLabor issues concerning wages\, dismissal\, resignation\, working hours\, labor contracts\,\nsexual harassment\, power harassment\, etc.
URL:https://ofix.or.jp/calendar/%e5%8a%b4%e5%83%8d%e7%9b%b8%e8%ab%87-labor-consultations-6/
LOCATION:OFIX\, マイドームおおさか５階
CATEGORIES:相談/Consultation
ORGANIZER;CN="%E5%A4%A7%E9%98%AA%E5%BA%9C%E5%A4%96%E5%9B%BD%E4%BA%BA%E6%83%85%E5%A0%B1%E3%82%B3%E3%83%BC%E3%83%8A%E3%83%BC/Osaka Information Service for Foreign Residents":MAILTO:jouhou-c@ofix.or.jp
END:VEVENT
BEGIN:VEVENT
DTSTART;TZID=Asia/Tokyo:20250720T130000
DTEND;TZID=Asia/Tokyo:20250720T170000
DTSTAMP:20260424T064658
CREATED:20250404T071422Z
LAST-MODIFIED:20250404T071422Z
UID:18306-1753016400-1753030800@ofix.or.jp
SUMMARY:行政書士相談/ Bureaucratic Procedures Consultation
DESCRIPTION:無料・秘密厳守/FREE OF CHARGE AND STRICTLY CONFIDENTIAL \n  \nあなたの国のことばで　話すことができます。\nお金は　かかりません。（0円です）。\nひみつは　まもります。\n通訳がいます。\n（English\, 中文\, 한국·조선어\, Português\, Español\, ไทย\, Filipino\, Tiếng Việt\, Indonesia\, नेपाली）\n予約を　してください。 \n  \nInterpretation services are available in English\, Chinese\, Korean\, Portuguese\, Spanish\, Thai\, Filipino\, Vietnamese\, Indonesian and Nepali.\nA reservation is required. \n  \n【相談の方法・Method】\nOFIXに行く / 電話 / オンライン（ZOOM）\nIn person\, by phone or online \n  \n【相談の内容・Topics】\nビザ（在留資格）のこと、帰化申請、永住許可、国際結婚や経営・管理に関する手続きなど\nVarious administrative issues concerning residence status\, naturalization\,\npermanent residency\, international marriage and setting up a business\, etc.
URL:https://ofix.or.jp/calendar/%e8%a1%8c%e6%94%bf%e6%9b%b8%e5%a3%ab%e7%9b%b8%e8%ab%87-bureaucratic-procedures-consultation-3/
LOCATION:OFIX\, マイドームおおさか５階
CATEGORIES:相談/Consultation
ORGANIZER;CN="%E5%A4%A7%E9%98%AA%E5%BA%9C%E5%A4%96%E5%9B%BD%E4%BA%BA%E6%83%85%E5%A0%B1%E3%82%B3%E3%83%BC%E3%83%8A%E3%83%BC/Osaka Information Service for Foreign Residents":MAILTO:jouhou-c@ofix.or.jp
END:VEVENT
BEGIN:VEVENT
DTSTART;TZID=Asia/Tokyo:20250723T170000
DTEND;TZID=Asia/Tokyo:20250723T200000
DTSTAMP:20260424T064658
CREATED:20250319T002427Z
LAST-MODIFIED:20250319T002427Z
UID:18075-1753290000-1753300800@ofix.or.jp
SUMMARY:（アイハウス）行政書士相談（大阪市民のみ） / (I-HOUSE) Visa Consultation (by visa lawyers) (for Osaka City residents)
DESCRIPTION:詳しくはこちら/For more details:\n(アイハウス) 行政書士相談（大阪市民のみ） / (I-HOUSE) Visa Consultation (Visa Lawyer) (for Osaka City residents)
URL:https://ofix.or.jp/calendar/%ef%bc%88%e3%82%a2%e3%82%a4%e3%83%8f%e3%82%a6%e3%82%b9%ef%bc%89%e8%a1%8c%e6%94%bf%e6%9b%b8%e5%a3%ab%e7%9b%b8%e8%ab%87%ef%bc%88%e5%a4%a7%e9%98%aa%e5%b8%82%e6%b0%91%e3%81%ae%e3%81%bf%ef%bc%89-i-house-6/
END:VEVENT
BEGIN:VEVENT
DTSTART;TZID=Asia/Tokyo:20250724T130000
DTEND;TZID=Asia/Tokyo:20250724T160000
DTSTAMP:20260424T064658
CREATED:20250619T015809Z
LAST-MODIFIED:20250619T015809Z
UID:18814-1753362000-1753372800@ofix.or.jp
SUMMARY:（泉佐野市）外国人のための相談サービス / (Izumisano-city) Free Information & Advice for Foreign Residents
DESCRIPTION:詳しくはこちら/For more details: \n「外国人のための相談サービス」を2025年7月24日（木）に泉佐野市で行います。“Free Information & Advice for Foreign Residents” will be offered on Thursday\, July 24 in Izumisano. | 公益財団法人 大阪府国際交流財団 Osaka Foundation of International Exchange (OFIX)
URL:https://ofix.or.jp/calendar/%ef%bc%88%e6%b3%89%e4%bd%90%e9%87%8e%e5%b8%82%ef%bc%89%e5%a4%96%e5%9b%bd%e4%ba%ba%e3%81%ae%e3%81%9f%e3%82%81%e3%81%ae%e7%9b%b8%e8%ab%87%e3%82%b5%e3%83%bc%e3%83%93%e3%82%b9-izumisano-city-free-info-2/
CATEGORIES:相談/Consultation
ATTACH;FMTTYPE=image/jpeg:https://ofix.or.jp/wp-content/uploads/2025/06/スライド1.jpg
END:VEVENT
BEGIN:VEVENT
DTSTART;TZID=Asia/Tokyo:20250725T180000
DTEND;TZID=Asia/Tokyo:20250725T200000
DTSTAMP:20260424T064658
CREATED:20250404T071639Z
LAST-MODIFIED:20250404T071639Z
UID:18308-1753466400-1753473600@ofix.or.jp
SUMMARY:弁護士相談 / Legal Consultations
DESCRIPTION:無料・秘密厳守/FREE OF CHARGE AND STRICTLY CONFIDENTIAL \n  \nあなたの国のことばで　話すことができます。\nお金は　かかりません。（0円です）。\nひみつは　まもります。\n通訳がいます。\n（English\, 中文\, 한국·조선어\, Português\, Español\, ไทย\, Filipino\, Tiếng Việt\, Indonesia\, नेपाली）\n予約を　してください。 \n  \nInterpretation services are available in English\, Chinese\, Korean\, Portuguese\, Spanish\,\nThai\, Filipino\, Vietnamese\, Indonesian and Nepali.\nA reservation is required. \n  \n【相談の方法・Method】\nOFIXに行く / 電話 / オンライン（ZOOM）\nIn person\, by phone or online \n  \n【相談の内容・Topics】\n家族の問題で困っていること（結婚、離婚、子ども、財産をもらう、など）、\n契約トラブル事故、犯罪、など \nLegal matters including divorce\, child custody\, human rights\, domestic violence\,\ntrouble in the workplaces\, consumer troubles and crimes/accidents
URL:https://ofix.or.jp/calendar/%e5%bc%81%e8%ad%b7%e5%a3%ab%e7%9b%b8%e8%ab%87-legal-consultations-4/
LOCATION:OFIX\, マイドームおおさか５階
CATEGORIES:相談/Consultation
ORGANIZER;CN="%E5%A4%A7%E9%98%AA%E5%BA%9C%E5%A4%96%E5%9B%BD%E4%BA%BA%E6%83%85%E5%A0%B1%E3%82%B3%E3%83%BC%E3%83%8A%E3%83%BC/Osaka Information Service for Foreign Residents":MAILTO:jouhou-c@ofix.or.jp
END:VEVENT
BEGIN:VEVENT
DTSTART;TZID=Asia/Tokyo:20250731T140000
DTEND;TZID=Asia/Tokyo:20250731T163000
DTSTAMP:20260424T064658
CREATED:20250716T080225Z
LAST-MODIFIED:20250716T080624Z
UID:19163-1753970400-1753979400@ofix.or.jp
SUMMARY:Mental Health Workshop for Foreign Residents/外国人のためのメンタルヘルスワークショップ
DESCRIPTION:「第1回外国人のためのメンタルヘルスワークショップ」を開催します。\nWe will hold a workshop “Mental Health Workshop for Foreign Residents (Part 1)”.
URL:https://ofix.or.jp/calendar/mental-health-workshop-for-foreign-residents-%e5%a4%96%e5%9b%bd%e4%ba%ba%e3%81%ae%e3%81%9f%e3%82%81%e3%81%ae%e3%83%a1%e3%83%b3%e3%82%bf%e3%83%ab%e3%83%98%e3%83%ab%e3%82%b9%e3%83%af%e3%83%bc%e3%82%af/
LOCATION:マイドームおおさか　8階　第6会議室\, 大阪市中央区本町橋２－５\, 大阪府\, 540
CATEGORIES:イベント/Event
END:VEVENT
BEGIN:VEVENT
DTSTART;TZID=Asia/Tokyo:20250801T133000
DTEND;TZID=Asia/Tokyo:20250801T173000
DTSTAMP:20260424T064658
CREATED:20250404T075651Z
LAST-MODIFIED:20250404T075651Z
UID:18311-1754055000-1754069400@ofix.or.jp
SUMMARY:労働相談 / Labor Consultations
DESCRIPTION:無料・秘密厳守/FREE OF CHARGE AND STRICTLY CONFIDENTIAL \n  \nあなたの国のことばで　話すことができます。\nお金は　かかりません。（0円です）。\nひみつは　まもります。\n通訳がいます。\n（English\, 中文\, 한국·조선어\, Português\, Español\, ไทย\, Filipino\, Tiếng Việt\, Indonesia\, नेपाली）\n予約を　してください。 \n  \nInterpretation services are available in English\, Chinese\, Korean\, Portuguese\, Spanish\, Thai\, Filipino\, Vietnamese\, Indonesian and Nepali.\nA reservation is required. \n  \n【相談の方法・Method】\nOFIXに行く / 電話 / オンライン（ZOOM）\nIn person\, by phone or online \n  \n【相談の内容・Topics】\n仕事で困っていること、仕事の規則やお金のこと、職場の仲間や上司のトラブル 、同じところで働いている人　との問題　など\nLabor issues concerning wages\, dismissal\, resignation\, working hours\, labor contracts\, sexual harassment\, power harassment\, etc.
URL:https://ofix.or.jp/calendar/%e5%8a%b4%e5%83%8d%e7%9b%b8%e8%ab%87-labor-consultations-7/
LOCATION:OFIX\, マイドームおおさか５階
CATEGORIES:相談/Consultation
ORGANIZER;CN="%E5%A4%A7%E9%98%AA%E5%BA%9C%E5%A4%96%E5%9B%BD%E4%BA%BA%E6%83%85%E5%A0%B1%E3%82%B3%E3%83%BC%E3%83%8A%E3%83%BC/Osaka Information Service for Foreign Residents":MAILTO:jouhou-c@ofix.or.jp
END:VEVENT
BEGIN:VEVENT
DTSTART;TZID=Asia/Tokyo:20250806T130000
DTEND;TZID=Asia/Tokyo:20250806T160000
DTSTAMP:20260424T064658
CREATED:20250319T002918Z
LAST-MODIFIED:20250319T002918Z
UID:18077-1754485200-1754496000@ofix.or.jp
SUMMARY:(アイハウス) 弁護士相談（大阪市民のみ） / (I-HOUSE) Legal Consultation (for Osaka City residents)
DESCRIPTION:詳しくはこちら/For more details:\n(アイハウス) 弁護士相談（大阪市民のみ） / (I-HOUSE) Legal Consultation (for Osaka City residents)
URL:https://ofix.or.jp/calendar/%e3%82%a2%e3%82%a4%e3%83%8f%e3%82%a6%e3%82%b9-%e5%bc%81%e8%ad%b7%e5%a3%ab%e7%9b%b8%e8%ab%87%ef%bc%88%e5%a4%a7%e9%98%aa%e5%b8%82%e6%b0%91%e3%81%ae%e3%81%bf%ef%bc%89-i-house-legal-consultation-fo/
END:VEVENT
BEGIN:VEVENT
DTSTART;TZID=Asia/Tokyo:20250808T133000
DTEND;TZID=Asia/Tokyo:20250808T173000
DTSTAMP:20260424T064658
CREATED:20250404T080031Z
LAST-MODIFIED:20250404T080031Z
UID:18315-1754659800-1754674200@ofix.or.jp
SUMMARY:入管相談 / Immigration Consultations
DESCRIPTION:無料・秘密厳守/FREE OF CHARGE AND STRICTLY CONFIDENTIAL \n  \nあなたの国のことばで　話すことができます。\nお金は　かかりません。（0円です）。\nひみつは　まもります。\n通訳がいます。\n（English\, 中文\, 한국·조선어\, Português\, Español\, ไทย\, Filipino\, Tiếng Việt\, Indonesia\, नेपाली）\n予約を　してください。 \n  \nInterpretation services are available in English\, Chinese\, Korean\, Portuguese\, Spanish\, Thai\, Filipino\, Vietnamese\, Indonesian and Nepali.\nA reservation is required. \n  \n【相談の方法・Method】\nOFIXに行く / 電話 / オンライン（ZOOM）\nIn person\, by phone or online \n  \n【相談の内容・Topics】\nビザ（在留資格）など\nImmigration matters\, including residence status \n 
URL:https://ofix.or.jp/calendar/%e5%85%a5%e7%ae%a1%e7%9b%b8%e8%ab%87-immigration-consultations-5/
LOCATION:OFIX\, マイドームおおさか５階
CATEGORIES:相談/Consultation
ORGANIZER;CN="%E5%A4%A7%E9%98%AA%E5%BA%9C%E5%A4%96%E5%9B%BD%E4%BA%BA%E6%83%85%E5%A0%B1%E3%82%B3%E3%83%BC%E3%83%8A%E3%83%BC/Osaka Information Service for Foreign Residents":MAILTO:jouhou-c@ofix.or.jp
END:VEVENT
BEGIN:VEVENT
DTSTART;TZID=Asia/Tokyo:20250813T130000
DTEND;TZID=Asia/Tokyo:20250813T160000
DTSTAMP:20260424T064658
CREATED:20250319T003029Z
LAST-MODIFIED:20250319T003029Z
UID:18079-1755090000-1755100800@ofix.or.jp
SUMMARY:（アイハウス）行政書士相談（大阪市民のみ）/ (I-HOUSE) Visa Consultation (by visa lawyers) (for Osaka City residents)
DESCRIPTION:詳しくはこちら/For more details:\n(アイハウス) 行政書士相談（大阪市民のみ） / (I-HOUSE) Visa Consultation (Visa Lawyer) (for Osaka City residents)
URL:https://ofix.or.jp/calendar/%ef%bc%88%e3%82%a2%e3%82%a4%e3%83%8f%e3%82%a6%e3%82%b9%ef%bc%89%e8%a1%8c%e6%94%bf%e6%9b%b8%e5%a3%ab%e7%9b%b8%e8%ab%87%ef%bc%88%e5%a4%a7%e9%98%aa%e5%b8%82%e6%b0%91%e3%81%ae%e3%81%bf%ef%bc%89-i-house-7/
END:VEVENT
BEGIN:VEVENT
DTSTART;TZID=Asia/Tokyo:20250817T130000
DTEND;TZID=Asia/Tokyo:20250817T170000
DTSTAMP:20260424T064658
CREATED:20250404T080359Z
LAST-MODIFIED:20250404T080359Z
UID:18317-1755435600-1755450000@ofix.or.jp
SUMMARY:臨床心理士相談 / Certified Clinical Psychologist Consultations
DESCRIPTION:無料・秘密厳守/FREE OF CHARGE AND STRICTLY CONFIDENTIAL \n  \nあなたの国のことばで　話すことができます。\nお金は　かかりません。（0円です）。\nひみつは　まもります。\n通訳がいます。（English\, 中文\, 한국·조선어\, Português\, Español\, ไทย\, Filipino\, Tiếng Việt\, Indonesia\, नेपाली）\n予約を　してください。 \n  \nInterpretation services are available in English\, Chinese\, Korean\, Portuguese\, Spanish\, Thai\, Filipino\, Vietnamese\, Indonesian and Nepali.\nA reservation is required. \n  \n【相談の方法・Method】\nOFIXに行く\nIn person \n  \n【相談の内容・Topics】\n悩みがあるのに話す人がいない、心がつらいなど \nNeed someone to talk to about your worries\, having a mentally tough time\, etc.
URL:https://ofix.or.jp/calendar/%e8%87%a8%e5%ba%8a%e5%bf%83%e7%90%86%e5%a3%ab%e7%9b%b8%e8%ab%87-certified-clinical-psychologist-consultations/
LOCATION:OFIX\, マイドームおおさか５階
CATEGORIES:相談/Consultation
ORGANIZER;CN="%E5%A4%A7%E9%98%AA%E5%BA%9C%E5%A4%96%E5%9B%BD%E4%BA%BA%E6%83%85%E5%A0%B1%E3%82%B3%E3%83%BC%E3%83%8A%E3%83%BC/Osaka Information Service for Foreign Residents":MAILTO:jouhou-c@ofix.or.jp
END:VEVENT
BEGIN:VEVENT
DTSTART;TZID=Asia/Tokyo:20250819T130000
DTEND;TZID=Asia/Tokyo:20250819T160000
DTSTAMP:20260424T064658
CREATED:20250319T003155Z
LAST-MODIFIED:20250319T003155Z
UID:18081-1755608400-1755619200@ofix.or.jp
SUMMARY:（アイハウス）入管相談 / (I-HOUSE) Immigration Consultation
DESCRIPTION:詳しくはこちら/For more details:\n(アイハウス) 入管相談 /  (I-HOUSE) Immigration Consultation
URL:https://ofix.or.jp/calendar/%ef%bc%88%e3%82%a2%e3%82%a4%e3%83%8f%e3%82%a6%e3%82%b9%ef%bc%89%e5%85%a5%e7%ae%a1%e7%9b%b8%e8%ab%87-i-house-immigration-consultation-11/
END:VEVENT
END:VCALENDAR