BEGIN:VCALENDAR
VERSION:2.0
PRODID:-//公益財団法人 大阪府国際交流財団 Osaka Foundation of International Exchange (OFIX) - ECPv6.15.20//NONSGML v1.0//EN
CALSCALE:GREGORIAN
METHOD:PUBLISH
X-WR-CALNAME:公益財団法人 大阪府国際交流財団 Osaka Foundation of International Exchange (OFIX)
X-ORIGINAL-URL:https://ofix.or.jp
X-WR-CALDESC:公益財団法人 大阪府国際交流財団 Osaka Foundation of International Exchange (OFIX) のイベント
REFRESH-INTERVAL;VALUE=DURATION:PT1H
X-Robots-Tag:noindex
X-PUBLISHED-TTL:PT1H
BEGIN:VTIMEZONE
TZID:Asia/Tokyo
BEGIN:STANDARD
TZOFFSETFROM:+0900
TZOFFSETTO:+0900
TZNAME:JST
DTSTART:20240101T000000
END:STANDARD
END:VTIMEZONE
BEGIN:VEVENT
DTSTART;TZID=Asia/Tokyo:20250221T180000
DTEND;TZID=Asia/Tokyo:20250221T210000
DTSTAMP:20260423T205452
CREATED:20241002T052517Z
LAST-MODIFIED:20241002T052517Z
UID:16818-1740160800-1740171600@ofix.or.jp
SUMMARY:行政書士専門相談 / Bureaucratic Consultation
DESCRIPTION:無料・秘密厳守/FREE OF CHARGE AND STRICTLY CONFIDENTIAL \nあなたの国のことばで　話すことができます。\nお金は　かかりません。（0円です）。\nひみつは　まもります。\n通訳がいます。（English\, 中文\, 한국·조선어\, Português\, Español\, ไทย\, Filipino\, Tiếng Việt\, Indonesia\, नेपाली）\n予約を　してください。予約受付は当日20:00まで。 \nInterpretation services are available in English\, Chinese\, Korean\, Portuguese\, Spanish\, Thai\, Filipino\, Vietnamese\, Indonesian and Nepali.\nA reservation is required.\nThe reservation deadline is by 20:00 of the consultation day. \n【相談の方法・Method】\nOFIXに行く / 電話 / オンライン（ZOOM）\nIn person\, by phone or online \n【相談の内容・Topics】\nビザ（在留資格）のこと、帰化申請、永住許可、国際結婚や会社をつくる手続きなど\nVarious administrative issues concerning residence status\, naturalization\, permanent residency\, international marriage and setting up a business\, etc.
URL:https://ofix.or.jp/calendar/%e8%a1%8c%e6%94%bf%e6%9b%b8%e5%a3%ab%e5%b0%82%e9%96%80%e7%9b%b8%e8%ab%87-bureaucratic-consultation-5/
LOCATION:OFIX\, マイドームおおさか５階
CATEGORIES:相談/Consultation
ORGANIZER;CN="%E5%A4%A7%E9%98%AA%E5%BA%9C%E5%A4%96%E5%9B%BD%E4%BA%BA%E6%83%85%E5%A0%B1%E3%82%B3%E3%83%BC%E3%83%8A%E3%83%BC/Osaka Information Service for Foreign Residents":MAILTO:jouhou-c@ofix.or.jp
END:VEVENT
BEGIN:VEVENT
DTSTART;TZID=Asia/Tokyo:20250223T090000
DTEND;TZID=Asia/Tokyo:20250223T173000
DTSTAMP:20260423T205452
CREATED:20240919T020807Z
LAST-MODIFIED:20240919T020807Z
UID:16756-1740301200-1740331800@ofix.or.jp
SUMMARY:対応時間 / Office Hours 9:00～17:30
DESCRIPTION:偶数月第4日曜日は、9:00～17:30まで外国人情報コーナーは開いています。\nOffice hours for the Osaka Information Service are 9:00-17:30 on this Sunday.
URL:https://ofix.or.jp/calendar/%e5%af%be%e5%bf%9c%e6%99%82%e9%96%93-office-hours-900%ef%bd%9e1730-3/
END:VEVENT
BEGIN:VEVENT
DTSTART;TZID=Asia/Tokyo:20250223T133000
DTEND;TZID=Asia/Tokyo:20250223T163000
DTSTAMP:20260423T205452
CREATED:20241002T052853Z
LAST-MODIFIED:20241002T052853Z
UID:16820-1740317400-1740328200@ofix.or.jp
SUMMARY:弁護士専門相談 / Legal Consultation
DESCRIPTION:無料・秘密厳守 / FREE OF CHARGE AND STRICTLY CONFIDENTIAL \nあなたの国のことばで　話すことができます。\nお金は　かかりません。（0円です）。\nひみつは　まもります。\n通訳がいます。（English\, 中文\, 한국·조선어\, Português\, Español\, ไทย\, Filipino\, Tiếng Việt\, Indonesia\, नेपाली）\n予約を　してください。予約受付は当日15:30まで。 \nInterpretation services are available in English\, Chinese\, Korean\, Portuguese\, Spanish\, Thai\, Filipino\, Vietnamese\, Indonesian and Nepali.\nA reservation is required.\nThe reservation deadline is by 15:30 of the consultation day. \n【相談の方法・Method】\nOFIXに行く / 電話 / オンライン（ZOOM）\nIn person\, by phone or online \n【相談の内容・Topics】\n家族の問題で困っていること（結婚、離婚、子ども、財産をもらう、など）、契約トラブル事故、犯罪、など\nLegal matters including divorce\, child custody\, human rights\, domestic violence\, trouble in the workplaces\, consumer troubles and crimes/accidents
URL:https://ofix.or.jp/calendar/%e5%bc%81%e8%ad%b7%e5%a3%ab%e5%b0%82%e9%96%80%e7%9b%b8%e8%ab%87-legal-consultation-6/
LOCATION:OFIX\, マイドームおおさか５階
CATEGORIES:相談/Consultation
ORGANIZER;CN="%E5%A4%A7%E9%98%AA%E5%BA%9C%E5%A4%96%E5%9B%BD%E4%BA%BA%E6%83%85%E5%A0%B1%E3%82%B3%E3%83%BC%E3%83%8A%E3%83%BC/Osaka Information Service for Foreign Residents":MAILTO:jouhou-c@ofix.or.jp
END:VEVENT
BEGIN:VEVENT
DTSTART;TZID=Asia/Tokyo:20250225T130000
DTEND;TZID=Asia/Tokyo:20250225T160000
DTSTAMP:20260423T205452
CREATED:20241107T051558Z
LAST-MODIFIED:20241107T051558Z
UID:17164-1740488400-1740499200@ofix.or.jp
SUMMARY:（吹田市）行政書士相談/（SIFA）Consultation with Bureaucratic Specialist
DESCRIPTION:詳しくはこちら/For more details:\n吹田市多文化共生ワンストップ相談センター（Suita Multilingual One stop Consultation Center）
URL:https://ofix.or.jp/calendar/%ef%bc%88%e5%90%b9%e7%94%b0%e5%b8%82%ef%bc%89%e8%a1%8c%e6%94%bf%e6%9b%b8%e5%a3%ab%e7%9b%b8%e8%ab%87-%ef%bc%88sifa%ef%bc%89consultation-with-bureaucratic-specialist-2/
END:VEVENT
BEGIN:VEVENT
DTSTART;TZID=Asia/Tokyo:20250226T133000
DTEND;TZID=Asia/Tokyo:20250226T173000
DTSTAMP:20260423T205452
CREATED:20241021T021742Z
LAST-MODIFIED:20241021T021742Z
UID:16961-1740576600-1740591000@ofix.or.jp
SUMMARY:入管相談 / Immigration Consultation
DESCRIPTION:無料・秘密厳守/FREE OF CHARGE AND STRICTLY CONFIDENTIAL \nあなたの国のことばで　話すことができます。\nお金は　かかりません。（0円です）。\nひみつは　まもります。\n通訳がいます。（English\, 中文\, 한국·조선어\, Português\, Español\, ไทย\, Filipino\, Tiếng Việt\, Indonesia\, नेपाली）\n予約を　してください。予約受付は当日16:30まで。 \nInterpretation services are available in English\, Chinese\, Korean\, Portuguese\, Spanish\, Thai\, Filipino\, Vietnamese\, Indonesian and Nepali.\nA reservation is required. The reservation deadline is by 16:30 of the consultation day. \n【相談の方法・Method】\nOFIXに行く / 電話 / オンライン（ZOOM）\nIn person\, by phone or online \n【相談の内容・Topics】\nビザ（在留資格）など\nImmigration matters\, including residence status
URL:https://ofix.or.jp/calendar/%e5%85%a5%e7%ae%a1%e7%9b%b8%e8%ab%87-immigration-consultation-8/
LOCATION:OFIX\, マイドームおおさか５階
CATEGORIES:相談/Consultation
ORGANIZER;CN="%E5%A4%A7%E9%98%AA%E5%BA%9C%E5%A4%96%E5%9B%BD%E4%BA%BA%E6%83%85%E5%A0%B1%E3%82%B3%E3%83%BC%E3%83%8A%E3%83%BC/Osaka Information Service for Foreign Residents":MAILTO:jouhou-c@ofix.or.jp
END:VEVENT
BEGIN:VEVENT
DTSTART;TZID=Asia/Tokyo:20250226T170000
DTEND;TZID=Asia/Tokyo:20250226T200000
DTSTAMP:20260423T205452
CREATED:20250220T053602Z
LAST-MODIFIED:20250220T053602Z
UID:17683-1740589200-1740600000@ofix.or.jp
SUMMARY:（アイハウス）行政書士相談 / (I-HOUSE) Visa Consultation (Visa Lawyer)
DESCRIPTION:詳しくはこちら/For more details:\n(アイハウス) 行政書士相談 / (I-HOUSE) Visa Consultation (Visa Lawyer)
URL:https://ofix.or.jp/calendar/%ef%bc%88%e3%82%a2%e3%82%a4%e3%83%8f%e3%82%a6%e3%82%b9%ef%bc%89%e8%a1%8c%e6%94%bf%e6%9b%b8%e5%a3%ab%e7%9b%b8%e8%ab%87-i-house-visa-consultation-visa-lawyer-10/
END:VEVENT
BEGIN:VEVENT
DTSTART;TZID=Asia/Tokyo:20250301T133000
DTEND;TZID=Asia/Tokyo:20250301T160000
DTSTAMP:20260423T205452
CREATED:20241010T055122Z
LAST-MODIFIED:20241010T055122Z
UID:16893-1740835800-1740844800@ofix.or.jp
SUMMARY:（京都市）法律・ビザ相談 / (Kyoto City) Legal / Visa Consultation
DESCRIPTION:詳しくはこちら/For more details:\n京都市国際交流協会 (Kyoto City International Foundation) 
URL:https://ofix.or.jp/calendar/%ef%bc%88%e4%ba%ac%e9%83%bd%e5%b8%82%ef%bc%89%e6%b3%95%e5%be%8b%e3%83%bb%e3%83%93%e3%82%b6%e7%9b%b8%e8%ab%87-kyoto-city-legal-visa-consultation-9/
END:VEVENT
BEGIN:VEVENT
DTSTART;TZID=Asia/Tokyo:20250303T133000
DTEND;TZID=Asia/Tokyo:20250303T173000
DTSTAMP:20260423T205452
CREATED:20240919T021027Z
LAST-MODIFIED:20240919T021118Z
UID:16758-1741008600-1741023000@ofix.or.jp
SUMMARY:労働相談 / Labor Consultation
DESCRIPTION:無料・秘密厳守/FREE OF CHARGE AND STRICTLY CONFIDENTIAL \nあなたの国のことばで　話すことができます。\nお金は　かかりません。（0円です）。\nひみつは　まもります。\n通訳がいます。（English\, 中文\, 한국·조선어\, Português\, Español\, ไทย\, Filipino\, Tiếng Việt\, Indonesia\, नेपाली）\n予約を　してください。予約受付は当日16:30まで。 \nInterpretation services are available in English\, Chinese\, Korean\, Portuguese\, Spanish\, Thai\, Filipino\, Vietnamese\, Indonesian and Nepali.\nA reservation is required. The reservation deadline is by 16:30 of the consultation day. \n【相談の方法・Method】\nOFIXに行く / 電話 / オンライン（ZOOM）\nIn person\, by phone or online \n【相談の内容・Topics】\n仕事で困っていること、仕事の規則やお金のこと、職場の仲間や上司のトラブル 、同じところで働いている人　との問題　など\nLabor issues concerning wages\, dismissal\, resignation\, working hours\, labor contracts\, sexual harassment\, power harassment\, etc.
URL:https://ofix.or.jp/calendar/%e5%8a%b4%e5%83%8d%e7%9b%b8%e8%ab%87-labor-consultation-15/
LOCATION:OFIX\, マイドームおおさか５階
CATEGORIES:相談/Consultation
ORGANIZER;CN="%E5%A4%A7%E9%98%AA%E5%BA%9C%E5%A4%96%E5%9B%BD%E4%BA%BA%E6%83%85%E5%A0%B1%E3%82%B3%E3%83%BC%E3%83%8A%E3%83%BC/Osaka Information Service for Foreign Residents":MAILTO:jouhou-c@ofix.or.jp
END:VEVENT
BEGIN:VEVENT
DTSTART;TZID=Asia/Tokyo:20250305T130000
DTEND;TZID=Asia/Tokyo:20250305T160000
DTSTAMP:20260423T205452
CREATED:20250220T043041Z
LAST-MODIFIED:20250220T043041Z
UID:17671-1741179600-1741190400@ofix.or.jp
SUMMARY:(アイハウス) 弁護士相談 （大阪市民のみ）/ (I-HOUSE) Legal Consultation (for Osaka City residents)
DESCRIPTION:詳しくはこちら/For more details:\n(アイハウス) 弁護士相談 （大阪市民のみ）/ (I-HOUSE) Legal Consultation (for Osaka City residents)
URL:https://ofix.or.jp/calendar/%e3%82%a2%e3%82%a4%e3%83%8f%e3%82%a6%e3%82%b9-%e5%bc%81%e8%ad%b7%e5%a3%ab%e7%9b%b8%e8%ab%87-%ef%bc%88%e5%a4%a7%e9%98%aa%e5%b8%82%e6%b0%91%e3%81%ae%e3%81%bf%ef%bc%89-i-house-legal-consultation-fo-7/
END:VEVENT
BEGIN:VEVENT
DTSTART;TZID=Asia/Tokyo:20250307T173000
DTEND;TZID=Asia/Tokyo:20250307T203000
DTSTAMP:20260423T205452
CREATED:20250214T023101Z
LAST-MODIFIED:20250214T023101Z
UID:17623-1741368600-1741379400@ofix.or.jp
SUMMARY:四條畷市）外国人のための相談会 / (Shijonawate City) Consultation for Foreign Residents
DESCRIPTION:詳しくはこちら/For more details:\n外国人のための相談会/ Consultation for Foreign Residents
URL:https://ofix.or.jp/calendar/%e5%9b%9b%e6%a2%9d%e7%95%b7%e5%b8%82%ef%bc%89%e5%a4%96%e5%9b%bd%e4%ba%ba%e3%81%ae%e3%81%9f%e3%82%81%e3%81%ae%e7%9b%b8%e8%ab%87%e4%bc%9a-shijonawate-city-consultation-for-foreign-residents/
CATEGORIES:相談/Consultation
ORGANIZER;CN="%E5%A4%A7%E9%98%AA%E5%BA%9C%E5%A4%96%E5%9B%BD%E4%BA%BA%E6%83%85%E5%A0%B1%E3%82%B3%E3%83%BC%E3%83%8A%E3%83%BC/Osaka Information Service for Foreign Residents":MAILTO:jouhou-c@ofix.or.jp
END:VEVENT
BEGIN:VEVENT
DTSTART;TZID=Asia/Tokyo:20250311T130000
DTEND;TZID=Asia/Tokyo:20250311T160000
DTSTAMP:20260423T205452
CREATED:20241107T051054Z
LAST-MODIFIED:20241107T052056Z
UID:17162-1741698000-1741708800@ofix.or.jp
SUMMARY:（吹田市）弁護士相談 / (SIFA) Legal Consultation
DESCRIPTION:詳しくはこちら/For more details: \n吹田市多文化共生ワンストップ相談センター（Suita Multilingual One stop Consultation Center） \n 
URL:https://ofix.or.jp/calendar/%ef%bc%88%e5%90%b9%e7%94%b0%e5%b8%82%ef%bc%89%e5%bc%81%e8%ad%b7%e5%a3%ab%e7%9b%b8%e8%ab%87-sifa-legal-consultation-2/
END:VEVENT
BEGIN:VEVENT
DTSTART;TZID=Asia/Tokyo:20250311T170000
DTEND;TZID=Asia/Tokyo:20250311T200000
DTSTAMP:20260423T205452
CREATED:20250220T043151Z
LAST-MODIFIED:20250220T043151Z
UID:17673-1741712400-1741723200@ofix.or.jp
SUMMARY:(アイハウス) 弁護士相談 / (I-HOUSE) Legal Consultation
DESCRIPTION:詳しくはこちら/For more details:\n(アイハウス) 弁護士相談 / (I-HOUSE) Legal Consultation
URL:https://ofix.or.jp/calendar/%e3%82%a2%e3%82%a4%e3%83%8f%e3%82%a6%e3%82%b9-%e5%bc%81%e8%ad%b7%e5%a3%ab%e7%9b%b8%e8%ab%87-i-house-legal-consultation-6/
END:VEVENT
BEGIN:VEVENT
DTSTART;TZID=Asia/Tokyo:20250312T130000
DTEND;TZID=Asia/Tokyo:20250312T160000
DTSTAMP:20260423T205452
CREATED:20250220T043303Z
LAST-MODIFIED:20250318T004919Z
UID:17675-1741784400-1741795200@ofix.or.jp
SUMMARY:（アイハウス）行政書士相談 / (I-HOUSE) Visa Consultation (Visa Lawyer)
DESCRIPTION:詳しくはこちら/For more details:\n(アイハウス) 行政書士相談 / (I-HOUSE) Visa Consultation (Visa Lawyer) 
URL:https://ofix.or.jp/calendar/%ef%bc%88%e3%82%a2%e3%82%a4%e3%83%8f%e3%82%a6%e3%82%b9%ef%bc%89%e8%a1%8c%e6%94%bf%e6%9b%b8%e5%a3%ab%e7%9b%b8%e8%ab%87-i-house-visa-consultation-visa-lawyer-8/
END:VEVENT
BEGIN:VEVENT
DTSTART;TZID=Asia/Tokyo:20250315T133000
DTEND;TZID=Asia/Tokyo:20250315T160000
DTSTAMP:20260423T205452
CREATED:20241010T055236Z
LAST-MODIFIED:20241010T055236Z
UID:16895-1742045400-1742054400@ofix.or.jp
SUMMARY:（京都市）法律・ビザ相談 / (Kyoto City) Legal / Visa Consultation
DESCRIPTION:詳しくはこちら/For more details:\n京都市国際交流協会 (Kyoto City International Foundation) 
URL:https://ofix.or.jp/calendar/%ef%bc%88%e4%ba%ac%e9%83%bd%e5%b8%82%ef%bc%89%e6%b3%95%e5%be%8b%e3%83%bb%e3%83%93%e3%82%b6%e7%9b%b8%e8%ab%87-kyoto-city-legal-visa-consultation-10/
END:VEVENT
BEGIN:VEVENT
DTSTART;TZID=Asia/Tokyo:20250317T133000
DTEND;TZID=Asia/Tokyo:20250317T173000
DTSTAMP:20260423T205452
CREATED:20240919T021341Z
LAST-MODIFIED:20240919T021341Z
UID:16760-1742218200-1742232600@ofix.or.jp
SUMMARY:労働相談 / Labor Consultation
DESCRIPTION:無料・秘密厳守/FREE OF CHARGE AND STRICTLY CONFIDENTIAL \nあなたの国のことばで　話すことができます。\nお金は　かかりません。（0円です）。\nひみつは　まもります。\n通訳がいます。（English\, 中文\, 한국·조선어\, Português\, Español\, ไทย\, Filipino\, Tiếng Việt\, Indonesia\, नेपाली）\n予約を　してください。予約受付は当日16:30まで。 \nInterpretation services are available in English\, Chinese\, Korean\, Portuguese\, Spanish\, Thai\, Filipino\, Vietnamese\, Indonesian and Nepali.\nA reservation is required. The reservation deadline is by 16:30 of the consultation day. \n【相談の方法・Method】\nOFIXに行く / 電話 / オンライン（ZOOM）\nIn person\, by phone or online \n【相談の内容・Topics】\n仕事で困っていること、仕事の規則やお金のこと、職場の仲間や上司のトラブル 、同じところで働いている人　との問題　など\nLabor issues concerning wages\, dismissal\, resignation\, working hours\, labor contracts\, sexual harassment\, power harassment\, etc.
URL:https://ofix.or.jp/calendar/%e5%8a%b4%e5%83%8d%e7%9b%b8%e8%ab%87-labor-consultation-16/
LOCATION:OFIX\, マイドームおおさか５階
CATEGORIES:相談/Consultation
ORGANIZER;CN="%E5%A4%A7%E9%98%AA%E5%BA%9C%E5%A4%96%E5%9B%BD%E4%BA%BA%E6%83%85%E5%A0%B1%E3%82%B3%E3%83%BC%E3%83%8A%E3%83%BC/Osaka Information Service for Foreign Residents":MAILTO:jouhou-c@ofix.or.jp
END:VEVENT
BEGIN:VEVENT
DTSTART;TZID=Asia/Tokyo:20250318T130000
DTEND;TZID=Asia/Tokyo:20250318T160000
DTSTAMP:20260423T205452
CREATED:20250220T043405Z
LAST-MODIFIED:20250220T043405Z
UID:17677-1742302800-1742313600@ofix.or.jp
SUMMARY:（アイハウス）入管相談/(I-HOUSE) Immigration Consultation
DESCRIPTION:詳しくはこちら/For more details:\n(アイハウス) 入管相談 /  (I-HOUSE) Immigration Consultation
URL:https://ofix.or.jp/calendar/%ef%bc%88%e3%82%a2%e3%82%a4%e3%83%8f%e3%82%a6%e3%82%b9%ef%bc%89%e5%85%a5%e7%ae%a1%e7%9b%b8%e8%ab%87-i-house-immigration-consultation-6/
END:VEVENT
BEGIN:VEVENT
DTSTART;TZID=Asia/Tokyo:20250319T130000
DTEND;TZID=Asia/Tokyo:20250319T160000
DTSTAMP:20260423T205452
CREATED:20250220T043505Z
LAST-MODIFIED:20250220T043505Z
UID:17679-1742389200-1742400000@ofix.or.jp
SUMMARY:(アイハウス) 弁護士相談 （大阪市民のみ）/ (I-HOUSE) Legal Consultation (for Osaka City residents)
DESCRIPTION:詳しくはこちら/For more details:\n(アイハウス) 弁護士相談 （大阪市民のみ）/ (I-HOUSE) Legal Consultation (for Osaka City residents)
URL:https://ofix.or.jp/calendar/%e3%82%a2%e3%82%a4%e3%83%8f%e3%82%a6%e3%82%b9-%e5%bc%81%e8%ad%b7%e5%a3%ab%e7%9b%b8%e8%ab%87-%ef%bc%88%e5%a4%a7%e9%98%aa%e5%b8%82%e6%b0%91%e3%81%ae%e3%81%bf%ef%bc%89-i-house-legal-consultation-fo-8/
END:VEVENT
BEGIN:VEVENT
DTSTART;TZID=Asia/Tokyo:20250319T140000
DTEND;TZID=Asia/Tokyo:20250319T170000
DTSTAMP:20260423T205452
CREATED:20241027T063055Z
LAST-MODIFIED:20241027T063055Z
UID:16996-1742392800-1742403600@ofix.or.jp
SUMMARY:（堺市）行政書士相談/（Sakai City）Consultation with Bureaucratic Specialist
DESCRIPTION:詳しくはこちら/For more details:\n多文化交流プラザ・さかい（The Plaza of Multicultural Exchange Sakai）
URL:https://ofix.or.jp/calendar/%ef%bc%88%e5%a0%ba%e5%b8%82%ef%bc%89%e8%a1%8c%e6%94%bf%e6%9b%b8%e5%a3%ab%e7%9b%b8%e8%ab%87-%ef%bc%88sakai-city%ef%bc%89consultation-with-bureaucratic-specialist-5/
END:VEVENT
BEGIN:VEVENT
DTSTART;TZID=Asia/Tokyo:20250321T090000
DTEND;TZID=Asia/Tokyo:20250321T210000
DTSTAMP:20260423T205452
CREATED:20240919T023908Z
LAST-MODIFIED:20240919T023908Z
UID:16767-1742547600-1742590800@ofix.or.jp
SUMMARY:夜間集中相談週間 / Consultation Week with Extended Night Hours
DESCRIPTION:
URL:https://ofix.or.jp/calendar/%e5%a4%9c%e9%96%93%e9%9b%86%e4%b8%ad%e7%9b%b8%e8%ab%87%e9%80%b1%e9%96%93-consultation-week-with-extended-night-hours-6/
LOCATION:OFIX\, マイドームおおさか５階
ORGANIZER;CN="%E5%A4%A7%E9%98%AA%E5%BA%9C%E5%A4%96%E5%9B%BD%E4%BA%BA%E6%83%85%E5%A0%B1%E3%82%B3%E3%83%BC%E3%83%8A%E3%83%BC/Osaka Information Service for Foreign Residents":MAILTO:jouhou-c@ofix.or.jp
END:VEVENT
BEGIN:VEVENT
DTSTART;TZID=Asia/Tokyo:20250321T180000
DTEND;TZID=Asia/Tokyo:20250321T210000
DTSTAMP:20260423T205452
CREATED:20240919T023210Z
LAST-MODIFIED:20240919T023210Z
UID:16762-1742580000-1742590800@ofix.or.jp
SUMMARY:弁護士専門相談 / Legal Consultation
DESCRIPTION:無料・秘密厳守/FREE OF CHARGE AND STRICTLY CONFIDENTIAL \nあなたの国のことばで　話すことができます。\nお金は　かかりません。（0円です）。\nひみつは　まもります。\n通訳がいます。（English\, 中文\, 한국·조선어\, Português\, Español\, ไทย\, Filipino\, Tiếng Việt\, Indonesia\, नेपाली）\n予約を　してください。予約受付は当日19:30まで。 \nInterpretation services are available in English\, Chinese\, Korean\, Portuguese\, Spanish\, Thai\, Filipino\, Vietnamese\, Indonesian and Nepali.\nA reservation is required.\nThe reservation deadline is by 19:30 of the consultation day. \n【相談の方法・Method】\nOFIXに行く / 電話 / オンライン（ZOOM）\nIn person\, by phone or online \n【相談の内容・Topics】\n家族の問題で困っていること（結婚、離婚、子ども、財産をもらう、など）、契約トラブル事故、犯罪、など\nLegal matters including divorce\, child custody\, human rights\, domestic violence\, trouble in the workplaces\, consumer troubles and crimes/accidents
URL:https://ofix.or.jp/calendar/%e5%bc%81%e8%ad%b7%e5%a3%ab%e5%b0%82%e9%96%80%e7%9b%b8%e8%ab%87-legal-consultation-4/
LOCATION:OFIX\, マイドームおおさか５階
CATEGORIES:相談/Consultation
ORGANIZER;CN="%E5%A4%A7%E9%98%AA%E5%BA%9C%E5%A4%96%E5%9B%BD%E4%BA%BA%E6%83%85%E5%A0%B1%E3%82%B3%E3%83%BC%E3%83%8A%E3%83%BC/Osaka Information Service for Foreign Residents":MAILTO:jouhou-c@ofix.or.jp
END:VEVENT
BEGIN:VEVENT
DTSTART;TZID=Asia/Tokyo:20250323T133000
DTEND;TZID=Asia/Tokyo:20250323T163000
DTSTAMP:20260423T205452
CREATED:20240919T023531Z
LAST-MODIFIED:20240919T023638Z
UID:16764-1742736600-1742747400@ofix.or.jp
SUMMARY:臨床心理士（心の）相談 / Certified Clinical Psychologist Consultation
DESCRIPTION:無料・秘密厳守/FREE OF CHARGE AND STRICTLY CONFIDENTIAL \nあなたの国のことばで　話すことができます。\nお金は　かかりません。（0円です）。\nひみつは　まもります。\n通訳がいます。（English\, 中文\, 한국·조선어\, Português\, Español\, ไทย\, Filipino\, Tiếng Việt\, Indonesia\, नेपाली）\n予約を　してください。予約受付は21日（金）16:30まで。\nInterpretation services are available in English\, Chinese\, Korean\, Portuguese\, Spanish\, Thai\, Filipino\, Vietnamese\, Indonesian and Nepali.\nA reservation is required. The reservation deadline is by 16:30 on Friday 21st. \n【相談の方法・Method】\nOFIXに行く\nIn person \n【相談の内容・Topics】\n悩みがあるのに話す人がいない、心がつらい など\nWishing to have someone hear about your worries\, having a mentally tough time\, etc.
URL:https://ofix.or.jp/calendar/%e8%87%a8%e5%ba%8a%e5%bf%83%e7%90%86%e5%a3%ab%ef%bc%88%e5%bf%83%e3%81%ae%ef%bc%89%e7%9b%b8%e8%ab%87-certified-clinical-psychologist-consultation-4/
LOCATION:OFIX\, マイドームおおさか５階
CATEGORIES:相談/Consultation
ORGANIZER;CN="%E5%A4%A7%E9%98%AA%E5%BA%9C%E5%A4%96%E5%9B%BD%E4%BA%BA%E6%83%85%E5%A0%B1%E3%82%B3%E3%83%BC%E3%83%8A%E3%83%BC/Osaka Information Service for Foreign Residents":MAILTO:jouhou-c@ofix.or.jp
END:VEVENT
BEGIN:VEVENT
DTSTART;TZID=Asia/Tokyo:20250324T090000
DTEND;TZID=Asia/Tokyo:20250324T210000
DTSTAMP:20260423T205452
CREATED:20240919T024126Z
LAST-MODIFIED:20240919T024126Z
UID:16769-1742806800-1742850000@ofix.or.jp
SUMMARY:夜間集中相談週間 / Consultation Week with Extended Night Hours
DESCRIPTION:
URL:https://ofix.or.jp/calendar/%e5%a4%9c%e9%96%93%e9%9b%86%e4%b8%ad%e7%9b%b8%e8%ab%87%e9%80%b1%e9%96%93-consultation-week-with-extended-night-hours-7/
LOCATION:OFIX\, マイドームおおさか５階
ORGANIZER;CN="%E5%A4%A7%E9%98%AA%E5%BA%9C%E5%A4%96%E5%9B%BD%E4%BA%BA%E6%83%85%E5%A0%B1%E3%82%B3%E3%83%BC%E3%83%8A%E3%83%BC/Osaka Information Service for Foreign Residents":MAILTO:jouhou-c@ofix.or.jp
END:VEVENT
BEGIN:VEVENT
DTSTART;TZID=Asia/Tokyo:20250325T090000
DTEND;TZID=Asia/Tokyo:20250325T210000
DTSTAMP:20260423T205452
CREATED:20240919T024235Z
LAST-MODIFIED:20240919T024235Z
UID:16771-1742893200-1742936400@ofix.or.jp
SUMMARY:夜間集中相談週間 / Consultation Week with Extended Night Hours
DESCRIPTION:
URL:https://ofix.or.jp/calendar/%e5%a4%9c%e9%96%93%e9%9b%86%e4%b8%ad%e7%9b%b8%e8%ab%87%e9%80%b1%e9%96%93-consultation-week-with-extended-night-hours-8/
LOCATION:OFIX\, マイドームおおさか５階
ORGANIZER;CN="%E5%A4%A7%E9%98%AA%E5%BA%9C%E5%A4%96%E5%9B%BD%E4%BA%BA%E6%83%85%E5%A0%B1%E3%82%B3%E3%83%BC%E3%83%8A%E3%83%BC/Osaka Information Service for Foreign Residents":MAILTO:jouhou-c@ofix.or.jp
END:VEVENT
BEGIN:VEVENT
DTSTART;TZID=Asia/Tokyo:20250326T090000
DTEND;TZID=Asia/Tokyo:20250326T210000
DTSTAMP:20260423T205452
CREATED:20240919T024326Z
LAST-MODIFIED:20240919T024326Z
UID:16773-1742979600-1743022800@ofix.or.jp
SUMMARY:夜間集中相談週間 / Consultation Week with Extended Night Hours
DESCRIPTION:
URL:https://ofix.or.jp/calendar/%e5%a4%9c%e9%96%93%e9%9b%86%e4%b8%ad%e7%9b%b8%e8%ab%87%e9%80%b1%e9%96%93-consultation-week-with-extended-night-hours-9/
LOCATION:OFIX\, マイドームおおさか５階
ORGANIZER;CN="%E5%A4%A7%E9%98%AA%E5%BA%9C%E5%A4%96%E5%9B%BD%E4%BA%BA%E6%83%85%E5%A0%B1%E3%82%B3%E3%83%BC%E3%83%8A%E3%83%BC/Osaka Information Service for Foreign Residents":MAILTO:jouhou-c@ofix.or.jp
END:VEVENT
BEGIN:VEVENT
DTSTART;TZID=Asia/Tokyo:20250326T133000
DTEND;TZID=Asia/Tokyo:20250326T173000
DTSTAMP:20260423T205452
CREATED:20250210T024145Z
LAST-MODIFIED:20250210T024351Z
UID:17587-1742995800-1743010200@ofix.or.jp
SUMMARY:入管相談 / Immigration Consultation
DESCRIPTION:無料・秘密厳守/FREE OF CHARGE AND STRICTLY CONFIDENTIAL \nあなたの国のことばで　話すことができます。\nお金は　かかりません。（0円です）。\nひみつは　まもります。\n通訳がいます。（English\, 中文\, 한국·조선어\, Português\, Español\, ไทย\, Filipino\, Tiếng Việt\, Indonesia\, नेपाली）\n予約を　してください。予約受付は当日16:30まで。 \nInterpretation services are available in English\, Chinese\, Korean\, Portuguese\, Spanish\, Thai\, Filipino\, Vietnamese\, Indonesian and Nepali.\nA reservation is required. The reservation deadline is by 16:30 of the consultation day. \n【相談の方法・Method】\nOFIXに行く / 電話 / オンライン（ZOOM）\nIn person\, by phone or online \n【相談の内容・Topics】\nビザ（在留資格）など\nImmigration matters\, including residence status
URL:https://ofix.or.jp/calendar/%e5%85%a5%e7%ae%a1%e7%9b%b8%e8%ab%87-immigration-consultation-9/
LOCATION:OFIX\, マイドームおおさか５階
CATEGORIES:相談/Consultation
ORGANIZER;CN="%E5%A4%A7%E9%98%AA%E5%BA%9C%E5%A4%96%E5%9B%BD%E4%BA%BA%E6%83%85%E5%A0%B1%E3%82%B3%E3%83%BC%E3%83%8A%E3%83%BC/Osaka Information Service for Foreign Residents":MAILTO:jouhou-c@ofix.or.jp
END:VEVENT
BEGIN:VEVENT
DTSTART;TZID=Asia/Tokyo:20250326T170000
DTEND;TZID=Asia/Tokyo:20250326T200000
DTSTAMP:20260423T205452
CREATED:20250220T043814Z
LAST-MODIFIED:20250220T043814Z
UID:17681-1743008400-1743019200@ofix.or.jp
SUMMARY:（アイハウス）行政書士相談 / (I-HOUSE) Visa Consultation (Visa Lawyer)
DESCRIPTION:詳しくはこちら/For more details:\n(アイハウス) 行政書士相談 / (I-HOUSE) Visa Consultation (Visa Lawyer)
URL:https://ofix.or.jp/calendar/%ef%bc%88%e3%82%a2%e3%82%a4%e3%83%8f%e3%82%a6%e3%82%b9%ef%bc%89%e8%a1%8c%e6%94%bf%e6%9b%b8%e5%a3%ab%e7%9b%b8%e8%ab%87-i-house-visa-consultation-visa-lawyer-9/
END:VEVENT
BEGIN:VEVENT
DTSTART;TZID=Asia/Tokyo:20250327T090000
DTEND;TZID=Asia/Tokyo:20250327T210000
DTSTAMP:20260423T205452
CREATED:20240919T024423Z
LAST-MODIFIED:20240919T024423Z
UID:16775-1743066000-1743109200@ofix.or.jp
SUMMARY:夜間集中相談週間 / Consultation Week with Extended Night Hours
DESCRIPTION:
URL:https://ofix.or.jp/calendar/%e5%a4%9c%e9%96%93%e9%9b%86%e4%b8%ad%e7%9b%b8%e8%ab%87%e9%80%b1%e9%96%93-consultation-week-with-extended-night-hours-10/
LOCATION:OFIX\, マイドームおおさか５階
ORGANIZER;CN="%E5%A4%A7%E9%98%AA%E5%BA%9C%E5%A4%96%E5%9B%BD%E4%BA%BA%E6%83%85%E5%A0%B1%E3%82%B3%E3%83%BC%E3%83%8A%E3%83%BC/Osaka Information Service for Foreign Residents":MAILTO:jouhou-c@ofix.or.jp
END:VEVENT
BEGIN:VEVENT
DTSTART;TZID=Asia/Tokyo:20250327T180000
DTEND;TZID=Asia/Tokyo:20250327T200000
DTSTAMP:20260423T205452
CREATED:20241015T063255Z
LAST-MODIFIED:20241015T063255Z
UID:16936-1743098400-1743105600@ofix.or.jp
SUMMARY:労働相談 / Labor Consultation
DESCRIPTION:無料・秘密厳守 / FREE OF CHARGE AND STRICTLY CONFIDENTIAL \nあなたの国のことばで　話すことができます。\nお金は　かかりません。（0円です）。\nひみつは　まもります。\n通訳が　います。（English\, 中文\, 한국·조선어\, Português\, Español\, ไทย\, Filipino\, Tiếng Việt\, Indonesia\, नेपाली）\n予約を　してください。予約受付は　当日19:00まで。 \nInterpretation services are available in English\, Chinese\, Korean\, Portuguese\, Spanish\, Thai\, Filipino\, Vietnamese\, Indonesian and Nepali.\nA reservation is required. The reservation deadline is by 19:00 of the consultation day. \n【相談の方法・Method】\nOFIXに行く / 電話 / オンライン（ZOOM）\nIn person\, by phone or online \n【相談の内容・Topics】\n仕事で困っていること、仕事の規則やお金のこと、職場の仲間や上司のトラブル 、同じところで働いている人　との問題　など\nLabor issues concerning wages\, dismissal\, resignation\, working hours\, labor contracts\, sexual harassment\, power harassment\, etc.
URL:https://ofix.or.jp/calendar/%e5%8a%b4%e5%83%8d%e7%9b%b8%e8%ab%87-labor-consultation-19/
LOCATION:OFIX\, マイドームおおさか５階
CATEGORIES:相談/Consultation
ORGANIZER;CN="%E5%A4%A7%E9%98%AA%E5%BA%9C%E5%A4%96%E5%9B%BD%E4%BA%BA%E6%83%85%E5%A0%B1%E3%82%B3%E3%83%BC%E3%83%8A%E3%83%BC/Osaka Information Service for Foreign Residents":MAILTO:jouhou-c@ofix.or.jp
END:VEVENT
BEGIN:VEVENT
DTSTART;TZID=Asia/Tokyo:20250328T150000
DTEND;TZID=Asia/Tokyo:20250330T200000
DTSTAMP:20260423T205452
CREATED:20250305T054955Z
LAST-MODIFIED:20250305T055225Z
UID:17902-1743174000-1743364800@ofix.or.jp
SUMMARY:（RINK）外国人労働者のためのなんでも電話相談 / (RINK) Telephone Consulting for Foreign Workers
DESCRIPTION:詳しくはこちら / For more details：\n（RINK）外国人労働者のための何でも電話相談 \n 
URL:https://ofix.or.jp/calendar/%ef%bc%88rink%ef%bc%89%e5%a4%96%e5%9b%bd%e4%ba%ba%e5%8a%b4%e5%83%8d%e8%80%85%e3%81%ae%e3%81%9f%e3%82%81%e3%81%ae%e3%81%aa%e3%82%93%e3%81%a7%e3%82%82%e9%9b%bb%e8%a9%b1%e7%9b%b8%e8%ab%87-rink-teleph/
END:VEVENT
BEGIN:VEVENT
DTSTART;TZID=Asia/Tokyo:20250401T130000
DTEND;TZID=Asia/Tokyo:20250401T160000
DTSTAMP:20260423T205452
CREATED:20250410T052627Z
LAST-MODIFIED:20250410T052627Z
UID:18461-1743512400-1743523200@ofix.or.jp
SUMMARY:（吹田市）社労士相談 / (SIFA) Labor Consultations
DESCRIPTION:詳しくはこちら/For more details:\n吹田市多文化共生ワンストップ相談センター（Suita Multilingual One stop Consultation Center）
URL:https://ofix.or.jp/calendar/%ef%bc%88%e5%90%b9%e7%94%b0%e5%b8%82%ef%bc%89%e7%a4%be%e5%8a%b4%e5%a3%ab%e7%9b%b8%e8%ab%87-sifa-labor-consultations-2/
END:VEVENT
END:VCALENDAR