BEGIN:VCALENDAR
VERSION:2.0
PRODID:-//公益財団法人 大阪府国際交流財団 Osaka Foundation of International Exchange (OFIX) - ECPv6.15.20//NONSGML v1.0//EN
CALSCALE:GREGORIAN
METHOD:PUBLISH
X-WR-CALNAME:公益財団法人 大阪府国際交流財団 Osaka Foundation of International Exchange (OFIX)
X-ORIGINAL-URL:https://ofix.or.jp
X-WR-CALDESC:公益財団法人 大阪府国際交流財団 Osaka Foundation of International Exchange (OFIX) のイベント
REFRESH-INTERVAL;VALUE=DURATION:PT1H
X-Robots-Tag:noindex
X-PUBLISHED-TTL:PT1H
BEGIN:VTIMEZONE
TZID:Asia/Tokyo
BEGIN:STANDARD
TZOFFSETFROM:+0900
TZOFFSETTO:+0900
TZNAME:JST
DTSTART:20240101T000000
END:STANDARD
END:VTIMEZONE
BEGIN:VEVENT
DTSTART;TZID=Asia/Tokyo:20260109T133000
DTEND;TZID=Asia/Tokyo:20260109T173000
DTSTAMP:20260422T004427
CREATED:20250409T023922Z
LAST-MODIFIED:20250409T023922Z
UID:18407-1767965400-1767979800@ofix.or.jp
SUMMARY:入管相談 / Immigration Consultations
DESCRIPTION:無料・秘密厳守/FREE OF CHARGE AND STRICTLY CONFIDENTIAL \n  \nあなたの国のことばで　話すことができます。\nお金は　かかりません。（0円です）。\nひみつは　まもります。\n通訳がいます。\n（English\, 中文\, 한국·조선어\, Português\, Español\, ไทย\, Filipino\, Tiếng Việt\, Indonesia\, नेपाली）\n予約を　してください。 \n  \nInterpretation services are available in English\, Chinese\, Korean\, Portuguese\, Spanish\, Thai\, Filipino\, Vietnamese\, Indonesian and Nepali.\nA reservation is required. \n  \n【相談の方法・Method】\nOFIXに行く / 電話 / オンライン（ZOOM）\nIn person\, by phone or online \n  \n【相談の内容・Topics】\nビザ（在留資格）など\nImmigration matters\, including residence status \n 
URL:https://ofix.or.jp/calendar/%e5%85%a5%e7%ae%a1%e7%9b%b8%e8%ab%87-immigration-consultations-10/
LOCATION:OFIX\, マイドームおおさか５階
CATEGORIES:相談/Consultation
ORGANIZER;CN="%E5%A4%A7%E9%98%AA%E5%BA%9C%E5%A4%96%E5%9B%BD%E4%BA%BA%E6%83%85%E5%A0%B1%E3%82%B3%E3%83%BC%E3%83%8A%E3%83%BC/Osaka Information Service for Foreign Residents":MAILTO:jouhou-c@ofix.or.jp
END:VEVENT
BEGIN:VEVENT
DTSTART;TZID=Asia/Tokyo:20260107T130000
DTEND;TZID=Asia/Tokyo:20260107T160000
DTSTAMP:20260422T004428
CREATED:20250905T005719Z
LAST-MODIFIED:20250905T005719Z
UID:19698-1767790800-1767801600@ofix.or.jp
SUMMARY:(アイハウス) 弁護士相談（大阪市民のみ） / (I-HOUSE) Legal Consultation (for Osaka City residents)
DESCRIPTION:詳しくはこちら/For more details:\n(アイハウス) 弁護士相談（大阪市民のみ） / (I-HOUSE) Legal Consultation (for Osaka City residents)
URL:https://ofix.or.jp/calendar/%e3%82%a2%e3%82%a4%e3%83%8f%e3%82%a6%e3%82%b9-%e5%bc%81%e8%ad%b7%e5%a3%ab%e7%9b%b8%e8%ab%87%ef%bc%88%e5%a4%a7%e9%98%aa%e5%b8%82%e6%b0%91%e3%81%ae%e3%81%bf%ef%bc%89-i-house-legal-consultation-fo-11/
END:VEVENT
BEGIN:VEVENT
DTSTART;VALUE=DATE:20251229
DTEND;VALUE=DATE:20260104
DTSTAMP:20260422T004428
CREATED:20250409T070143Z
LAST-MODIFIED:20250409T070923Z
UID:18443-1766966400-1767484799@ofix.or.jp
SUMMARY:年末年始のお休み / New Year's Holiday Closure
DESCRIPTION:2025年12月29日（月）から2026年1月3日（土）まで、年末年始のためOFIXはお休みです。\nOFIX will be closed from Monday\, December 29\, 2025 to Saturday\, January 3\, 2026 due to the New Year’s holiday.
URL:https://ofix.or.jp/calendar/%e5%b9%b4%e6%9c%ab%e5%b9%b4%e5%a7%8b%e3%81%ae%e3%81%8a%e4%bc%91%e3%81%bf-new-years-holiday/
END:VEVENT
BEGIN:VEVENT
DTSTART;TZID=Asia/Tokyo:20251226T180000
DTEND;TZID=Asia/Tokyo:20251226T200000
DTSTAMP:20260422T004428
CREATED:20250409T020818Z
LAST-MODIFIED:20250409T020818Z
UID:18403-1766772000-1766779200@ofix.or.jp
SUMMARY:弁護士相談 / Legal Consultations
DESCRIPTION:無料・秘密厳守/FREE OF CHARGE AND STRICTLY CONFIDENTIAL \n  \nあなたの国のことばで　話すことができます。\nお金は　かかりません。（0円です）。\nひみつは　まもります。\n通訳がいます。\n（English\, 中文\, 한국·조선어\, Português\, Español\, ไทย\, Filipino\, Tiếng Việt\, Indonesia\, नेपाली）\n予約を　してください。 \n  \nInterpretation services are available in English\, Chinese\, Korean\, Portuguese\, Spanish\, Thai\, Filipino\, Vietnamese\, Indonesian and Nepali.\nA reservation is required. \n  \n【相談の方法・Method】\nOFIXに行く / 電話 / オンライン（ZOOM）\nIn person\, by phone or online \n  \n【相談の内容・Topics】\n家族の問題で困っていること（結婚、離婚、子ども、財産をもらう、など）、契約トラブル事故、犯罪、など \nLegal matters including divorce\, child custody\, human rights\, domestic violence\, trouble in the workplaces\, consumer troubles and crimes/accidents \n 
URL:https://ofix.or.jp/calendar/%e5%bc%81%e8%ad%b7%e5%a3%ab%e7%9b%b8%e8%ab%87-legal-consultations-9/
LOCATION:OFIX\, マイドームおおさか５階
CATEGORIES:相談/Consultation
ORGANIZER;CN="%E5%A4%A7%E9%98%AA%E5%BA%9C%E5%A4%96%E5%9B%BD%E4%BA%BA%E6%83%85%E5%A0%B1%E3%82%B3%E3%83%BC%E3%83%8A%E3%83%BC/Osaka Information Service for Foreign Residents":MAILTO:jouhou-c@ofix.or.jp
END:VEVENT
BEGIN:VEVENT
DTSTART;TZID=Asia/Tokyo:20251224T170000
DTEND;TZID=Asia/Tokyo:20251224T200000
DTSTAMP:20260422T004428
CREATED:20250905T005459Z
LAST-MODIFIED:20250905T005459Z
UID:19696-1766595600-1766606400@ofix.or.jp
SUMMARY:（アイハウス）行政書士相談（大阪市民のみ） / (I-HOUSE) Visa Consultation (by visa lawyers) (for Osaka City residents)
DESCRIPTION:詳しくはこちら/For more details:\n(アイハウス) 行政書士相談（大阪市民のみ） / (I-HOUSE) Visa Consultation (Visa Lawyer) (for Osaka City residents)
URL:https://ofix.or.jp/calendar/%ef%bc%88%e3%82%a2%e3%82%a4%e3%83%8f%e3%82%a6%e3%82%b9%ef%bc%89%e8%a1%8c%e6%94%bf%e6%9b%b8%e5%a3%ab%e7%9b%b8%e8%ab%87%ef%bc%88%e5%a4%a7%e9%98%aa%e5%b8%82%e6%b0%91%e3%81%ae%e3%81%bf%ef%bc%89-i-house-16/
END:VEVENT
BEGIN:VEVENT
DTSTART;TZID=Asia/Tokyo:20251221T130000
DTEND;TZID=Asia/Tokyo:20251221T170000
DTSTAMP:20260422T004428
CREATED:20250409T020632Z
LAST-MODIFIED:20250409T020632Z
UID:18401-1766322000-1766336400@ofix.or.jp
SUMMARY:臨床心理士相談 / Certified Clinical Psychologist Consultations
DESCRIPTION:無料・秘密厳守/FREE OF CHARGE AND STRICTLY CONFIDENTIAL \n  \nあなたの国のことばで　話すことができます。\nお金は　かかりません。（0円です）。\nひみつは　まもります。\n通訳がいます。\n（English\, 中文\, 한국·조선어\, Português\, Español\, ไทย\, Filipino\, Tiếng Việt\, Indonesia\, नेपाली）\n予約を　してください。 \n  \nInterpretation services are available in English\, Chinese\, Korean\, Portuguese\, Spanish\, Thai\, Filipino\, Vietnamese\, Indonesian and Nepali.\nA reservation is required. \n  \n【相談の方法・Method】\nOFIXに行く\nIn person \n  \n【相談の内容・Topics】\n悩みがあるのに話す人がいない、心がつらいなど \nNeed someone to talk to about your worries\, having a mentally tough time\, etc. \n  \n 
URL:https://ofix.or.jp/calendar/%e8%87%a8%e5%ba%8a%e5%bf%83%e7%90%86%e5%a3%ab%e7%9b%b8%e8%ab%87-certified-clinical-psychologist-consultations-3/
LOCATION:OFIX\, マイドームおおさか５階
CATEGORIES:相談/Consultation
ORGANIZER;CN="%E5%A4%A7%E9%98%AA%E5%BA%9C%E5%A4%96%E5%9B%BD%E4%BA%BA%E6%83%85%E5%A0%B1%E3%82%B3%E3%83%BC%E3%83%8A%E3%83%BC/Osaka Information Service for Foreign Residents":MAILTO:jouhou-c@ofix.or.jp
END:VEVENT
BEGIN:VEVENT
DTSTART;TZID=Asia/Tokyo:20251218T180000
DTEND;TZID=Asia/Tokyo:20251218T200000
DTSTAMP:20260422T004428
CREATED:20250409T020351Z
LAST-MODIFIED:20250409T020351Z
UID:18399-1766080800-1766088000@ofix.or.jp
SUMMARY:労働相談 / Labor Consultations
DESCRIPTION:無料・秘密厳守/FREE OF CHARGE AND STRICTLY CONFIDENTIAL \n  \nあなたの国のことばで　話すことができます。\nお金は　かかりません。（0円です）。\nひみつは　まもります。\n通訳がいます。\n（English\, 中文\, 한국·조선어\, Português\, Español\, ไทย\, Filipino\, Tiếng Việt\, Indonesia\, नेपाली）\n予約を　してください。 \n  \nInterpretation services are available in English\, Chinese\, Korean\, Portuguese\, Spanish\, Thai\, Filipino\, Vietnamese\, Indonesian and Nepali.\nA reservation is required. \n  \n【相談の方法・Method】\nOFIXに行く / 電話 / オンライン（ZOOM）\nIn person\, by phone or online \n  \n【相談の内容・Topics】\n仕事で困っていること、仕事の規則やお金のこと、職場の仲間や上司のトラブル 、同じところで働いている人　との問題　など\nLabor issues concerning wages\, dismissal\, resignation\, working hours\, labor contracts\, sexual harassment\, power harassment\, etc. \n  \n 
URL:https://ofix.or.jp/calendar/%e5%8a%b4%e5%83%8d%e7%9b%b8%e8%ab%87-labor-consultations-16/
LOCATION:OFIX\, マイドームおおさか５階
CATEGORIES:相談/Consultation
ORGANIZER;CN="%E5%A4%A7%E9%98%AA%E5%BA%9C%E5%A4%96%E5%9B%BD%E4%BA%BA%E6%83%85%E5%A0%B1%E3%82%B3%E3%83%BC%E3%83%8A%E3%83%BC/Osaka Information Service for Foreign Residents":MAILTO:jouhou-c@ofix.or.jp
END:VEVENT
BEGIN:VEVENT
DTSTART;TZID=Asia/Tokyo:20251217T170000
DTEND;TZID=Asia/Tokyo:20251217T200000
DTSTAMP:20260422T004428
CREATED:20250905T005342Z
LAST-MODIFIED:20250905T005342Z
UID:19694-1765990800-1766001600@ofix.or.jp
SUMMARY:(アイハウス) 弁護士相談（大阪市民のみ） / (I-HOUSE) Legal Consultation (for Osaka City residents)
DESCRIPTION:詳しくはこちら/For more details:\n(アイハウス) 弁護士相談（大阪市民のみ） / (I-HOUSE) Legal Consultation (for Osaka City residents)
URL:https://ofix.or.jp/calendar/%e3%82%a2%e3%82%a4%e3%83%8f%e3%82%a6%e3%82%b9-%e5%bc%81%e8%ad%b7%e5%a3%ab%e7%9b%b8%e8%ab%87%ef%bc%88%e5%a4%a7%e9%98%aa%e5%b8%82%e6%b0%91%e3%81%ae%e3%81%bf%ef%bc%89-i-house-legal-consultation-fo-10/
END:VEVENT
BEGIN:VEVENT
DTSTART;TZID=Asia/Tokyo:20251217T140000
DTEND;TZID=Asia/Tokyo:20251217T170000
DTSTAMP:20260422T004428
CREATED:20250402T062931Z
LAST-MODIFIED:20250402T062931Z
UID:18248-1765980000-1765990800@ofix.or.jp
SUMMARY:（堺市）行政書士相談 / (Sakai city) Visa Consultation (by visa lawyers)
DESCRIPTION:詳しくはこちら/For more details:\n（堺市）行政書士相談/(Sakai city) Visa Consultation (by visa lawyers)
URL:https://ofix.or.jp/calendar/%ef%bc%88%e5%a0%ba%e5%b8%82%ef%bc%89%e8%a1%8c%e6%94%bf%e6%9b%b8%e5%a3%ab%e7%9b%b8%e8%ab%87-sakai-city-visa-consultation-by-visa-lawyers-9/
END:VEVENT
BEGIN:VEVENT
DTSTART;TZID=Asia/Tokyo:20251216T130000
DTEND;TZID=Asia/Tokyo:20251216T160000
DTSTAMP:20260422T004428
CREATED:20250905T005207Z
LAST-MODIFIED:20250905T005207Z
UID:19691-1765890000-1765900800@ofix.or.jp
SUMMARY:（アイハウス）入管相談 / (I-HOUSE) Visa Consultation (by Immigration Officers)
DESCRIPTION:詳しくはこちら/For more details:\n(アイハウス) 入管相談 /  (I-HOUSE) Visa Consultation by Immigration Officers
URL:https://ofix.or.jp/calendar/%ef%bc%88%e3%82%a2%e3%82%a4%e3%83%8f%e3%82%a6%e3%82%b9%ef%bc%89%e5%85%a5%e7%ae%a1%e7%9b%b8%e8%ab%87-i-house-visa-consultation-by-immigration-officers-3/
END:VEVENT
BEGIN:VEVENT
DTSTART;TZID=Asia/Tokyo:20251212T133000
DTEND;TZID=Asia/Tokyo:20251212T173000
DTSTAMP:20260422T004428
CREATED:20250409T020043Z
LAST-MODIFIED:20250409T020043Z
UID:18397-1765546200-1765560600@ofix.or.jp
SUMMARY:入管相談 / Immigration Consultations
DESCRIPTION:無料・秘密厳守/FREE OF CHARGE AND STRICTLY CONFIDENTIAL \n  \nあなたの国のことばで　話すことができます。\nお金は　かかりません。（0円です）。\nひみつは　まもります。\n通訳がいます。\n（English\, 中文\, 한국·조선어\, Português\, Español\, ไทย\, Filipino\, Tiếng Việt\, Indonesia\, नेपाली）\n予約を　してください。 \n  \nInterpretation services are available in English\, Chinese\, Korean\, Portuguese\, Spanish\, Thai\, Filipino\, Vietnamese\, Indonesian and Nepali.\nA reservation is required. \n  \n【相談の方法・Method】\nOFIXに行く / 電話 / オンライン（ZOOM）\nIn person\, by phone or online \n  \n【相談の内容・Topics】\nビザ（在留資格）など\nImmigration matters\, including residence status \n 
URL:https://ofix.or.jp/calendar/%e5%85%a5%e7%ae%a1%e7%9b%b8%e8%ab%87-immigration-consultations-9/
LOCATION:OFIX\, マイドームおおさか５階
CATEGORIES:相談/Consultation
ORGANIZER;CN="%E5%A4%A7%E9%98%AA%E5%BA%9C%E5%A4%96%E5%9B%BD%E4%BA%BA%E6%83%85%E5%A0%B1%E3%82%B3%E3%83%BC%E3%83%8A%E3%83%BC/Osaka Information Service for Foreign Residents":MAILTO:jouhou-c@ofix.or.jp
END:VEVENT
BEGIN:VEVENT
DTSTART;TZID=Asia/Tokyo:20251210T130000
DTEND;TZID=Asia/Tokyo:20251210T160000
DTSTAMP:20260422T004428
CREATED:20250903T031345Z
LAST-MODIFIED:20250903T031413Z
UID:19667-1765371600-1765382400@ofix.or.jp
SUMMARY:（アイハウス）行政書士相談（大阪市民のみ） / (I-HOUSE) Visa Consultation (by visa lawyer) (for Osaka City residents)
DESCRIPTION:詳しくはこちら/For more details:\n(アイハウス) 行政書士相談（大阪市民のみ） / (I-HOUSE) Visa Consultation (by Visa Lawyer) (for Osaka City residents)
URL:https://ofix.or.jp/calendar/%ef%bc%88%e3%82%a2%e3%82%a4%e3%83%8f%e3%82%a6%e3%82%b9%ef%bc%89%e8%a1%8c%e6%94%bf%e6%9b%b8%e5%a3%ab%e7%9b%b8%e8%ab%87%ef%bc%88%e5%a4%a7%e9%98%aa%e5%b8%82%e6%b0%91%e3%81%ae%e3%81%bf%ef%bc%89-i-house-15/
END:VEVENT
BEGIN:VEVENT
DTSTART;TZID=Asia/Tokyo:20251209T130000
DTEND;TZID=Asia/Tokyo:20251209T160000
DTSTAMP:20260422T004428
CREATED:20250910T015719Z
LAST-MODIFIED:20250910T020202Z
UID:19754-1765285200-1765296000@ofix.or.jp
SUMMARY:（吹田市）弁護士相談 / (SIFA) Legal Consultations
DESCRIPTION:詳しくはこちら/For more details:\n吹田市多文化共生ワンストップ相談センター（Suita Multilingual One stop Consultation Center）
URL:https://ofix.or.jp/calendar/%ef%bc%88%e5%90%b9%e7%94%b0%e5%b8%82%ef%bc%89%e5%bc%81%e8%ad%b7%e5%a3%ab%e7%9b%b8%e8%ab%87-sifa-legal-consultations-3/
END:VEVENT
BEGIN:VEVENT
DTSTART;TZID=Asia/Tokyo:20251205T133000
DTEND;TZID=Asia/Tokyo:20251205T173000
DTSTAMP:20260422T004428
CREATED:20250409T015512Z
LAST-MODIFIED:20250409T015512Z
UID:18395-1764941400-1764955800@ofix.or.jp
SUMMARY:労働相談 / Labor Consultations
DESCRIPTION:無料・秘密厳守/FREE OF CHARGE AND STRICTLY CONFIDENTIAL \n  \nあなたの国のことばで　話すことができます。\nお金は　かかりません。（0円です）。\nひみつは　まもります。\n通訳がいます。\n（English\, 中文\, 한국·조선어\, Português\, Español\, ไทย\, Filipino\, Tiếng Việt\, Indonesia\, नेपाली）\n予約を　してください。 \n  \nInterpretation services are available in English\, Chinese\, Korean\, Portuguese\, Spanish\, Thai\, Filipino\, Vietnamese\, Indonesian and Nepali.\nA reservation is required. \n  \n【相談の方法・Method】\nOFIXに行く / 電話 / オンライン（ZOOM）\nIn person\, by phone or online \n  \n【相談の内容・Topics】\n仕事で困っていること、仕事の規則やお金のこと、職場の仲間や上司のトラブル 、同じところで働いている人　との問題　など\nLabor issues concerning wages\, dismissal\, resignation\, working hours\, labor contracts\, sexual harassment\, power harassment\, etc.
URL:https://ofix.or.jp/calendar/%e5%8a%b4%e5%83%8d%e7%9b%b8%e8%ab%87-labor-consultations-15/
LOCATION:OFIX\, マイドームおおさか５階
CATEGORIES:相談/Consultation
ORGANIZER;CN="%E5%A4%A7%E9%98%AA%E5%BA%9C%E5%A4%96%E5%9B%BD%E4%BA%BA%E6%83%85%E5%A0%B1%E3%82%B3%E3%83%BC%E3%83%8A%E3%83%BC/Osaka Information Service for Foreign Residents":MAILTO:jouhou-c@ofix.or.jp
END:VEVENT
BEGIN:VEVENT
DTSTART;TZID=Asia/Tokyo:20251203T130000
DTEND;TZID=Asia/Tokyo:20251203T160000
DTSTAMP:20260422T004428
CREATED:20250903T031215Z
LAST-MODIFIED:20250903T031215Z
UID:19665-1764766800-1764777600@ofix.or.jp
SUMMARY:(アイハウス) 弁護士相談（大阪市民のみ） / (I-HOUSE) Legal Consultation (for Osaka City residents)
DESCRIPTION:詳しくはこちら/For more details:\n(アイハウス) 弁護士相談（大阪市民のみ） / (I-HOUSE) Legal Consultation (for Osaka City residents)
URL:https://ofix.or.jp/calendar/%e3%82%a2%e3%82%a4%e3%83%8f%e3%82%a6%e3%82%b9-%e5%bc%81%e8%ad%b7%e5%a3%ab%e7%9b%b8%e8%ab%87%ef%bc%88%e5%a4%a7%e9%98%aa%e5%b8%82%e6%b0%91%e3%81%ae%e3%81%bf%ef%bc%89-i-house-legal-consultation-fo-9/
END:VEVENT
BEGIN:VEVENT
DTSTART;TZID=Asia/Tokyo:20251128T180000
DTEND;TZID=Asia/Tokyo:20251128T200000
DTSTAMP:20260422T004428
CREATED:20250409T011339Z
LAST-MODIFIED:20250409T011339Z
UID:18392-1764352800-1764360000@ofix.or.jp
SUMMARY:弁護士相談 / Legal Consultations
DESCRIPTION:無料・秘密厳守/FREE OF CHARGE AND STRICTLY CONFIDENTIAL \n  \nあなたの国のことばで　話すことができます。\nお金は　かかりません。（0円です）。\nひみつは　まもります。\n通訳がいます。\n（English\, 中文\, 한국·조선어\, Português\, Español\, ไทย\, Filipino\, Tiếng Việt\, Indonesia\, नेपाली）\n予約を　してください。 \n  \nInterpretation services are available in English\, Chinese\, Korean\, Portuguese\, Spanish\, Thai\, Filipino\, Vietnamese\, Indonesian and Nepali.\nA reservation is required. \n  \n【相談の方法・Method】\nOFIXに行く / 電話 / オンライン（ZOOM）\nIn person\, by phone or online \n  \n【相談の内容・Topics】\n家族の問題で困っていること（結婚、離婚、子ども、財産をもらう、など）、契約トラブル事故、犯罪、など \nLegal matters including divorce\, child custody\, human rights\, domestic violence\, trouble in the workplaces\, consumer troubles and crimes/accidents \n 
URL:https://ofix.or.jp/calendar/%e5%bc%81%e8%ad%b7%e5%a3%ab%e7%9b%b8%e8%ab%87-legal-consultations-8/
LOCATION:OFIX\, マイドームおおさか５階
CATEGORIES:相談/Consultation
ORGANIZER;CN="%E5%A4%A7%E9%98%AA%E5%BA%9C%E5%A4%96%E5%9B%BD%E4%BA%BA%E6%83%85%E5%A0%B1%E3%82%B3%E3%83%BC%E3%83%8A%E3%83%BC/Osaka Information Service for Foreign Residents":MAILTO:jouhou-c@ofix.or.jp
END:VEVENT
BEGIN:VEVENT
DTSTART;TZID=Asia/Tokyo:20251126T170000
DTEND;TZID=Asia/Tokyo:20251126T200000
DTSTAMP:20260422T004428
CREATED:20250903T031018Z
LAST-MODIFIED:20250903T031106Z
UID:19661-1764176400-1764187200@ofix.or.jp
SUMMARY:（アイハウス）行政書士相談（大阪市民のみ） / (I-HOUSE) Visa Consultation (by visa lawyer) (for Osaka City residents)
DESCRIPTION:詳しくはこちら/For more details:\n(アイハウス) 行政書士相談（大阪市民のみ） / (I-HOUSE) Visa Consultation (by Visa Lawyer) (for Osaka City residents)
URL:https://ofix.or.jp/calendar/%ef%bc%88%e3%82%a2%e3%82%a4%e3%83%8f%e3%82%a6%e3%82%b9%ef%bc%89%e8%a1%8c%e6%94%bf%e6%9b%b8%e5%a3%ab%e7%9b%b8%e8%ab%87%ef%bc%88%e5%a4%a7%e9%98%aa%e5%b8%82%e6%b0%91%e3%81%ae%e3%81%bf%ef%bc%89-i-house-14/
END:VEVENT
BEGIN:VEVENT
DTSTART;TZID=Asia/Tokyo:20251125T130000
DTEND;TZID=Asia/Tokyo:20251125T160000
DTSTAMP:20260422T004428
CREATED:20250910T015114Z
LAST-MODIFIED:20250910T015114Z
UID:19750-1764075600-1764086400@ofix.or.jp
SUMMARY:（吹田市）行政書士相談 / (SIFA) Visa Consultations
DESCRIPTION:詳しくはこちら/For more details:\n吹田市多文化共生ワンストップ相談センター（Suita Multilingual One stop Consultation Center）
URL:https://ofix.or.jp/calendar/%ef%bc%88%e5%90%b9%e7%94%b0%e5%b8%82%ef%bc%89%e8%a1%8c%e6%94%bf%e6%9b%b8%e5%a3%ab%e7%9b%b8%e8%ab%87-sifa-visa-consultations-3/
END:VEVENT
BEGIN:VEVENT
DTSTART;TZID=Asia/Tokyo:20251120T180000
DTEND;TZID=Asia/Tokyo:20251120T200000
DTSTAMP:20260422T004428
CREATED:20250409T011135Z
LAST-MODIFIED:20250409T011135Z
UID:18390-1763661600-1763668800@ofix.or.jp
SUMMARY:労働相談 / Labor Consultations
DESCRIPTION:無料・秘密厳守/FREE OF CHARGE AND STRICTLY CONFIDENTIAL \n  \nあなたの国のことばで　話すことができます。\nお金は　かかりません。（0円です）。\nひみつは　まもります。\n通訳がいます。\n（English\, 中文\, 한국·조선어\, Português\, Español\, ไทย\, Filipino\, Tiếng Việt\, Indonesia\, नेपाली）\n予約を　してください。 \n  \nInterpretation services are available in English\, Chinese\, Korean\, Portuguese\, Spanish\, Thai\, Filipino\, Vietnamese\, Indonesian and Nepali.\nA reservation is required. \n  \n【相談の方法・Method】\nOFIXに行く / 電話 / オンライン（ZOOM）\nIn person\, by phone or online \n  \n【相談の内容・Topics】\n仕事で困っていること、仕事の規則やお金のこと、職場の仲間や上司のトラブル 、同じところで働いている人　との問題　など\nLabor issues concerning wages\, dismissal\, resignation\, working hours\, labor contracts\, sexual harassment\, power harassment\, etc. \n  \n 
URL:https://ofix.or.jp/calendar/%e5%8a%b4%e5%83%8d%e7%9b%b8%e8%ab%87-labor-consultations-14/
LOCATION:OFIX\, マイドームおおさか５階
CATEGORIES:相談/Consultation
ORGANIZER;CN="%E5%A4%A7%E9%98%AA%E5%BA%9C%E5%A4%96%E5%9B%BD%E4%BA%BA%E6%83%85%E5%A0%B1%E3%82%B3%E3%83%BC%E3%83%8A%E3%83%BC/Osaka Information Service for Foreign Residents":MAILTO:jouhou-c@ofix.or.jp
END:VEVENT
BEGIN:VEVENT
DTSTART;TZID=Asia/Tokyo:20251119T140000
DTEND;TZID=Asia/Tokyo:20251119T170000
DTSTAMP:20260422T004428
CREATED:20250402T062838Z
LAST-MODIFIED:20250402T062838Z
UID:18246-1763560800-1763571600@ofix.or.jp
SUMMARY:（堺市）行政書士相談 / (Sakai city) Visa Consultation (by visa lawyers)
DESCRIPTION:詳しくはこちら/For more details:\n（堺市）行政書士相談/(Sakai city) Visa Consultation (by visa lawyers)
URL:https://ofix.or.jp/calendar/%ef%bc%88%e5%a0%ba%e5%b8%82%ef%bc%89%e8%a1%8c%e6%94%bf%e6%9b%b8%e5%a3%ab%e7%9b%b8%e8%ab%87-sakai-city-visa-consultation-by-visa-lawyers-8/
END:VEVENT
BEGIN:VEVENT
DTSTART;TZID=Asia/Tokyo:20251119T130000
DTEND;TZID=Asia/Tokyo:20251119T160000
DTSTAMP:20260422T004428
CREATED:20250903T030905Z
LAST-MODIFIED:20250903T030905Z
UID:19659-1763557200-1763568000@ofix.or.jp
SUMMARY:(アイハウス) 弁護士相談（大阪市民のみ） / (I-HOUSE) Legal Consultation (for Osaka City residents)
DESCRIPTION:詳しくはこちら/For more details:\n(アイハウス) 弁護士相談（大阪市民のみ） / (I-HOUSE) Legal Consultation (for Osaka City residents)
URL:https://ofix.or.jp/calendar/%e3%82%a2%e3%82%a4%e3%83%8f%e3%82%a6%e3%82%b9-%e5%bc%81%e8%ad%b7%e5%a3%ab%e7%9b%b8%e8%ab%87%ef%bc%88%e5%a4%a7%e9%98%aa%e5%b8%82%e6%b0%91%e3%81%ae%e3%81%bf%ef%bc%89-i-house-legal-consultation-fo-8/
END:VEVENT
BEGIN:VEVENT
DTSTART;TZID=Asia/Tokyo:20251118T130000
DTEND;TZID=Asia/Tokyo:20251118T160000
DTSTAMP:20260422T004428
CREATED:20250903T030749Z
LAST-MODIFIED:20250903T030809Z
UID:19656-1763470800-1763481600@ofix.or.jp
SUMMARY:（アイハウス）入管相談 / (I-HOUSE) Visa Consultation (by Immigration Officers)
DESCRIPTION:詳しくはこちら/For more details:\n(アイハウス) 入管相談 /  (I-HOUSE) Visa Consultation by Immigration Officers
URL:https://ofix.or.jp/calendar/%ef%bc%88%e3%82%a2%e3%82%a4%e3%83%8f%e3%82%a6%e3%82%b9%ef%bc%89%e5%85%a5%e7%ae%a1%e7%9b%b8%e8%ab%87-i-house-visa-consultation-by-immigration-officers-2/
END:VEVENT
BEGIN:VEVENT
DTSTART;TZID=Asia/Tokyo:20251116T130000
DTEND;TZID=Asia/Tokyo:20251116T170000
DTSTAMP:20260422T004428
CREATED:20250409T010745Z
LAST-MODIFIED:20250409T010745Z
UID:18388-1763298000-1763312400@ofix.or.jp
SUMMARY:行政書士相談 / Bureaucratic Procedures Consultation
DESCRIPTION:無料・秘密厳守/FREE OF CHARGE AND STRICTLY CONFIDENTIAL \n  \nあなたの国のことばで　話すことができます。\nお金は　かかりません。（0円です）。\nひみつは　まもります。\n通訳がいます。\n（English\, 中文\, 한국·조선어\, Português\, Español\, ไทย\, Filipino\, Tiếng Việt\, Indonesia\, नेपाली）\n予約を　してください。 \n  \nInterpretation services are available in English\, Chinese\, Korean\, Portuguese\, Spanish\, Thai\, Filipino\, Vietnamese\, Indonesian and Nepali.\nA reservation is required. \n  \n【相談の方法・Method】\nOFIXに行く / 電話 / オンライン（ZOOM）\nIn person\, by phone or online \n  \n【相談の内容・Topics】\nビザ（在留資格）のこと、帰化申請、永住許可、国際結婚や経営・管理に関する手続きなど\nVarious administrative issues concerning residence status\, naturalization\, permanent residency\, international marriage and setting up a business\, etc. \n  \n 
URL:https://ofix.or.jp/calendar/%e8%a1%8c%e6%94%bf%e6%9b%b8%e5%a3%ab%e7%9b%b8%e8%ab%87-bureaucratic-procedures-consultation-5/
LOCATION:OFIX\, マイドームおおさか５階
CATEGORIES:相談/Consultation
ORGANIZER;CN="%E5%A4%A7%E9%98%AA%E5%BA%9C%E5%A4%96%E5%9B%BD%E4%BA%BA%E6%83%85%E5%A0%B1%E3%82%B3%E3%83%BC%E3%83%8A%E3%83%BC/Osaka Information Service for Foreign Residents":MAILTO:jouhou-c@ofix.or.jp
END:VEVENT
BEGIN:VEVENT
DTSTART;TZID=Asia/Tokyo:20251114T133000
DTEND;TZID=Asia/Tokyo:20251114T173000
DTSTAMP:20260422T004428
CREATED:20250409T010232Z
LAST-MODIFIED:20250409T010232Z
UID:18386-1763127000-1763141400@ofix.or.jp
SUMMARY:入管相談 / Immigration Consultations
DESCRIPTION:無料・秘密厳守/FREE OF CHARGE AND STRICTLY CONFIDENTIAL \n  \nあなたの国のことばで　話すことができます。\nお金は　かかりません。（0円です）。\nひみつは　まもります。\n通訳がいます。\n（English\, 中文\, 한국·조선어\, Português\, Español\, ไทย\, Filipino\, Tiếng Việt\, Indonesia\, नेपाली）\n予約を　してください。 \n  \nInterpretation services are available in English\, Chinese\, Korean\, Portuguese\, Spanish\, Thai\, Filipino\, Vietnamese\, Indonesian and Nepali.\nA reservation is required. \n  \n【相談の方法・Method】\nOFIXに行く / 電話 / オンライン（ZOOM）\nIn person\, by phone or online \n  \n【相談の内容・Topics】\nビザ（在留資格）など\nImmigration matters\, including residence status \n  \n 
URL:https://ofix.or.jp/calendar/%e5%85%a5%e7%ae%a1%e7%9b%b8%e8%ab%87-immigration-consultations-8/
LOCATION:OFIX\, マイドームおおさか５階
CATEGORIES:相談/Consultation
ORGANIZER;CN="%E5%A4%A7%E9%98%AA%E5%BA%9C%E5%A4%96%E5%9B%BD%E4%BA%BA%E6%83%85%E5%A0%B1%E3%82%B3%E3%83%BC%E3%83%8A%E3%83%BC/Osaka Information Service for Foreign Residents":MAILTO:jouhou-c@ofix.or.jp
END:VEVENT
BEGIN:VEVENT
DTSTART;TZID=Asia/Tokyo:20251112T130000
DTEND;TZID=Asia/Tokyo:20251112T160000
DTSTAMP:20260422T004428
CREATED:20250903T030610Z
LAST-MODIFIED:20250903T030610Z
UID:19654-1762952400-1762963200@ofix.or.jp
SUMMARY:（アイハウス）行政書士相談（大阪市民のみ） / (I-HOUSE) Visa Consultation (by visa lawyers) (for Osaka City residents)
DESCRIPTION:詳しくはこちら/For more details:\n(アイハウス) 行政書士相談（大阪市民のみ） / (I-HOUSE) Visa Consultation (Visa Lawyer) (for Osaka City residents)
URL:https://ofix.or.jp/calendar/%ef%bc%88%e3%82%a2%e3%82%a4%e3%83%8f%e3%82%a6%e3%82%b9%ef%bc%89%e8%a1%8c%e6%94%bf%e6%9b%b8%e5%a3%ab%e7%9b%b8%e8%ab%87%ef%bc%88%e5%a4%a7%e9%98%aa%e5%b8%82%e6%b0%91%e3%81%ae%e3%81%bf%ef%bc%89-i-house-13/
END:VEVENT
BEGIN:VEVENT
DTSTART;TZID=Asia/Tokyo:20251111T130000
DTEND;TZID=Asia/Tokyo:20251111T160000
DTSTAMP:20260422T004428
CREATED:20250918T031040Z
LAST-MODIFIED:20250918T035109Z
UID:19839-1762866000-1762876800@ofix.or.jp
SUMMARY:（大阪出入国在留管理局）外国人のための無料何でも相談会
DESCRIPTION:外国人のための無料何でも相談会\nFree Consultation about any problems for Foreign Residents of Japan \n詳しくはこちら / For more details:\n大阪出入国在留管理局 / Osaka Regional Immigration Services Bureau（facebook）\n大阪出入国在留管理局 / Osaka Regional Immigration Services Bureau（X） \n  \n何でも相談会
URL:https://ofix.or.jp/calendar/%ef%bc%88%e5%a4%a7%e9%98%aa%e5%87%ba%e5%85%a5%e5%9b%bd%e5%9c%a8%e7%95%99%e7%ae%a1%e7%90%86%e5%b1%80%ef%bc%89%e5%a4%96%e5%9b%bd%e4%ba%ba%e3%81%ae%e3%81%9f%e3%82%81%e3%81%ae%e7%84%a1%e6%96%99%e4%bd%95/
END:VEVENT
BEGIN:VEVENT
DTSTART;TZID=Asia/Tokyo:20251107T133000
DTEND;TZID=Asia/Tokyo:20251107T173000
DTSTAMP:20260422T004428
CREATED:20250409T004116Z
LAST-MODIFIED:20250409T004116Z
UID:18384-1762522200-1762536600@ofix.or.jp
SUMMARY:労働相談 / Labor Consultations
DESCRIPTION:無料・秘密厳守/FREE OF CHARGE AND STRICTLY CONFIDENTIAL \n  \nあなたの国のことばで　話すことができます。\nお金は　かかりません。（0円です）。\nひみつは　まもります。\n通訳がいます。\n（English\, 中文\, 한국·조선어\, Português\, Español\, ไทย\, Filipino\, Tiếng Việt\, Indonesia\, नेपाली）\n予約を　してください。 \n  \nInterpretation services are available in English\, Chinese\, Korean\, Portuguese\, Spanish\, Thai\, Filipino\, Vietnamese\, Indonesian and Nepali.\nA reservation is required. \n  \n【相談の方法・Method】\nOFIXに行く / 電話 / オンライン（ZOOM）\nIn person\, by phone or online \n  \n【相談の内容・Topics】\n仕事で困っていること、仕事の規則やお金のこと、職場の仲間や上司のトラブル 、同じところで働いている人　との問題　など\nLabor issues concerning wages\, dismissal\, resignation\, working hours\, labor contracts\, sexual harassment\, power harassment\, etc. \n 
URL:https://ofix.or.jp/calendar/%e5%8a%b4%e5%83%8d%e7%9b%b8%e8%ab%87-labor-consultations-13/
LOCATION:OFIX\, マイドームおおさか５階
CATEGORIES:相談/Consultation
ORGANIZER;CN="%E5%A4%A7%E9%98%AA%E5%BA%9C%E5%A4%96%E5%9B%BD%E4%BA%BA%E6%83%85%E5%A0%B1%E3%82%B3%E3%83%BC%E3%83%8A%E3%83%BC/Osaka Information Service for Foreign Residents":MAILTO:jouhou-c@ofix.or.jp
END:VEVENT
BEGIN:VEVENT
DTSTART;TZID=Asia/Tokyo:20251105T130000
DTEND;TZID=Asia/Tokyo:20251105T160000
DTSTAMP:20260422T004428
CREATED:20250903T030504Z
LAST-MODIFIED:20250903T030504Z
UID:19652-1762347600-1762358400@ofix.or.jp
SUMMARY:(アイハウス) 弁護士相談（大阪市民のみ） / (I-HOUSE) Legal Consultation (for Osaka City residents)
DESCRIPTION:詳しくはこちら/For more details:\n(アイハウス) 弁護士相談（大阪市民のみ） / (I-HOUSE) Legal Consultation (for Osaka City residents)
URL:https://ofix.or.jp/calendar/%e3%82%a2%e3%82%a4%e3%83%8f%e3%82%a6%e3%82%b9-%e5%bc%81%e8%ad%b7%e5%a3%ab%e7%9b%b8%e8%ab%87%ef%bc%88%e5%a4%a7%e9%98%aa%e5%b8%82%e6%b0%91%e3%81%ae%e3%81%bf%ef%bc%89-i-house-legal-consultation-fo-7/
END:VEVENT
BEGIN:VEVENT
DTSTART;TZID=Asia/Tokyo:20251024T180000
DTEND;TZID=Asia/Tokyo:20251024T200000
DTSTAMP:20260422T004428
CREATED:20250407T071425Z
LAST-MODIFIED:20250407T071425Z
UID:18346-1761328800-1761336000@ofix.or.jp
SUMMARY:臨床心理士相談 / Certified Clinical Psychologist Consultations
DESCRIPTION:無料・秘密厳守/FREE OF CHARGE AND STRICTLY CONFIDENTIAL \n  \nあなたの国のことばで　話すことができます。\nお金は　かかりません。（0円です）。\nひみつは　まもります。\n通訳がいます。\n（English\, 中文\, 한국·조선어\, Português\, Español\, ไทย\, Filipino\, Tiếng Việt\, Indonesia\, नेपाली）\n予約を　してください。 \n  \nInterpretation services are available in English\, Chinese\, Korean\, Portuguese\, Spanish\, Thai\, Filipino\, Vietnamese\, Indonesian and Nepali.\nA reservation is required. \n  \n【相談の方法・Method】\nOFIXに行く\nIn person \n  \n【相談の内容・Topics】\n悩みがあるのに話す人がいない、心がつらいなど\nNeed someone to talk to about your worries\, having a mentally tough time\, etc. \n 
URL:https://ofix.or.jp/calendar/%e8%87%a8%e5%ba%8a%e5%bf%83%e7%90%86%e5%a3%ab%e7%9b%b8%e8%ab%87-certified-clinical-psychologist-consultations-2/
LOCATION:OFIX\, マイドームおおさか５階
CATEGORIES:相談/Consultation
ORGANIZER;CN="%E5%A4%A7%E9%98%AA%E5%BA%9C%E5%A4%96%E5%9B%BD%E4%BA%BA%E6%83%85%E5%A0%B1%E3%82%B3%E3%83%BC%E3%83%8A%E3%83%BC/Osaka Information Service for Foreign Residents":MAILTO:jouhou-c@ofix.or.jp
END:VEVENT
BEGIN:VEVENT
DTSTART;TZID=Asia/Tokyo:20251022T170000
DTEND;TZID=Asia/Tokyo:20251022T200000
DTSTAMP:20260422T004428
CREATED:20250903T030300Z
LAST-MODIFIED:20250903T030300Z
UID:19650-1761152400-1761163200@ofix.or.jp
SUMMARY:（アイハウス）行政書士相談（大阪市民のみ） / (I-HOUSE) Visa Consultation (by visa lawyers) (for Osaka City residents)
DESCRIPTION:詳しくはこちら/For more details:\n(アイハウス) 行政書士相談（大阪市民のみ） / (I-HOUSE) Visa Consultation (by Visa Lawyer) (for Osaka City residents)
URL:https://ofix.or.jp/calendar/%ef%bc%88%e3%82%a2%e3%82%a4%e3%83%8f%e3%82%a6%e3%82%b9%ef%bc%89%e8%a1%8c%e6%94%bf%e6%9b%b8%e5%a3%ab%e7%9b%b8%e8%ab%87%ef%bc%88%e5%a4%a7%e9%98%aa%e5%b8%82%e6%b0%91%e3%81%ae%e3%81%bf%ef%bc%89-i-house-12/
END:VEVENT
END:VCALENDAR