BEGIN:VCALENDAR
VERSION:2.0
PRODID:-//公益財団法人 大阪府国際交流財団 Osaka Foundation of International Exchange (OFIX) - ECPv6.15.20//NONSGML v1.0//EN
CALSCALE:GREGORIAN
METHOD:PUBLISH
X-WR-CALNAME:公益財団法人 大阪府国際交流財団 Osaka Foundation of International Exchange (OFIX)
X-ORIGINAL-URL:https://ofix.or.jp
X-WR-CALDESC:公益財団法人 大阪府国際交流財団 Osaka Foundation of International Exchange (OFIX) のイベント
REFRESH-INTERVAL;VALUE=DURATION:PT1H
X-Robots-Tag:noindex
X-PUBLISHED-TTL:PT1H
BEGIN:VTIMEZONE
TZID:Asia/Tokyo
BEGIN:STANDARD
TZOFFSETFROM:+0900
TZOFFSETTO:+0900
TZNAME:JST
DTSTART:20230101T000000
END:STANDARD
END:VTIMEZONE
BEGIN:VEVENT
DTSTART;TZID=Asia/Tokyo:20240815T133000
DTEND;TZID=Asia/Tokyo:20240815T163000
DTSTAMP:20260421T070327
CREATED:20240802T103127Z
LAST-MODIFIED:20240802T103127Z
UID:15999-1723728600-1723739400@ofix.or.jp
SUMMARY:(ひょうご) 入管相談/ (HIA) Immigration Consultation
DESCRIPTION:詳しくはこちら/For more details:\n(ひょうご) 入管相談/ (HIA) Immigration Consultation
URL:https://ofix.or.jp/calendar/%e3%81%b2%e3%82%87%e3%81%86%e3%81%94-%e5%85%a5%e7%ae%a1%e7%9b%b8%e8%ab%87-hia-immigration-consultation/
END:VEVENT
BEGIN:VEVENT
DTSTART;TZID=Asia/Tokyo:20240814T130000
DTEND;TZID=Asia/Tokyo:20240814T160000
DTSTAMP:20260421T070327
CREATED:20240802T091651Z
LAST-MODIFIED:20240802T091651Z
UID:15971-1723640400-1723651200@ofix.or.jp
SUMMARY:(アイハウス) ビザ相談 / (I-HOUSE) Visa Consultation
DESCRIPTION:詳しくはこちら/For more details:\n(アイハウス) ビザ相談 / (I-HOUSE) Visa Consultation \n 
URL:https://ofix.or.jp/calendar/%e3%82%a2%e3%82%a4%e3%83%8f%e3%82%a6%e3%82%b9-%e3%83%93%e3%82%b6%e7%9b%b8%e8%ab%87-i-house-visa-consultation-3/
END:VEVENT
BEGIN:VEVENT
DTSTART;TZID=Asia/Tokyo:20240813T130000
DTEND;TZID=Asia/Tokyo:20240813T160000
DTSTAMP:20260421T070327
CREATED:20240802T090647Z
LAST-MODIFIED:20240802T092128Z
UID:15964-1723554000-1723564800@ofix.or.jp
SUMMARY:(アイハウス) 法律相談 / (I-HOUSE) Legal Consultation
DESCRIPTION:詳しくはこちら/For more details:\n(アイハウス) 法律相談 / (I-HOUSE) Legal Consultation
URL:https://ofix.or.jp/calendar/100pm-400pm-%e3%82%a2%e3%82%a4%e3%83%8f%e3%82%a6%e3%82%b9-%e6%b3%95%e5%be%8b%e7%9b%b8%e8%ab%87-i-house-legal-consultation/
END:VEVENT
BEGIN:VEVENT
DTSTART;TZID=Asia/Tokyo:20240807T130000
DTEND;TZID=Asia/Tokyo:20240807T160000
DTSTAMP:20260421T070327
CREATED:20240802T085710Z
LAST-MODIFIED:20240802T091907Z
UID:15955-1723035600-1723046400@ofix.or.jp
SUMMARY:(アイハウス) 法律相談 （大阪市民のみ）/ (I-HOUSE) Legal Consultation (for Osaka City residents)
DESCRIPTION:詳しくはこちら/For more details:\n(アイハウス) 法律相談 （大阪市民のみ）/ (I-HOUSE) Legal Consultation (for Osaka City residents)
URL:https://ofix.or.jp/calendar/100-pm-400-pm-%e3%82%a2%e3%82%a4%e3%83%8f%e3%82%a6%e3%82%b9-%e6%b3%95%e5%be%8b%e7%9b%b8%e8%ab%87-%ef%bc%88%e5%a4%a7%e9%98%aa%e5%b8%82%e6%b0%91%e3%81%ae%e3%81%bf%ef%bc%89-i-house-legal-consult/
END:VEVENT
BEGIN:VEVENT
DTSTART;TZID=Asia/Tokyo:20240805T133000
DTEND;TZID=Asia/Tokyo:20240805T173000
DTSTAMP:20260421T070327
CREATED:20240718T060220Z
LAST-MODIFIED:20240802T111341Z
UID:15777-1722864600-1722879000@ofix.or.jp
SUMMARY:労働相談/Labor Consultation
DESCRIPTION:無料・秘密厳守/FREE OF CHARGE AND STRICTLY CONFIDENTIAL \nあなたの国のことばで　話すことができます。\nお金は　かかりません。（0円です）。\nひみつは　まもります。\n通訳がいます。（English\, 中文\, 한국·조선어\, Português\, Español\, ไทย\, Filipino\, Tiếng Việt\, Indonesia\, नेपाली）\n予約を　してください。予約受付は当日16:30まで。 \nInterpretation services are available in English\, Chinese\, Korean\, Portuguese\, Spanish\, Thai\, Filipino\, Vietnamese\, Indonesian and Nepali.\nA reservation is required. The reservation deadline is by 16:30 of the consultation day. \n【相談の方法・Method】\nOFIXに行く / 電話 / オンライン（ZOOM）\nIn person\, by phone or online \n【相談の内容・Topics】\n仕事で困っていること、仕事の規則やお金のこと、職場の仲間や上司のトラブル 、同じところで働いている人　との問題　など\nLabor issues concerning wages\, dismissal\, resignation\, working hours\, labor contracts\, sexual harassment\, power harassment\, etc.
URL:https://ofix.or.jp/calendar/%e5%8a%b4%e5%83%8d%e7%9b%b8%e8%ab%87-labor-consultation-6/
LOCATION:OFIX\, マイドームおおさか５階
CATEGORIES:相談/Consultation
ORGANIZER;CN="%E5%A4%A7%E9%98%AA%E5%BA%9C%E5%A4%96%E5%9B%BD%E4%BA%BA%E6%83%85%E5%A0%B1%E3%82%B3%E3%83%BC%E3%83%8A%E3%83%BC/Osaka Information Service for Foreign Residents":MAILTO:jouhou-c@ofix.or.jp
END:VEVENT
BEGIN:VEVENT
DTSTART;TZID=Asia/Tokyo:20240729T130000
DTEND;TZID=Asia/Tokyo:20240729T160000
DTSTAMP:20260421T070327
CREATED:20240628T065115Z
LAST-MODIFIED:20240628T072253Z
UID:15474-1722258000-1722268800@ofix.or.jp
SUMMARY:（泉佐野市）外国人のための相談サービス / (Izumisano-city) Free Information & Advice for Foreign Residents
DESCRIPTION:詳しくはこちら/For more details: \n「外国人のための相談サービス」を2024年7月29日（月）に泉佐野市で行います。“Free Information & Advice for Foreign Residents” will be offered on Monday\, July 29 in Izumisano. | 公益財団法人 大阪府国際交流財団 Osaka Foundation of International Exchange (OFIX)
URL:https://ofix.or.jp/calendar/%ef%bc%88%e6%b3%89%e4%bd%90%e9%87%8e%e5%b8%82%ef%bc%89%e5%a4%96%e5%9b%bd%e4%ba%ba%e3%81%ae%e3%81%9f%e3%82%81%e3%81%ae%e7%9b%b8%e8%ab%87%e3%82%b5%e3%83%bc%e3%83%93%e3%82%b9-izumisano-city-free-info/
CATEGORIES:相談/Consultation
ATTACH;FMTTYPE=image/jpeg:https://ofix.or.jp/wp-content/uploads/2024/06/チラシ表.jpg
END:VEVENT
BEGIN:VEVENT
DTSTART;TZID=Asia/Tokyo:20240729T130000
DTEND;TZID=Asia/Tokyo:20240729T150000
DTSTAMP:20260421T070327
CREATED:20240717T010050Z
LAST-MODIFIED:20240717T011420Z
UID:15720-1722258000-1722265200@ofix.or.jp
SUMMARY:(HIA) 弁護士による無料法律相談 / (HIA) Free legal consultation by a lawyer
DESCRIPTION:詳しくはこちら/For more details: \n(HIA) 弁護士による無料法律相談 / (HIA) Free legal consultation by a lawyer
URL:https://ofix.or.jp/calendar/hia-%e5%bc%81%e8%ad%b7%e5%a3%ab%e3%81%ab%e3%82%88%e3%82%8b%e7%84%a1%e6%96%99%e6%b3%95%e5%be%8b%e7%9b%b8%e8%ab%87-hia-free-legal-consultation-by-a-lawyer-3/
END:VEVENT
BEGIN:VEVENT
DTSTART;TZID=Asia/Tokyo:20240728T133000
DTEND;TZID=Asia/Tokyo:20240728T163000
DTSTAMP:20260421T070327
CREATED:20240620T082019Z
LAST-MODIFIED:20240620T082019Z
UID:15106-1722173400-1722184200@ofix.or.jp
SUMMARY:臨床心理士（心の）相談/Certified Clinical Psychologist Consultation
DESCRIPTION:無料・秘密厳守/FREE OF CHARGE AND STRICTLY CONFIDENTIAL \nあなたの国のことばで　話すことができます。\nお金は　かかりません。（0円です）。\nひみつは　まもります。\n通訳がいます。（English\, 中文\, 한국·조선어\, Português\, Español\, ไทย\, Filipino\, Tiếng Việt\, Indonesia\, नेपाली）\n予約を　してください。予約受付は前日16:30まで。 \nInterpretation services are available in English\, Chinese\, Korean\, Portuguese\, Spanish\, Thai\, Filipino\, Vietnamese\, Indonesian and Nepali.\nA reservation is required. The reservation deadline is by 16:30 of the consultation day. \n【相談の方法・Method】\nOFIXに行く / 電話 / オンライン（ZOOM）\nIn person\, by phone or online \n【相談の内容・Topics】\n悩みがあるのに話す人がいない、心がつらい など\nWishing to have someone hear about your worries\, having a mentally tough time\, etc\,
URL:https://ofix.or.jp/calendar/%e8%87%a8%e5%ba%8a%e5%bf%83%e7%90%86%e5%a3%ab%ef%bc%88%e5%bf%83%e3%81%ae%ef%bc%89%e7%9b%b8%e8%ab%87-certified-clinical-psychologist-consultation/
LOCATION:OFIX\, マイドームおおさか５階
CATEGORIES:相談/Consultation
ORGANIZER;CN="%E5%A4%A7%E9%98%AA%E5%BA%9C%E5%A4%96%E5%9B%BD%E4%BA%BA%E6%83%85%E5%A0%B1%E3%82%B3%E3%83%BC%E3%83%8A%E3%83%BC/Osaka Information Service for Foreign Residents":MAILTO:jouhou-c@ofix.or.jp
END:VEVENT
BEGIN:VEVENT
DTSTART;TZID=Asia/Tokyo:20240726T180000
DTEND;TZID=Asia/Tokyo:20240726T210000
DTSTAMP:20260421T070327
CREATED:20240620T081153Z
LAST-MODIFIED:20240620T081153Z
UID:15088-1722016800-1722027600@ofix.or.jp
SUMMARY:弁護士専門相談/Legal Consultation
DESCRIPTION:無料・秘密厳守/FREE OF CHARGE AND STRICTLY CONFIDENTIAL \nあなたの国のことばで　話すことができます。\nお金は　かかりません。（0円です）。\nひみつは　まもります。\n通訳がいます。（English\, 中文\, 한국·조선어\, Português\, Español\, ไทย\, Filipino\, Tiếng Việt\, Indonesia\, नेपाली）\n予約を　してください。予約受付は当日15:30まで。 \nInterpretation services are available in English\, Chinese\, Korean\, Portuguese\, Spanish\, Thai\, Filipino\, Vietnamese\, Indonesian and Nepali.\nA reservation is required.\nThe reservation deadline is by 15:30 of the consultation day. \n【相談の方法・Method】\nOFIXに行く / 電話 / オンライン（ZOOM）\nIn person\, by phone or online \n【相談の内容・Topics】\n家族の問題で困っていること（結婚、離婚、子ども、財産をもらう、など）、契約トラブル事故、犯罪、など\nLegal matters including divorce\, child custody\, human rights\, domestic violence\, trouble in the workplaces\, consumer troubles and crimes/accidents
URL:https://ofix.or.jp/calendar/%e5%bc%81%e8%ad%b7%e5%a3%ab%e5%b0%82%e9%96%80%e7%9b%b8%e8%ab%87-legal-consultation/
LOCATION:OFIX\, マイドームおおさか５階
CATEGORIES:相談/Consultation
ORGANIZER;CN="%E5%A4%A7%E9%98%AA%E5%BA%9C%E5%A4%96%E5%9B%BD%E4%BA%BA%E6%83%85%E5%A0%B1%E3%82%B3%E3%83%BC%E3%83%8A%E3%83%BC/Osaka Information Service for Foreign Residents":MAILTO:jouhou-c@ofix.or.jp
END:VEVENT
BEGIN:VEVENT
DTSTART;TZID=Asia/Tokyo:20240726T090000
DTEND;TZID=Asia/Tokyo:20240726T210000
DTSTAMP:20260421T070327
CREATED:20240628T062822Z
LAST-MODIFIED:20240710T081507Z
UID:15467-1721984400-1722027600@ofix.or.jp
SUMMARY:夜間集中相談週間 / Consultation Week with Extended Night Hours
DESCRIPTION:
URL:https://ofix.or.jp/calendar/%e5%a4%9c%e9%96%93%e9%9b%86%e4%b8%ad%e7%9b%b8%e8%ab%87%e9%80%b1%e9%96%93-consultation-weeks-with-extended-night-hours-4/
END:VEVENT
BEGIN:VEVENT
DTSTART;TZID=Asia/Tokyo:20240725T090000
DTEND;TZID=Asia/Tokyo:20240725T210000
DTSTAMP:20260421T070327
CREATED:20240628T062723Z
LAST-MODIFIED:20240710T081550Z
UID:15465-1721898000-1721941200@ofix.or.jp
SUMMARY:夜間集中相談週間 / Consultation Week with Extended Night Hours
DESCRIPTION:
URL:https://ofix.or.jp/calendar/%e5%a4%9c%e9%96%93%e9%9b%86%e4%b8%ad%e7%9b%b8%e8%ab%87%e9%80%b1%e9%96%93-consultation-weeks-with-extended-night-hours-3/
END:VEVENT
BEGIN:VEVENT
DTSTART;TZID=Asia/Tokyo:20240724T170000
DTEND;TZID=Asia/Tokyo:20240724T200000
DTSTAMP:20260421T070327
CREATED:20240708T064454Z
LAST-MODIFIED:20240710T082104Z
UID:15574-1721840400-1721851200@ofix.or.jp
SUMMARY:(アイハウス) ビザ相談（行政書士） / (I-HOUSE) Visa Consultation (Visa Lawyer)
DESCRIPTION:詳しくはこちら/For more details: \n(アイハウス) ビザ相談 （行政書士）/ (I-HOUSE) Visa Consultation (Visa Lawyer)
URL:https://ofix.or.jp/calendar/%e3%82%a2%e3%82%a4%e3%83%8f%e3%82%a6%e3%82%b9-%e3%83%93%e3%82%b6%e7%9b%b8%e8%ab%87-i-house-visa-consultation-2/
END:VEVENT
BEGIN:VEVENT
DTSTART;TZID=Asia/Tokyo:20240724T133000
DTEND;TZID=Asia/Tokyo:20240724T173000
DTSTAMP:20260421T070327
CREATED:20240620T080607Z
LAST-MODIFIED:20240620T080607Z
UID:15078-1721827800-1721842200@ofix.or.jp
SUMMARY:入管相談/Immigration Consultation
DESCRIPTION:無料・秘密厳守/FREE OF CHARGE AND STRICTLY CONFIDENTIAL \nあなたの国のことばで　話すことができます。\nお金は　かかりません。（0円です）。\nひみつは　まもります。\n通訳がいます。（English\, 中文\, 한국·조선어\, Português\, Español\, ไทย\, Filipino\, Tiếng Việt\, Indonesia\, नेपाली）\n予約を　してください。予約受付は当日16:30まで。 \nInterpretation services are available in English\, Chinese\, Korean\, Portuguese\, Spanish\, Thai\, Filipino\, Vietnamese\, Indonesian and Nepali.\nA reservation is required. The reservation deadline is by 16:30 of the consultation day. \n【相談の方法・Method】\nOFIXに行く / 電話 / オンライン（ZOOM）\nIn person\, by phone or online \n【相談の内容・Topics】\nビザ（在留資格）など\nImmigration matters\, including residence status
URL:https://ofix.or.jp/calendar/%e5%85%a5%e7%ae%a1%e7%9b%b8%e8%ab%87-immigration-consultation-2/
LOCATION:OFIX\, マイドームおおさか５階
CATEGORIES:相談/Consultation
ORGANIZER;CN="%E5%A4%A7%E9%98%AA%E5%BA%9C%E5%A4%96%E5%9B%BD%E4%BA%BA%E6%83%85%E5%A0%B1%E3%82%B3%E3%83%BC%E3%83%8A%E3%83%BC/Osaka Information Service for Foreign Residents":MAILTO:jouhou-c@ofix.or.jp
END:VEVENT
BEGIN:VEVENT
DTSTART;TZID=Asia/Tokyo:20240724T090000
DTEND;TZID=Asia/Tokyo:20240724T210000
DTSTAMP:20260421T070327
CREATED:20240628T062636Z
LAST-MODIFIED:20240710T081609Z
UID:15463-1721811600-1721854800@ofix.or.jp
SUMMARY:夜間集中相談週間 / Consultation Week with Extended Night Hours
DESCRIPTION:
URL:https://ofix.or.jp/calendar/%e5%a4%9c%e9%96%93%e9%9b%86%e4%b8%ad%e7%9b%b8%e8%ab%87%e9%80%b1%e9%96%93-consultation-weeks-with-extended-night-hours-2/
END:VEVENT
BEGIN:VEVENT
DTSTART;TZID=Asia/Tokyo:20240723T140000
DTEND;TZID=Asia/Tokyo:20240723T163000
DTSTAMP:20260421T070327
CREATED:20240717T014934Z
LAST-MODIFIED:20240717T020948Z
UID:15730-1721743200-1721752200@ofix.or.jp
SUMMARY:社会福祉協議会と連携した在住外国人支援事業 第2回研修
DESCRIPTION:詳しくはこちらをご覧ください： \n社会福祉協議会と連携した在住外国人支援事業 第2回研修（7月23日(火)に参加者を募集します。\n 
URL:https://ofix.or.jp/calendar/%e7%a4%be%e4%bc%9a%e7%a6%8f%e7%a5%89%e5%8d%94%e8%ad%b0%e4%bc%9a%e3%81%a8%e9%80%a3%e6%90%ba%e3%81%97%e3%81%9f%e5%9c%a8%e4%bd%8f%e5%a4%96%e5%9b%bd%e4%ba%ba%e6%94%af%e6%8f%b4%e4%ba%8b%e6%a5%ad-%e7%ac%ac2/
CATEGORIES:研修会/Seminar
ORGANIZER;CN="OFIX":MAILTO:kikakusuishin@ofix.or.jp
END:VEVENT
BEGIN:VEVENT
DTSTART;TZID=Asia/Tokyo:20240723T090000
DTEND;TZID=Asia/Tokyo:20240723T210000
DTSTAMP:20260421T070327
CREATED:20240628T062547Z
LAST-MODIFIED:20240710T081629Z
UID:15461-1721725200-1721768400@ofix.or.jp
SUMMARY:夜間集中相談週間 / Consultation Week with Extended Night Hours
DESCRIPTION:
URL:https://ofix.or.jp/calendar/%e5%a4%9c%e9%96%93%e9%9b%86%e4%b8%ad%e7%9b%b8%e8%ab%87%e9%80%b1%e9%96%93-consultation-weeks-with-extended-night-hours/
END:VEVENT
BEGIN:VEVENT
DTSTART;TZID=Asia/Tokyo:20240722T133000
DTEND;TZID=Asia/Tokyo:20240722T164500
DTSTAMP:20260421T070327
CREATED:20240624T005627Z
LAST-MODIFIED:20240624T030721Z
UID:15180-1721655000-1721666700@ofix.or.jp
SUMMARY:2024年度コミュニティー通訳ボランティア研修
DESCRIPTION:詳しくはこちらをご覧ください： \n「2024年度コミュニティー通訳ボランティア研修」の受講者を募集します。 | 公益財団法人 大阪府国際交流財団 Osaka Foundation of International Exchange (OFIX)
URL:https://ofix.or.jp/calendar/2024%e5%b9%b4%e5%ba%a6%e3%82%b3%e3%83%9f%e3%83%a5%e3%83%8b%e3%83%86%e3%82%a3%e3%83%bc%e9%80%9a%e8%a8%b3%e3%83%9c%e3%83%a9%e3%83%b3%e3%83%86%e3%82%a3%e3%82%a2%e7%a0%94%e4%bf%ae/
LOCATION:マイドームおおさか　8階　第6会議室\, 大阪市中央区本町橋２－５\, 大阪府\, 540
CATEGORIES:研修会/Seminar
ATTACH;FMTTYPE=image/jpeg:https://ofix.or.jp/wp-content/uploads/2024/06/2024年ボランティア研修-1.jpg
ORGANIZER;CN="OFIX":MAILTO:kikakusuishin@ofix.or.jp
END:VEVENT
BEGIN:VEVENT
DTSTART;TZID=Asia/Tokyo:20240722T130000
DTEND;TZID=Asia/Tokyo:20240722T150000
DTSTAMP:20260421T070327
CREATED:20240717T005906Z
LAST-MODIFIED:20240717T011358Z
UID:15718-1721653200-1721660400@ofix.or.jp
SUMMARY:(HIA) 弁護士による無料法律相談 / (HIA) Free legal consultation by a lawyer
DESCRIPTION:詳しくはこちら/For more details: \n(HIA) 弁護士による無料法律相談 / (HIA) Free legal consultation by a lawyer
URL:https://ofix.or.jp/calendar/hia-%e5%bc%81%e8%ad%b7%e5%a3%ab%e3%81%ab%e3%82%88%e3%82%8b%e7%84%a1%e6%96%99%e6%b3%95%e5%be%8b%e7%9b%b8%e8%ab%87-hia-free-legal-consultation-by-a-lawyer-2/
END:VEVENT
BEGIN:VEVENT
DTSTART;TZID=Asia/Tokyo:20240722T090000
DTEND;TZID=Asia/Tokyo:20240722T210000
DTSTAMP:20260421T070327
CREATED:20240628T062001Z
LAST-MODIFIED:20240710T081648Z
UID:15453-1721638800-1721682000@ofix.or.jp
SUMMARY:夜間集中相談週間 / Consultation Week with Extended Night Hours
DESCRIPTION:
URL:https://ofix.or.jp/calendar/%e5%a4%9c%e9%96%93%e9%9b%86%e4%b8%ad%e7%9b%b8%e8%ab%87%e9%80%b1%e9%96%93%ef%bc%88%e6%9c%88%e6%9b%9c%e6%97%a5%ef%bd%9e%e9%87%91%e6%9b%9c%e6%97%a5%ef%bc%89-%e3%80%80special-consultation-weeks-with-exten/
END:VEVENT
BEGIN:VEVENT
DTSTART;TZID=Asia/Tokyo:20240718T133000
DTEND;TZID=Asia/Tokyo:20240718T163000
DTSTAMP:20260421T070327
CREATED:20240717T010519Z
LAST-MODIFIED:20240717T011324Z
UID:15722-1721309400-1721320200@ofix.or.jp
SUMMARY:(HIA) 出入国・在留管理に関する専門相談 / (HIA) Specialized consultation regarding immigration and residence management
DESCRIPTION:詳しくはこちら/For more details: \n(HIA) 出入国・在留管理に関する専門相談 / (HIA) Specialized consultation regarding immigration and residence management \n 
URL:https://ofix.or.jp/calendar/hia-%e5%87%ba%e5%85%a5%e5%9b%bd%e3%83%bb%e5%9c%a8%e7%95%99%e7%ae%a1%e7%90%86%e3%81%ab%e9%96%a2%e3%81%99%e3%82%8b%e5%b0%82%e9%96%80%e7%9b%b8%e8%ab%87-hia-specialized-consultation-regarding-immigr/
END:VEVENT
BEGIN:VEVENT
DTSTART;TZID=Asia/Tokyo:20240717T130000
DTEND;TZID=Asia/Tokyo:20240717T160000
DTSTAMP:20260421T070327
CREATED:20240708T063145Z
LAST-MODIFIED:20240710T081934Z
UID:15566-1721221200-1721232000@ofix.or.jp
SUMMARY:(アイハウス) 法律相談 （大阪市民のみ）/ (I-HOUSE) Legal Consultation (for Osaka City residents)
DESCRIPTION:詳しくはこちら/For more details: \n(アイハウス) 法律相談 （大阪市民のみ）/ (I-HOUSE) Legal Consultation (for Osaka city residents)
URL:https://ofix.or.jp/calendar/%e3%82%a2%e3%82%a4%e3%83%8f%e3%82%a6%e3%82%b9-%e6%b3%95%e5%be%8b%e7%9b%b8%e8%ab%87-%ef%bc%88%e5%a4%a7%e9%98%aa%e5%b8%82%e6%b0%91%e3%81%ae%e3%81%bf%ef%bc%89-i-house-legal-consultation-for-osaka-c/
END:VEVENT
BEGIN:VEVENT
DTSTART;TZID=Asia/Tokyo:20240716T130000
DTEND;TZID=Asia/Tokyo:20240716T160000
DTSTAMP:20260421T070327
CREATED:20240708T070326Z
LAST-MODIFIED:20240710T081917Z
UID:15576-1721134800-1721145600@ofix.or.jp
SUMMARY:(アイハウス) 入管相談 （入管職員）/ (I-HOUSE) Visa Consultation (Immigration Officers)
DESCRIPTION:詳しくはこちら/For more details: \n(アイハウス) 入管相談 （入管職員）/ (I-HOUSE) Visa Consultation (Immigration Officers)
URL:https://ofix.or.jp/calendar/%e3%82%a2%e3%82%a4%e3%83%8f%e3%82%a6%e3%82%b9-%e5%85%a5%e7%ae%a1%e7%9b%b8%e8%ab%87-i-house-visa-consultation/
END:VEVENT
BEGIN:VEVENT
DTSTART;TZID=Asia/Tokyo:20240710T130000
DTEND;TZID=Asia/Tokyo:20240710T160000
DTSTAMP:20260421T070327
CREATED:20240708T064130Z
LAST-MODIFIED:20240710T082002Z
UID:15572-1720616400-1720627200@ofix.or.jp
SUMMARY:(アイハウス) ビザ相談 （行政書士）/ (I-HOUSE) Visa Consultation (Visa Lawyer)
DESCRIPTION:詳しくはこちら/For more details: \n(アイハウス) ビザ相談 （行政書士）/ (I-HOUSE) Visa Consultation (Visa Lawyer)
URL:https://ofix.or.jp/calendar/%e3%82%a2%e3%82%a4%e3%83%8f%e3%82%a6%e3%82%b9-%e3%83%93%e3%82%b6%e7%9b%b8%e8%ab%87-i-house-visa-consultation/
END:VEVENT
BEGIN:VEVENT
DTSTART;TZID=Asia/Tokyo:20240709T170000
DTEND;TZID=Asia/Tokyo:20240709T200000
DTSTAMP:20260421T070327
CREATED:20240708T063430Z
LAST-MODIFIED:20240710T081948Z
UID:15570-1720544400-1720555200@ofix.or.jp
SUMMARY:(アイハウス) 法律相談 / (I-HOUSE) Legal Consultation
DESCRIPTION:詳しくはこちら/For more details: \n(アイハウス) 法律相談 / (I-HOUSE) Legal Consultation
URL:https://ofix.or.jp/calendar/%e3%82%a2%e3%82%a4%e3%83%8f%e3%82%a6%e3%82%b9-%e6%b3%95%e5%be%8b%e7%9b%b8%e8%ab%87-i-house-legal-consultation/
END:VEVENT
BEGIN:VEVENT
DTSTART;TZID=Asia/Tokyo:20240709T130000
DTEND;TZID=Asia/Tokyo:20240709T160000
DTSTAMP:20260421T070327
CREATED:20240717T013743Z
LAST-MODIFIED:20240717T013743Z
UID:15724-1720530000-1720540800@ofix.or.jp
SUMMARY:(SIFA) 外国人のための専門家相談 （社会保険労務士） / (SIFA) Free Consultant Service with Experts for Foreigners （Labor and Social Security Attorney）
DESCRIPTION:詳しくはこちら/For more details: \n(SIFA) 外国人のための専門家相談（社会保険労務士） / (SIFA) Free Consultant Service with Experts for Foreigners （Labor and Social Security Attorney） 
URL:https://ofix.or.jp/calendar/sifa-%e5%a4%96%e5%9b%bd%e4%ba%ba%e3%81%ae%e3%81%9f%e3%82%81%e3%81%ae%e5%b0%82%e9%96%80%e5%ae%b6%e7%9b%b8%e8%ab%87-%ef%bc%88%e7%a4%be%e4%bc%9a%e4%bf%9d%e9%99%ba%e5%8a%b4%e5%8b%99%e5%a3%ab%ef%bc%89/
END:VEVENT
BEGIN:VEVENT
DTSTART;TZID=Asia/Tokyo:20240708T130000
DTEND;TZID=Asia/Tokyo:20240708T150000
DTSTAMP:20260421T070327
CREATED:20240717T005713Z
LAST-MODIFIED:20240717T011242Z
UID:15714-1720443600-1720450800@ofix.or.jp
SUMMARY:(HIA) 弁護士による無料法律相談 / (HIA) Free legal consultation by a lawyer
DESCRIPTION:詳しくはこちら/For more details: \n(HIA) 弁護士による無料法律相談 / (HIA) Free legal consultation by a lawyer
URL:https://ofix.or.jp/calendar/hia-%e5%bc%81%e8%ad%b7%e5%a3%ab%e3%81%ab%e3%82%88%e3%82%8b%e7%84%a1%e6%96%99%e6%b3%95%e5%be%8b%e7%9b%b8%e8%ab%87-hia-free-legal-consultation-by-a-lawyer/
END:VEVENT
BEGIN:VEVENT
DTSTART;TZID=Asia/Tokyo:20240706T130000
DTEND;TZID=Asia/Tokyo:20240706T170000
DTSTAMP:20260421T070327
CREATED:20240628T063942Z
LAST-MODIFIED:20240710T082023Z
UID:15469-1720270800-1720285200@ofix.or.jp
SUMMARY:(アイハウス) 外国人のための一日インフォメーションサービス / （I-HOUSE) Free Information & Advice for Foreign Residents
DESCRIPTION:
URL:https://ofix.or.jp/calendar/%e5%a4%96%e5%9b%bd%e4%ba%ba%e3%81%ae%e3%81%9f%e3%82%81%e3%81%ae%e4%b8%80%e6%97%a5%e3%82%a4%e3%83%b3%e3%83%95%e3%82%a9%e3%83%a1%e3%83%bc%e3%82%b7%e3%83%a7%e3%83%b3%e3%82%b5%e3%83%bc%e3%83%93%e3%82%b9/
END:VEVENT
BEGIN:VEVENT
DTSTART;TZID=Asia/Tokyo:20240703T130000
DTEND;TZID=Asia/Tokyo:20240703T160000
DTSTAMP:20260421T070327
CREATED:20240708T041731Z
LAST-MODIFIED:20240710T082044Z
UID:15557-1720011600-1720022400@ofix.or.jp
SUMMARY:(アイハウス) 法律相談 （大阪市民のみ）/ (I-HOUSE) Legal Consultation (for Osaka City residents)
DESCRIPTION:詳しくはこちら/For more details: \n(アイハウス) 法律相談 （大阪市民のみ）/ (I-HOUSE) Legal Consultation (for Osaka city residents)
URL:https://ofix.or.jp/calendar/%e3%80%90%e3%82%a2%e3%82%a4%e3%83%8f%e3%82%a6%e3%82%b9i-house%e3%80%91-%e6%b3%95%e5%be%8b%e7%9b%b8%e8%ab%87-%ef%bc%88%e5%a4%a7%e9%98%aa%e5%b8%82%e6%b0%91%e3%81%ae%e3%81%bf%ef%bc%89-legal-consultati/
END:VEVENT
BEGIN:VEVENT
DTSTART;TZID=Asia/Tokyo:20240701T133000
DTEND;TZID=Asia/Tokyo:20240701T173000
DTSTAMP:20260421T070327
CREATED:20240620T081502Z
LAST-MODIFIED:20240620T081502Z
UID:15099-1719840600-1719855000@ofix.or.jp
SUMMARY:労働相談/Labor Consultation
DESCRIPTION:無料・秘密厳守/FREE OF CHARGE AND STRICTLY CONFIDENTIAL \nあなたの国のことばで　話すことができます。\nお金は　かかりません。（0円です）。\nひみつは　まもります。\n通訳がいます。（English\, 中文\, 한국·조선어\, Português\, Español\, ไทย\, Filipino\, Tiếng Việt\, Indonesia\, नेपाली）\n予約を　してください。予約受付は当日16:30まで。 \nInterpretation services are available in English\, Chinese\, Korean\, Portuguese\, Spanish\, Thai\, Filipino\, Vietnamese\, Indonesian and Nepali.\nA reservation is required. The reservation deadline is by 16:30 of the consultation day. \n【相談の方法・Method】\nOFIXに行く / 電話 / オンライン（ZOOM）\nIn person\, by phone or online \n【相談の内容・Topics】\n仕事で困っていること、仕事の規則やお金のこと、職場の仲間や上司のトラブル 、同じところで働いている人　との問題　など\nLabor issues concerning wages\, dismissal\, resignation\, working hours\, labor contracts\, sexual harassment\, power harassment\, etc.
URL:https://ofix.or.jp/calendar/%e5%8a%b4%e5%83%8d%e7%9b%b8%e8%ab%87-labor-consultation-5/
LOCATION:OFIX\, マイドームおおさか５階
CATEGORIES:相談/Consultation
ORGANIZER;CN="%E5%A4%A7%E9%98%AA%E5%BA%9C%E5%A4%96%E5%9B%BD%E4%BA%BA%E6%83%85%E5%A0%B1%E3%82%B3%E3%83%BC%E3%83%8A%E3%83%BC/Osaka Information Service for Foreign Residents":MAILTO:jouhou-c@ofix.or.jp
END:VEVENT
BEGIN:VEVENT
DTSTART;TZID=Asia/Tokyo:20240626T133000
DTEND;TZID=Asia/Tokyo:20240626T173000
DTSTAMP:20260421T070327
CREATED:20240514T011239Z
LAST-MODIFIED:20240521T051135Z
UID:14524-1719408600-1719423000@ofix.or.jp
SUMMARY:入管相談/Immigration Consultation
DESCRIPTION:無料・秘密厳守/FREE OF CHARGE AND STRICTLY CONFIDENTIAL \nあなたの国のことばで　話すことができます。\nお金は　かかりません。（0円です）。\nひみつは　まもります。\n通訳がいます。（English\, 中文\, 한국·조선어\, Português\, Español\, ไทย\, Filipino\, Tiếng Việt\, Indonesia\, नेपाली）\n予約を　してください。予約受付は当日16:30まで。 \nInterpretation services are available in English\, Chinese\, Korean\, Portuguese\, Spanish\, Thai\, Filipino\, Vietnamese\, Indonesian and Nepali.\nA reservation is required. The reservation deadline is by 16:30 of the consultation day. \n【相談の方法・Method】\nOFIXに行く / 電話 / オンライン（ZOOM）\nIn person\, by phone or online \n【相談の内容・Topics】\nビザ（在留資格）など\nImmigration matters\, including residence status
URL:https://ofix.or.jp/calendar/%e5%85%a5%e7%ae%a1%e7%9b%b8%e8%ab%87-immigration-consultation/
LOCATION:OFIX\, マイドームおおさか５階
CATEGORIES:相談/Consultation
ORGANIZER;CN="%E5%A4%A7%E9%98%AA%E5%BA%9C%E5%A4%96%E5%9B%BD%E4%BA%BA%E6%83%85%E5%A0%B1%E3%82%B3%E3%83%BC%E3%83%8A%E3%83%BC/Osaka Information Service for Foreign Residents":MAILTO:jouhou-c@ofix.or.jp
END:VEVENT
END:VCALENDAR