BEGIN:VCALENDAR
VERSION:2.0
PRODID:-//公益財団法人 大阪府国際交流財団 Osaka Foundation of International Exchange (OFIX) - ECPv6.15.20//NONSGML v1.0//EN
CALSCALE:GREGORIAN
METHOD:PUBLISH
X-WR-CALNAME:公益財団法人 大阪府国際交流財団 Osaka Foundation of International Exchange (OFIX)
X-ORIGINAL-URL:https://ofix.or.jp
X-WR-CALDESC:公益財団法人 大阪府国際交流財団 Osaka Foundation of International Exchange (OFIX) のイベント
REFRESH-INTERVAL;VALUE=DURATION:PT1H
X-Robots-Tag:noindex
X-PUBLISHED-TTL:PT1H
BEGIN:VTIMEZONE
TZID:Asia/Tokyo
BEGIN:STANDARD
TZOFFSETFROM:+0900
TZOFFSETTO:+0900
TZNAME:JST
DTSTART:20230101T000000
END:STANDARD
END:VTIMEZONE
BEGIN:VEVENT
DTSTART;TZID=Asia/Tokyo:20240927T140000
DTEND;TZID=Asia/Tokyo:20240927T163000
DTSTAMP:20260423T074647
CREATED:20240802T102119Z
LAST-MODIFIED:20240830T001646Z
UID:15997-1727445600-1727454600@ofix.or.jp
SUMMARY:社会福祉協議会と連携した在住外国人支援事業　第3回研修
DESCRIPTION:社会福祉協議会と連携した在住外国人支援事業　第3回研修「多文化×民生委員」を実施します。\n詳しくは、下記【ご案内】をご覧ください。 \n【ご案内】第3回研修\n申込用紙
URL:https://ofix.or.jp/calendar/seminar0927/
LOCATION:マイドームおおさか　8階　第6会議室\, 大阪市中央区本町橋２－５\, 大阪府\, 540
CATEGORIES:研修会/Seminar
ORGANIZER;CN="OFIX":MAILTO:kikakusuishin@ofix.or.jp
END:VEVENT
END:VCALENDAR