BEGIN:VCALENDAR
VERSION:2.0
PRODID:-//公益財団法人 大阪府国際交流財団 Osaka Foundation of International Exchange (OFIX) - ECPv6.15.20//NONSGML v1.0//EN
CALSCALE:GREGORIAN
METHOD:PUBLISH
X-WR-CALNAME:公益財団法人 大阪府国際交流財団 Osaka Foundation of International Exchange (OFIX)
X-ORIGINAL-URL:https://ofix.or.jp
X-WR-CALDESC:公益財団法人 大阪府国際交流財団 Osaka Foundation of International Exchange (OFIX) のイベント
REFRESH-INTERVAL;VALUE=DURATION:PT1H
X-Robots-Tag:noindex
X-PUBLISHED-TTL:PT1H
BEGIN:VTIMEZONE
TZID:Asia/Tokyo
BEGIN:STANDARD
TZOFFSETFROM:+0900
TZOFFSETTO:+0900
TZNAME:JST
DTSTART:20230101T000000
END:STANDARD
END:VTIMEZONE
BEGIN:VEVENT
DTSTART;TZID=Asia/Tokyo:20241022T103000
DTEND;TZID=Asia/Tokyo:20241022T150000
DTSTAMP:20260426T064920
CREATED:20241011T082927Z
LAST-MODIFIED:20241015T081836Z
UID:16922-1729593000-1729609200@ofix.or.jp
SUMMARY:社会福祉協議会と連携した在住外国人支援事業　フィールドトリップ
DESCRIPTION:社会福祉協議会と連携した在住外国人支援事業フィールドトリップを実施します。\n詳しくは、下記【ご案内】をご覧ください。\n【ご案内】フィールドトリップ \n 
URL:https://ofix.or.jp/calendar/ft20241022/
LOCATION:大阪府
CATEGORIES:イベント/Event
END:VEVENT
END:VCALENDAR