BEGIN:VCALENDAR
VERSION:2.0
PRODID:-//公益財団法人 大阪府国際交流財団 Osaka Foundation of International Exchange (OFIX) - ECPv6.15.20//NONSGML v1.0//EN
CALSCALE:GREGORIAN
METHOD:PUBLISH
X-ORIGINAL-URL:https://ofix.or.jp
X-WR-CALDESC:公益財団法人 大阪府国際交流財団 Osaka Foundation of International Exchange (OFIX) のイベント
REFRESH-INTERVAL;VALUE=DURATION:PT1H
X-Robots-Tag:noindex
X-PUBLISHED-TTL:PT1H
BEGIN:VTIMEZONE
TZID:Asia/Tokyo
BEGIN:STANDARD
TZOFFSETFROM:+0900
TZOFFSETTO:+0900
TZNAME:JST
DTSTART:20250101T000000
END:STANDARD
END:VTIMEZONE
BEGIN:VEVENT
DTSTART;TZID=Asia/Tokyo:20260109T133000
DTEND;TZID=Asia/Tokyo:20260109T173000
DTSTAMP:20260424T205818
CREATED:20250409T023922Z
LAST-MODIFIED:20250409T023922Z
UID:18407-1767965400-1767979800@ofix.or.jp
SUMMARY:入管相談 / Immigration Consultations
DESCRIPTION:無料・秘密厳守/FREE OF CHARGE AND STRICTLY CONFIDENTIAL \n  \nあなたの国のことばで　話すことができます。\nお金は　かかりません。（0円です）。\nひみつは　まもります。\n通訳がいます。\n（English\, 中文\, 한국·조선어\, Português\, Español\, ไทย\, Filipino\, Tiếng Việt\, Indonesia\, नेपाली）\n予約を　してください。 \n  \nInterpretation services are available in English\, Chinese\, Korean\, Portuguese\, Spanish\, Thai\, Filipino\, Vietnamese\, Indonesian and Nepali.\nA reservation is required. \n  \n【相談の方法・Method】\nOFIXに行く / 電話 / オンライン（ZOOM）\nIn person\, by phone or online \n  \n【相談の内容・Topics】\nビザ（在留資格）など\nImmigration matters\, including residence status \n 
URL:https://ofix.or.jp/calendar/%e5%85%a5%e7%ae%a1%e7%9b%b8%e8%ab%87-immigration-consultations-10/
LOCATION:OFIX\, マイドームおおさか５階
CATEGORIES:相談/Consultation
ORGANIZER;CN="%E5%A4%A7%E9%98%AA%E5%BA%9C%E5%A4%96%E5%9B%BD%E4%BA%BA%E6%83%85%E5%A0%B1%E3%82%B3%E3%83%BC%E3%83%8A%E3%83%BC/Osaka Information Service for Foreign Residents":MAILTO:jouhou-c@ofix.or.jp
END:VEVENT
BEGIN:VEVENT
DTSTART;TZID=Asia/Tokyo:20260115T180000
DTEND;TZID=Asia/Tokyo:20260115T200000
DTSTAMP:20260424T205818
CREATED:20250409T024131Z
LAST-MODIFIED:20250409T024131Z
UID:18409-1768500000-1768507200@ofix.or.jp
SUMMARY:労働相談 / Labor Consultations
DESCRIPTION:無料・秘密厳守/FREE OF CHARGE AND STRICTLY CONFIDENTIAL \n  \nあなたの国のことばで　話すことができます。\nお金は　かかりません。（0円です）。\nひみつは　まもります。\n通訳がいます。\n（English\, 中文\, 한국·조선어\, Português\, Español\, ไทย\, Filipino\, Tiếng Việt\, Indonesia\, नेपाली）\n予約を　してください。 \n  \nInterpretation services are available in English\, Chinese\, Korean\, Portuguese\, Spanish\, Thai\, Filipino\, Vietnamese\, Indonesian and Nepali.\nA reservation is required. \n  \n【相談の方法・Method】\nOFIXに行く / 電話 / オンライン（ZOOM）\nIn person\, by phone or online \n  \n【相談の内容・Topics】\n仕事で困っていること、仕事の規則やお金のこと、職場の仲間や上司のトラブル 、同じところで働いている人　との問題　など\nLabor issues concerning wages\, dismissal\, resignation\, working hours\, labor contracts\, sexual harassment\, power harassment\, etc. \n 
URL:https://ofix.or.jp/calendar/%e5%8a%b4%e5%83%8d%e7%9b%b8%e8%ab%87-labor-consultations-17/
LOCATION:OFIX\, マイドームおおさか５階
CATEGORIES:相談/Consultation
ORGANIZER;CN="%E5%A4%A7%E9%98%AA%E5%BA%9C%E5%A4%96%E5%9B%BD%E4%BA%BA%E6%83%85%E5%A0%B1%E3%82%B3%E3%83%BC%E3%83%8A%E3%83%BC/Osaka Information Service for Foreign Residents":MAILTO:jouhou-c@ofix.or.jp
END:VEVENT
BEGIN:VEVENT
DTSTART;TZID=Asia/Tokyo:20260118T130000
DTEND;TZID=Asia/Tokyo:20260118T170000
DTSTAMP:20260424T205818
CREATED:20250409T024335Z
LAST-MODIFIED:20250409T024335Z
UID:18411-1768741200-1768755600@ofix.or.jp
SUMMARY:弁護士相談 / Legal Consultations
DESCRIPTION:無料・秘密厳守/FREE OF CHARGE AND STRICTLY CONFIDENTIAL \n  \nあなたの国のことばで　話すことができます。\nお金は　かかりません。（0円です）。\nひみつは　まもります。\n通訳がいます。\n（English\, 中文\, 한국·조선어\, Português\, Español\, ไทย\, Filipino\, Tiếng Việt\, Indonesia\, नेपाली）\n予約を　してください。 \n  \nInterpretation services are available in English\, Chinese\, Korean\, Portuguese\, Spanish\, Thai\, Filipino\, Vietnamese\, Indonesian and Nepali.\nA reservation is required. \n  \n【相談の方法・Method】\nOFIXに行く / 電話 / オンライン（ZOOM）\nIn person\, by phone or online \n  \n【相談の内容・Topics】\n家族の問題で困っていること（結婚、離婚、子ども、財産をもらう、など）、契約トラブル事故、犯罪、など \nLegal matters including divorce\, child custody\, human rights\, domestic violence\, trouble in the workplaces\, consumer troubles and crimes/accidents \n  \n 
URL:https://ofix.or.jp/calendar/%e5%bc%81%e8%ad%b7%e5%a3%ab%e7%9b%b8%e8%ab%87-legal-consultations-10/
LOCATION:OFIX\, マイドームおおさか５階
CATEGORIES:相談/Consultation
ORGANIZER;CN="%E5%A4%A7%E9%98%AA%E5%BA%9C%E5%A4%96%E5%9B%BD%E4%BA%BA%E6%83%85%E5%A0%B1%E3%82%B3%E3%83%BC%E3%83%8A%E3%83%BC/Osaka Information Service for Foreign Residents":MAILTO:jouhou-c@ofix.or.jp
END:VEVENT
BEGIN:VEVENT
DTSTART;TZID=Asia/Tokyo:20260120T080000
DTEND;TZID=Asia/Tokyo:20260120T170000
DTSTAMP:20260424T205818
CREATED:20260120T073827Z
LAST-MODIFIED:20260120T073827Z
UID:20525-1768896000-1768928400@ofix.or.jp
SUMMARY:外国人のための多言語相談会 in 堺
DESCRIPTION:外国人のための多言語相談会を下記の内容で開催します。 \n\n\n\n日時\n2026年2月5日（木）PM1:00～PM4:00\n\n\n内容\n法律・生活相談\n\n\n対応言語\n英語、中国語、韓国・朝鮮語、ポルトガル語、スペイン語、 ベトナム語、フィリピン語、タイ語、インドネシア語、ネパール語など\n※ただし、予約が必要です。\n\n\n相談費用\n無料\n\n\n場所\n堺市南区役所（堺市南区桃山台１丁１－１)\n\n\n予約・問い合わせ\n堺市立多文化交流プラザ・さかい (ポムさかい)     \n TEL 072-288-7499　Mail kokusai@city.sakai.lg.jp
URL:https://ofix.or.jp/calendar/%e5%a4%96%e5%9b%bd%e4%ba%ba%e3%81%ae%e3%81%9f%e3%82%81%e3%81%ae%e5%a4%9a%e8%a8%80%e8%aa%9e%e7%9b%b8%e8%ab%87%e4%bc%9a-in-%e5%a0%ba/
CATEGORIES:イベント/Event,相談/Consultation
END:VEVENT
BEGIN:VEVENT
DTSTART;TZID=Asia/Tokyo:20260123T180000
DTEND;TZID=Asia/Tokyo:20260123T200000
DTSTAMP:20260424T205818
CREATED:20250409T024537Z
LAST-MODIFIED:20250409T024537Z
UID:18413-1769191200-1769198400@ofix.or.jp
SUMMARY:行政書士相談 / Bureaucratic Procedures Consultation
DESCRIPTION:無料・秘密厳守/FREE OF CHARGE AND STRICTLY CONFIDENTIAL \n  \nあなたの国のことばで　話すことができます。\nお金は　かかりません。（0円です）。\nひみつは　まもります。\n通訳がいます。\n（English\, 中文\, 한국·조선어\, Português\, Español\, ไทย\, Filipino\, Tiếng Việt\, Indonesia\, नेपाली）\n予約を　してください。 \n  \nInterpretation services are available in English\, Chinese\, Korean\, Portuguese\, Spanish\, Thai\, Filipino\, Vietnamese\, Indonesian and Nepali.\nA reservation is required. \n  \n【相談の方法・Method】\nOFIXに行く / 電話 / オンライン（ZOOM）\nIn person\, by phone or online \n  \n【相談の内容・Topics】\nビザ（在留資格）のこと、帰化申請、永住許可、国際結婚や経営・管理に関する手続きなど\nVarious administrative issues concerning residence status\, naturalization\, permanent residency\, international marriage and setting up a business\, etc. \n  \n 
URL:https://ofix.or.jp/calendar/%e8%a1%8c%e6%94%bf%e6%9b%b8%e5%a3%ab%e7%9b%b8%e8%ab%87-bureaucratic-procedures-consultation-6/
LOCATION:OFIX\, マイドームおおさか５階
CATEGORIES:相談/Consultation
ORGANIZER;CN="%E5%A4%A7%E9%98%AA%E5%BA%9C%E5%A4%96%E5%9B%BD%E4%BA%BA%E6%83%85%E5%A0%B1%E3%82%B3%E3%83%BC%E3%83%8A%E3%83%BC/Osaka Information Service for Foreign Residents":MAILTO:jouhou-c@ofix.or.jp
END:VEVENT
END:VCALENDAR